{"text_format":"1","workbook":"xlsx","n_sheets":24,"sheets":["HOME","common","B","A","C","D","E","F","F2","G2","G1","H2","H1","I","J","K","L","M","N","O","P","Q","send","BY"],"not_rendered":{"charts":0,"images":2,"macros":1,"external_links":0,"defined_names":26,"comments":0,"pivot_tables":0},"unopened":[],"bounds":{"document_bytes":16777216,"sheet_cells":100000,"rows_first":2000,"rows_last":500,"rows_between":2000,"halvings":0,"cell_chars":16384,"cell_head_chars":4096},"cells_cut":0,"cells_raw":0,"read":"whole","date_system":"1900"}

{"sheet":"HOME","index":0,"n_rows":52,"n_cols":7,"rows_kept":52,"cut":false,"hidden":false,"merged":[[31,2,31,5],[29,3,29,4],[0,0,0,5],[8,1,8,5],[27,1,27,5],[3,1,3,2],[2,3,2,4],[7,2,7,4]]}
["酒類業実態調査入力システム（令和６年調査分）",null,null,null,null,null,"Ver.2024.1(240124)"]
[]
[null,"ステップ１",null,"入力中の業者情報"]
[null,"調査項目を特定するための基本情報を入力してください",null,"氏名又は名称","区分"]
[null,null,null,null,""]
[]
[]
[null,"ステップ２","各調査項目は、所定の単位で入力していただき、桁誤りに注意してください。"]
[]
[null,"調査表を選択",null,"酒類の製造又は卸売業に係る売上の有無により、入力する調査表が異なります。"]
[null,1,null,"詳細につきましては、「調査表A」右上に記載のフローチャートをご覧ください。"]
[null,2]
[null,3]
[null,4]
[null,5]
[null,6]
[null,7]
[null,8]
[null,9]
[null,10]
[null,11]
[null,12]
[null,13]
[null,14]
[]
[]
[null,"ステップ３"]
[null,"電子データ提出用のファイルを作成します"]
[]
[null,null,null,"ファイル名には、基本情報で入力した業者番号（14桁の数値）が自動で設定されますので、変更しないでください。\n作成したファイルは、セキュリティの確保のため、データ内容を確認することはできません。"]
[]
[null,"（印刷）","該当するすべての調査票等を印刷します。\n※未入力の調査表も印刷されるため、個別に印刷する場合は\n   各調査表画面から印刷してください。"]
[]
[]
[]
[]
[]
[]
[1,{"$f":"IF(B!B36=TRUE,\"○（入力中）\",\"\")","v":""}]
[2,{"$f":"IF(A!C34=TRUE,\"○（入力中）\",\"\")","v":""},null,null,null,null,{"$f":"IF(common!D5=\"\",\"\",common!D5)","v":""}]
[3,{"$f":"IF('C'!D47=TRUE,\"○（入力中）\",\"\")","v":""},null,null,null,null,{"$f":"IF(common!B13=\"\",\"\",common!B13)","v":""}]
[4,{"$f":"IF(D!D47=TRUE,\"○（入力中）\",\"\")","v":""}]
[5,{"$f":"IF(E!D47=TRUE,\"○（入力中）\",\"\")","v":""}]
[6,{"$f":"IF(F!D47=TRUE,\"○（入力中）\",\"\")","v":""}]
[7,{"$f":"IF('F2'!D47=TRUE,\"○（入力中）\",\"\")","v":""}]
[8,{"$f":"IF('G2'!B28=TRUE,\"○（入力中）\",\"\")","v":""}]
[9,{"$f":"IF('H2'!C35=TRUE,\"○（入力中）\",\"\")","v":""}]
[10,{"$f":"IF(I!C27=TRUE,\"○（入力中）\",\"\")","v":""}]
[11,{"$f":"IF(AND(J!B28=TRUE),\"○（入力中）\",\"\")","v":""}]
[12,{"$f":"IF(O!B53=TRUE,\"○（入力中）\",\"\")","v":""}]
[13,{"$f":"IF(P!B50=TRUE,\"○（入力中）\",\"\")","v":""}]
[14,{"$f":"IF(Q!B35=TRUE,\"○（入力中）\",\"\")","v":""}]

{"sheet":"common","index":1,"n_rows":75,"n_cols":5,"rows_kept":75,"cut":false,"hidden":true,"merged":[[21,3,22,3],[8,4,10,4],[6,1,7,1],[16,1,16,3],[12,1,12,2],[2,1,2,2],[3,1,3,2],[4,1,4,2],[8,1,10,1],[5,1,5,2]]}
[]
[null,"１・基礎情報入力"]
[null,"項目",null,"入力欄","留意事項"]
[null,"業者番号（１４桁）",null,null,{"$f":"IF(OR(C45=1,C45=2,C45=\"\"),\"\",\"業者番号が誤っている可能性があります。確認してください。\")","v":""}]
[null,"氏名又は名称"]
[null,"法人又は個人"]
[null,"事業年度","開始日（自）","2023-01-01",{"$f":"\"・法人の場合、\"&TEXT(C73,\"gggyy年mm月dd日\")&\"の直前に終了した事業年度分\"","v":"・法人の場合、令和06年01月01日の直前に終了した事業年度分"}]
[null,null,"最終日（至）","2023-12-31","・「2022/2/1（西暦/月/日）」の形式で入力してください。"]
[null,"担当者情報","部署名",null,"・記載の内容について問い合わせる場合がございますので、ご対応できる方を記入してください。"]
[null,null,"担当者名"]
[null,null,"電話番号"]
[]
[null,{"$f":"IF(OR(ISERROR(C45),C45=\"\"),\"\",IF(C45=1,\"酒類製造者等\",\"卸売業者\"))","v":""},null,"の実態調査表の入力を行います。"]
[null,{"$f":"IF(ISERROR(C45),\"\",IF(C45=1,\"次の「２・製造免許情報入力」も記載してください。\",\"\"))","v":""}]
[]
[null,"２・製造免許情報入力"]
[null,"酒類製造免許（又は蔵置場設置許可）を受けている品目にチェックをしてください。"]
[null,"清酒"]
[null,"合成清酒"]
[null,"連続式蒸留焼酎"]
[null,"単式蒸留焼酎"]
[null,"みりん",null,"※複数の果実酒製造場を有する場合は、その数を入力してください。\n １場の場合は入力不要（最大10まで）"]
[null,"ビール"]
[null,"果実酒"]
[null,"甘味果実酒"]
[null,"ウイスキー"]
[null,"ブランデー"]
[null,"原料用アルコール"]
[null,"発泡酒"]
[null,"その他の醸造酒"]
[null,"スピリッツ"]
[null,"リキュール"]
[null,"粉末酒"]
[null,"雑酒"]
[]
[]
[]
[]
[]
[]
[]
[null,"業者番号",{"$f":"D4","v":0}]
[null,"局署",{"$f":"LEFT(D4,5)","v":""}]
[null,"番号",{"$f":"MID(D4,6,8)","v":""}]
[null,"区分",{"$f":"IF(ISERROR(VALUE(RIGHT(D4,1))),\"\",VALUE(RIGHT(D4,1)))","v":""}]
[null,"氏名又は名称",{"$f":"D5","v":0}]
[null,"法人又は個人",false]
[null,"開始日（自）",{"$f":"D7","v":"2023-01-01"}]
[null,"最終日（至）",{"$f":"D8","v":"2023-12-31"}]
[null,"部署名",{"$f":"D9","v":0}]
[null,"担当者名",{"$f":"D10","v":0}]
[null,"電話番号",0]
[null,"清酒",false]
[null,"合成清酒",false]
[null,"連続式蒸留焼酎",false]
[null,"単式蒸留焼酎",false]
[null,"みりん",false]
[null,"ビール",false]
[null,"果実酒",false]
[null,"甘味果実酒",false]
[null,"ウイスキー",false]
[null,"ブランデー",false]
[null,"原料用アルコール",false]
[null,"発泡酒",false]
[null,"その他の醸造酒",false]
[null,"スピリッツ",false]
[null,"リキュール",false]
[null,"粉末酒",false]
[null,"雑酒",false]
[null,"果実酒場数",{"$f":"IF(ISBLANK(D24),\"\",D24)","v":""}]
[]
[null,"【コントロール用データ】"]
[null,"調査基準日","2024-01-01"]
[null,"最低開始日（自）",{"$f":"C73-(365*2)+1","v":"2022-01-02"}]
[null,"最高最終日（至）",{"$f":"C73-1","v":"2023-12-31"}]

{"sheet":"B","index":2,"n_rows":63,"n_cols":45,"rows_kept":63,"cut":false,"hidden":true,"merged":[[13,8,13,9],[14,31,14,39],[13,11,13,19],[14,8,14,9],[13,31,13,39],[0,34,0,39],[1,13,1,29],[2,13,2,29],[9,10,11,19],[10,20,11,29],[11,30,11,39],[7,0,7,49],[11,40,11,49],[3,38,3,49],[1,38,1,49],[1,31,2,34],[3,31,3,34],[4,0,5,5],[4,6,5,7],[4,12,4,15],[4,17,5,29],[13,41,13,49],[14,41,14,49],[12,0,12,7],[2,35,3,35],[2,36,3,36],[2,41,2,49],[14,0,14,7],[12,41,12,49],[12,31,12,39],[12,8,12,9],[12,11,12,19],[12,21,12,29],[13,21,13,29],[14,21,14,29],[14,11,14,19],[13,0,13,7],[26,0,26,49],[28,0,29,9],[17,0,19,9],[16,11,16,19],[22,11,22,16],[22,18,22,23],[20,8,22,9],[20,10,21,16],[21,17,21,23],[21,24,22,49],[20,0,22,7],[31,0,31,7],[31,8,31,9],[30,0,30,7],[30,8,30,9],[29,20,29,29],[31,21,31,29],[30,11,30,19],[31,11,31,19],[28,10,29,19],[28,20,28,29],[30,21,30,29],[15,11,15,19],[15,20,15,49],[15,0,15,7],[15,8,15,9],[19,18,19,23],[16,20,16,49],[17,10,18,16],[18,17,18,23],[16,0,16,7],[16,8,16,9],[19,11,19,16],[18,24,19,49]]}
[]
["令和６年調査　酒類業実態調査表Ａ",null,null,null,null,null,null,null,null,null,null,null,null,"調査対象期間",null,null,null,null,null,null,null,null,null,null,null,null,null,null,null,null,null,"左記期間中に\nおける酒類の製造\n又は卸売業に\n係る売上の有無",null,null,null,"有","⇒",1,"別紙２「調査対象品目について」で該当する調査表をご提出ください。"]
[null,null,null,null,null,null,null,null,null,null,null,null,null,"事業年度（個人は令和５年分）",null,null,null,null,null,null,null,null,null,null,null,null,null,null,null,null,null,null,null,null,null,"無","⇒",2,null,"年",null,"月以降開始予定　調査表A及びアンケートをご提出ください。"]
[null,null,null,null,null,null,null,null,null,null,null,null,null,null,null,null,null,null,null,null,null,null,null,null,null,null,null,null,null,null,null,null,null,null,null,null,null,3,"卸売業の予定なし。　　　　　　  　 調査表Aのみご提出ください。"]
["租税特別措置法第87条\n第４項第１号に基づく\n承認酒類製造者の該当の有無",null,null,null,null,null,null,null,"有","⇒",1,"⇒",null,null,null,null,"署","「酒税特例措置を受ける酒類製造者の承認申請書」を提出し、租税特別措置法第87条第４項第１号の承認を受けている方は「有」を選択し、承認許可を受けた署名を記載してください。（卸売業の方は「無」を選択してください。）"]
[null,null,null,null,null,null,null,null,"無","⇒",2]
["１　令和６年１月１日の直前に終了した事業年度（個人事業者においては令和５年分）における確定した決算の額及び年平均の従業員数を記入してください。"]
["　酒類製造業及び卸売業毎の売上高等ではなく、個人または法人で行っている事業全体の売上高等を記入してください。\n　酒類製造者等と卸売業者の両方に該当する場合は、製造者等の調査表のみに記入してください。"]
[]
[null,null,null,null,null,null,null,null,null,null,"令和６年１月１日の直前に終了した\n事業年度（個人は令和５年分）に\nおける確定した決算の額"]
[null,null,null,null,null,null,null,null,null,null,null,null,null,null,null,null,null,null,null,null,"内　酒類事業"]
[null,null,null,null,null,null,null,null,null,null,null,null,null,null,null,null,null,null,null,null,null,null,null,null,null,null,null,null,null,null,"卸売",null,null,null,null,null,null,null,null,null,"小売"]
["売上高",null,null,null,null,null,null,null,"（千円）",null,109,null,null,null,null,null,null,null,null,null,110,null,null,null,null,null,null,null,null,null,111,null,null,null,null,null,null,null,null,null,112]
["売上原価",null,null,null,null,null,null,null,"（千円）",null,113,null,null,null,null,null,null,null,null,null,114,null,null,null,null,null,null,null,null,null,115,null,null,null,null,null,null,null,null,null,116]
["販売費及び一般管理費",null,null,null,null,null,null,null,"（千円）",null,117,null,null,null,null,null,null,null,null,null,118,null,null,null,null,null,null,null,null,null,119,null,null,null,null,null,null,null,null,null,120]
["税引前当期純利益",null,null,null,null,null,null,null,"（千円）",null,121]
["資本金",null,null,null,null,null,null,null,"（千円）",null,126]
["従 業 員 数",null,null,null,null,null,null,null,null,null,"年平均"]
[null,null,null,null,null,null,null,null,null,null,null,null,null,null,null,null,null,"内　酒類事業",null,null,null,null,null,null,"（注）従業員数は原則年平均で記入してください。年間を通じて大きい変動がない場合（季節雇用の従業員がいないなど）は、事業年度末（個人は、令和５年末）の人数を記入していただいて構いません。"]
[null,null,null,null,null,null,null,null,null,null,127,null,null,null,null,null,null,128]
["従業員給与額",null,null,null,null,null,null,null,"（千円）",null,"年総額"]
[null,null,null,null,null,null,null,null,null,null,null,null,null,null,null,null,null,"内　酒類事業",null,null,null,null,null,null,"（注）従業員給与額は年総額で記入してください。\n　　　従業員給与額のうち、酒類事業に携わる従業員給与が区分できない場合には合理的に按分して記載してください。"]
[null,null,null,null,null,null,null,null,null,null,129,null,null,null,null,null,null,130]
[]
["２　令和６年１月１日の直前に終了した事業年度（個人事業者においては令和５年分）における、リベートの額を記入してください。"]
[]
["　酒類製造者等と卸売業者の両方に該当する場合、「リベート取引額（122及び124）」欄は事業全体の取引額、「内　酒類事業（123及び125）」欄は製造業者等と卸売業者としての取引を区分の上、それぞれの調査表に記入してください。"]
[]
[null,null,null,null,null,null,null,null,null,null,"リベート取引額"]
[null,null,null,null,null,null,null,null,null,null,null,null,null,null,null,null,null,null,null,null,"内　酒類事業"]
["受取リベート",null,null,null,null,null,null,null,"（千円）",null,122,null,null,null,null,null,null,null,null,null,123]
["支払リベート",null,null,null,null,null,null,null,"（千円）",null,124,null,null,null,null,null,null,null,null,null,125]
[]
[]
[]
["入力判定",{"$f":"IF(SUM(L13:T17,L31:T32,V31:AD32,V13:AD15,AF13:AN15,AF4,AM3,AO3,S20,L23,S23,L20,AP13:AX15,G5,M5)<>0,TRUE,FALSE)","v":false},null,null,null,null,null,null,null,null,null,null,null,null,null,null,null,null,"エラーチェック",null,null,{"$f":"IF(AND(U38=TRUE,U39=TRUE,U40=TRUE,U41=TRUE,U42=TRUE,U43=TRUE,U44=TRUE),TRUE,FALSE)","v":true}]
[109,{"$f":"IF(ISBLANK(L13),\"\",L13)","v":""},null,null,null,null,null,null,null,null,null,null,null,null,null,null,null,null,1,"着色部分の内書が過大です。見直してください（全体より内酒類事業のほうが大きい、内酒類事業より【卸売+小売】のほうが大きい）",null,null,null,null,null,null,null,null,null,null,null,null,null,null,null,null,null,null,null,null,null,null,null,null,1]
[110,{"$f":"IF(ISBLANK(V13),\"\",V13)","v":""},null,null,null,null,null,null,null,null,null,null,null,null,null,null,null,null,null,109,{"$f":"IF(AND(L13>=V13,V13>=AF13+AP13),TRUE,FALSE)","v":true},null,"L13",null,null,null,null,null,null,null,null,null,null,null,null,null,null,null,null,null,null,null,null,null,2]
[111,{"$f":"IF(ISBLANK(AF13),\"\",AF13)","v":""},null,null,null,null,null,null,null,null,null,null,null,null,null,null,null,null,null,113,{"$f":"IF(AND(L14>=V14,V14>=AF14+AP14),TRUE,FALSE)","v":true},null,"L14",null,null,null,null,null,null,null,null,null,null,null,null,null,null,null,null,null,null,null,null,null,3]
[112,{"$f":"IF(ISBLANK(AP13),\"\",AP13)","v":""},null,null,null,null,null,null,null,null,null,null,null,null,null,null,null,null,null,117,{"$f":"IF(AND(L15>=V15,V15>=AF15+AP15),TRUE,FALSE)","v":true},null,"L15"]
[113,{"$f":"IF(ISBLANK(L14),\"\",L14)","v":""},null,null,null,null,null,null,null,null,null,null,null,null,null,null,null,null,null,127,{"$f":"IF(L20>=S20,TRUE,FALSE)","v":true},null,"L20"]
[114,{"$f":"IF(ISBLANK(V14),\"\",V14)","v":""},null,null,null,null,null,null,null,null,null,null,null,null,null,null,null,null,null,122,{"$f":"IF(L31>=V31,TRUE,FALSE)","v":true},null,"L31"]
[115,{"$f":"IF(ISBLANK(AF14),\"\",AF14)","v":""},null,null,null,null,null,null,null,null,null,null,null,null,null,null,null,null,null,124,{"$f":"IF(L32>=V32,TRUE,FALSE)","v":true},null,"L32"]
[116,{"$f":"IF(ISBLANK(AP14),\"\",AP14)","v":""},null,null,null,null,null,null,null,null,null,null,null,null,null,null,null,null,null,129,{"$f":"IF(L23>=S23,TRUE,FALSE)","v":true},null,"L23"]
[117,{"$f":"IF(ISBLANK(L15),\"\",L15)","v":""}]
[118,{"$f":"IF(ISBLANK(V15),\"\",V15)","v":""}]
[119,{"$f":"IF(ISBLANK(AF15),\"\",AF15)","v":""}]
[120,{"$f":"IF(ISBLANK(AP15),\"\",AP15)","v":""}]
[121,{"$f":"IF(ISBLANK(L16),\"\",L16)","v":""}]
[122,{"$f":"IF(ISBLANK(L31),\"\",L31)","v":""}]
[123,{"$f":"IF(ISBLANK(V31),\"\",V31)","v":""}]
[124,{"$f":"IF(ISBLANK(L32),\"\",L32)","v":""}]
[125,{"$f":"IF(ISBLANK(V32),\"\",V32)","v":""}]
[126,{"$f":"IF(ISBLANK(L17),\"\",L17)","v":""}]
[127,{"$f":"IF(ISBLANK(L20),\"\",L20)","v":""}]
[128,{"$f":"IF(ISBLANK(S20),\"\",S20)","v":""}]
[129,{"$f":"IF(ISBLANK(L23),\"\",L23)","v":""}]
[130,{"$f":"IF(ISBLANK(S23),\"\",S23)","v":""}]
["売上",{"$f":"IF(ISBLANK(AF4),\"\",AF4)","v":""}]
["年",{"$f":"IF(ISBLANK(AM3),\"\",AM3)","v":""}]
["月",{"$f":"IF(ISBLANK(AO3),\"\",AO3)","v":""}]
["租特",{"$f":"IF(ISBLANK(G5),\"\",G5)","v":""}]
["署",{"$f":"IF(ISBLANK(M5),\"\",M5)","v":""}]

{"sheet":"A","index":3,"n_rows":203,"n_cols":75,"rows_kept":203,"cut":false,"hidden":true,"merged":[[10,4,10,5],[10,6,10,13],[10,14,10,15],[10,34,10,40],[10,16,10,22],[10,23,10,24],[10,25,10,31],[10,32,10,33],[18,4,18,13],[11,4,11,13],[12,4,12,13],[13,4,13,13],[14,4,14,13],[15,4,15,13],[16,4,16,13],[17,4,17,13],[12,32,12,40],[14,32,14,40],[16,32,16,40],[18,32,18,40],[9,4,9,19],[9,20,9,22],[9,38,9,40],[2,22,2,47],[1,22,1,47],[1,50,1,68],[2,50,2,68],[9,41,9,55],[9,56,9,58],[9,59,9,73],[4,0,4,76],[6,0,6,76],[7,0,7,76],[9,74,9,76],[10,70,10,76],[10,41,10,42],[10,43,10,49],[10,50,10,51],[10,52,10,58],[10,59,10,60],[10,61,10,67],[10,68,10,69],[0,37,0,40],[9,23,9,37],[17,0,19,0],[11,0,11,3],[15,0,15,3],[16,0,16,3],[30,0,30,3],[12,0,12,3],[31,0,31,3],[9,0,9,3],[10,0,10,3],[24,0,24,3],[25,0,25,3],[26,0,26,3],[29,0,29,3],[20,0,20,3],[17,1,18,2],[21,0,21,3],[22,0,22,3],[23,0,23,3],[19,1,19,3],[13,0,13,3],[14,0,14,3],[27,0,28,0],[27,1,27,3],[28,1,28,3],[26,4,26,13],[27,4,27,13],[29,4,29,13],[30,4,30,13],[31,4,31,13],[21,4,21,13],[22,4,22,13],[23,4,23,13],[24,4,24,13],[25,4,25,13],[28,4,28,13],[19,4,19,13],[20,4,20,13],[11,14,11,22],[12,14,12,22],[13,14,13,22],[14,14,14,22],[15,14,15,22],[11,23,11,31],[12,23,12,31],[13,23,13,31],[14,23,14,31],[15,23,15,31],[16,14,16,22],[17,14,17,22],[18,14,18,22],[19,14,19,22],[20,14,20,22],[16,23,16,31],[17,23,17,31],[18,23,18,31],[19,23,19,31],[20,23,20,31],[21,14,21,22],[22,14,22,22],[23,14,23,22],[24,14,24,22],[25,14,25,22],[21,23,21,31],[22,23,22,31],[23,23,23,31],[24,23,24,31],[25,23,25,31],[26,14,26,22],[27,14,27,22],[29,14,29,22],[30,14,30,22],[31,14,31,22],[26,23,26,31],[27,23,27,31],[29,23,29,31],[30,23,30,31],[31,23,31,31],[28,14,28,22],[28,23,28,31],[12,41,12,49],[12,50,12,58],[12,59,12,67],[12,68,12,76],[11,32,11,40],[11,41,11,49],[11,50,11,58],[11,59,11,67],[11,68,11,76],[14,41,14,49],[14,50,14,58],[14,59,14,67],[14,68,14,76],[13,32,13,40],[13,41,13,49],[13,50,13,58],[13,59,13,67],[13,68,13,76],[16,41,16,49],[16,50,16,58],[16,59,16,67],[16,68,16,76],[15,32,15,40],[15,41,15,49],[15,50,15,58],[15,59,15,67],[15,68,15,76],[18,41,18,49],[18,50,18,58],[18,59,18,67],[18,68,18,76],[17,32,17,40],[17,41,17,49],[17,50,17,58],[17,59,17,67],[17,68,17,76],[20,32,20,40],[20,41,20,49],[20,50,20,58],[20,59,20,67],[20,68,20,76],[19,32,19,40],[19,41,19,49],[19,50,19,58],[19,59,19,67],[19,68,19,76],[22,32,22,40],[22,41,22,49],[22,50,22,58],[22,59,22,67],[22,68,22,76],[21,32,21,40],[21,41,21,49],[21,50,21,58],[21,59,21,67],[21,68,21,76],[24,32,24,40],[24,41,24,49],[24,50,24,58],[24,59,24,67],[24,68,24,76],[23,32,23,40],[23,41,23,49],[23,50,23,58],[23,59,23,67],[23,68,23,76],[26,32,26,40],[26,41,26,49],[26,50,26,58],[26,59,26,67],[26,68,26,76],[25,32,25,40],[25,41,25,49],[25,50,25,58],[25,59,25,67],[25,68,25,76],[29,32,29,40],[29,41,29,49],[29,50,29,58],[29,59,29,67],[29,68,29,76],[27,32,27,40],[27,41,27,49],[27,50,27,58],[27,59,27,67],[27,68,27,76],[28,59,28,67],[28,68,28,76],[28,32,28,40],[28,41,28,49],[28,50,28,58],[31,41,31,49],[31,50,31,58],[31,59,31,67],[31,68,31,76],[30,32,30,40],[30,41,30,49],[30,50,30,58],[30,59,30,67],[30,68,30,76],[135,0,154,0],[155,0,174,0],[175,0,194,0],[35,0,54,0],[55,0,74,0],[75,0,94,0],[95,0,114,0],[115,0,134,0],[31,32,31,40]]}
[]
["令和６年調査　酒類業実態調査表Ｂ",null,null,null,null,null,null,null,null,null,null,null,null,null,null,null,null,null,null,null,null,null,"調査対象期間",null,null,null,null,null,null,null,null,null,null,null,null,null,null,null,null,null,null,null,null,null,null,null,null,null,null,null,"事業年度で記入した場合チェックする"]
[null,null,null,null,null,null,null,null,null,null,null,null,null,null,null,null,null,null,null,null,null,null,"暦年（令和５年１月１日から令和５年12月31日）"]
[]
["　調査対象期間における、「売上数量」及び「売上金額」を記入してください。"]
["　暦年で記入できない場合は、事業年度で記入していただいても差し支えありません。その場合、右上の欄にチェックをお願いします。"]
["　「国内取引」及び「輸出取引」は、「令和６年酒類業実態調査の手引き」の別紙３「輸出取引パターンフローチャート」及び別紙４「輸出取引のパターン分け」により区分してください。"]
[" 酒類製造者等と卸売業者の両方に該当する場合は、酒類製造者等としての取引と卸売業者としての取引を区分の上、それぞれの調査表に記入してください。"]
[]
[null,null,null,null,"売　上　数　量",null,null,null,null,null,null,null,null,null,null,null,null,null,null,null,"（ﾘｯﾄﾙ）",null,null,"内ＧＩ酒類の売上数量",null,null,null,null,null,null,null,null,null,null,null,null,null,null,"（ﾘｯﾄﾙ）",null,null,"売　上　金　額",null,null,null,null,null,null,null,null,null,null,null,null,null,null,"（千円）",null,null,"内ＧＩ酒類の売上金額",null,null,null,null,null,null,null,null,null,null,null,null,null,null,"（千円）"]
["品　目",null,null,null,101,null,"国内取引",null,null,null,null,null,null,null,102,null,"輸出取引",null,null,null,null,null,null,103,null,"国内取引",null,null,null,null,null,null,104,null,"輸出取引",null,null,null,null,null,null,105,null,"国内取引（税抜）",null,null,null,null,null,null,106,null,"輸出取引",null,null,null,null,null,null,107,null,"国内取引（税抜）",null,null,null,null,null,null,108,null,"輸出取引"]
["清酒"]
["合成清酒"]
["連続式蒸留焼酎"]
["単式蒸留焼酎"]
["みりん"]
["ビール"]
["果実酒","ぶどうを原料としたもの",null,"日本ワイン"]
[null,null,null,"日本ワイン以外"]
[null,"その他"]
["甘味果実酒"]
["ウイスキー"]
["ブランデー"]
["原料用アルコール"]
["発泡酒"]
["その他の醸造酒"]
["スピリッツ"]
["リキュール","本格梅酒"]
[null,"本格梅酒以外"]
["粉末酒"]
["雑酒"]
["合　計",null,null,null,{"$f":"IF(SUM(E12:N31)=0,\"\",SUM(E12:N31))","v":""},null,null,null,null,null,null,null,null,null,{"$f":"IF(SUM(O12:W31)=0,\"\",SUM(O12:W31))","v":""},null,null,null,null,null,null,null,null,{"$f":"IF(SUM(X12:AF31)=0,\"\",SUM(X12:AF31))","v":""},null,null,null,null,null,null,null,null,{"$f":"IF(SUM(AG12:AO31)=0,\"\",SUM(AG12:AO31))","v":""},null,null,null,null,null,null,null,null,{"$f":"IF(SUM(AP12:AX31)=0,\"\",SUM(AP12:AX31))","v":""},null,null,null,null,null,null,null,null,{"$f":"IF(SUM(AY12:BG31)=0,\"\",SUM(AY12:BG31))","v":""},null,null,null,null,null,null,null,null,{"$f":"IF(SUM(BH12:BP31)=0,\"\",SUM(BH12:BP31))","v":""},null,null,null,null,null,null,null,null,{"$f":"IF(SUM(BQ12:BY31)=0,\"\",SUM(BQ12:BY31))","v":""}]
[]
[null,"入力判定",{"$f":"IF(SUM(E32:BY32)<>0,TRUE,FALSE)","v":false}]
[null,"事業年度",false]
[101,"清酒",{"$f":"IF(ISBLANK(E12),\"\",E12)","v":""}]
[null,"合成清酒",""]
[null,"連続式蒸留焼酎",""]
[null,"単式蒸留焼酎",""]
[null,"みりん",""]
[null,"ビール",""]
[null,"日本ワイン",""]
[null,"日本ワイン以外",""]
[null,"その他",""]
[null,"甘味果実酒",""]
[null,"ウイスキー",""]
[null,"ブランデー",""]
[null,"原料用アルコール",""]
[null,"発泡酒",""]
[null,"その他の醸造酒",""]
[null,"スピリッツ",""]
[null,"リキュール",""]
[null,"粉末酒",{"$f":"IF(ISBLANK(E30),\"\",E30)","v":""}]
[null,"雑酒",""]
[null,"合　計",""]
[102,"清酒",{"$f":"IF(ISBLANK(O12),\"\",O12)","v":""}]
[null,"合成清酒",""]
[null,"連続式蒸留焼酎",""]
[null,"単式蒸留焼酎",""]
[null,"みりん",""]
[null,"ビール",""]
[null,"日本ワイン",""]
[null,"日本ワイン以外",""]
[null,"その他",""]
[null,"甘味果実酒",""]
[null,"ウイスキー",""]
[null,"ブランデー",""]
[null,"原料用アルコール",""]
[null,"発泡酒",""]
[null,"その他の醸造酒",""]
[null,"スピリッツ",""]
[null,"リキュール",""]
[null,"粉末酒",{"$f":"IF(ISBLANK(O30),\"\",O30)","v":""}]
[null,"雑酒",""]
[null,"合　計",""]
[103,"清酒",{"$f":"IF(ISBLANK(X12),\"\",X12)","v":""}]
[null,"合成清酒",""]
[null,"連続式蒸留焼酎",""]
[null,"単式蒸留焼酎",""]
[null,"みりん",""]
[null,"ビール",""]
[null,"日本ワイン",""]
[null,"日本ワイン以外",""]
[null,"その他",""]
[null,"甘味果実酒",""]
[null,"ウイスキー",""]
[null,"ブランデー",""]
[null,"原料用アルコール",""]
[null,"発泡酒",""]
[null,"その他の醸造酒",""]
[null,"スピリッツ",""]
[null,"リキュール",""]
[null,"粉末酒",{"$f":"IF(ISBLANK(X30),\"\",X30)","v":""}]
[null,"雑酒",""]
[null,"合　計",""]
[104,"清酒",{"$f":"IF(ISBLANK(AG12),\"\",AG12)","v":""}]
[null,"合成清酒",""]
[null,"連続式蒸留焼酎",""]
[null,"単式蒸留焼酎",""]
[null,"みりん",""]
[null,"ビール",""]
[null,"日本ワイン",""]
[null,"日本ワイン以外",""]
[null,"その他",""]
[null,"甘味果実酒",""]
[null,"ウイスキー",""]
[null,"ブランデー",""]
[null,"原料用アルコール",""]
[null,"発泡酒",""]
[null,"その他の醸造酒",""]
[null,"スピリッツ",""]
[null,"リキュール",""]
[null,"粉末酒",{"$f":"IF(ISBLANK(AG30),\"\",AG30)","v":""}]
[null,"雑酒",""]
[null,"合　計",""]
[105,"清酒",{"$f":"IF(ISBLANK(AP12),\"\",AP12)","v":""}]
[null,"合成清酒",""]
[null,"連続式蒸留焼酎",""]
[null,"単式蒸留焼酎",""]
[null,"みりん",""]
[null,"ビール",""]
[null,"日本ワイン",""]
[null,"日本ワイン以外",""]
[null,"その他",""]
[null,"甘味果実酒",""]
[null,"ウイスキー",""]
[null,"ブランデー",""]
[null,"原料用アルコール",""]
[null,"発泡酒",""]
[null,"その他の醸造酒",""]
[null,"スピリッツ",""]
[null,"リキュール",""]
[null,"粉末酒",{"$f":"IF(ISBLANK(AP30),\"\",AP30)","v":""}]
[null,"雑酒",""]
[null,"合　計",""]
[106,"清酒",{"$f":"IF(ISBLANK(AY12),\"\",AY12)","v":""}]
[null,"合成清酒",""]
[null,"連続式蒸留焼酎",""]
[null,"単式蒸留焼酎",""]
[null,"みりん",""]
[null,"ビール",""]
[null,"日本ワイン",""]
[null,"日本ワイン以外",""]
[null,"その他",""]
[null,"甘味果実酒",""]
[null,"ウイスキー",""]
[null,"ブランデー",""]
[null,"原料用アルコール",""]
[null,"発泡酒",""]
[null,"その他の醸造酒",""]
[null,"スピリッツ",""]
[null,"リキュール",""]
[null,"粉末酒",{"$f":"IF(ISBLANK(AY30),\"\",AY30)","v":""}]
[null,"雑酒",""]
[null,"合　計",""]
[107,"清酒",{"$f":"IF(ISBLANK(BH12),\"\",BH12)","v":""}]
[null,"合成清酒",""]
[null,"連続式蒸留焼酎",""]
[null,"単式蒸留焼酎",""]
[null,"みりん",""]
[null,"ビール",""]
[null,"日本ワイン",""]
[null,"日本ワイン以外",""]
[null,"その他",""]
[null,"甘味果実酒",""]
[null,"ウイスキー",""]
[null,"ブランデー",""]
[null,"原料用アルコール",""]
[null,"発泡酒",""]
[null,"その他の醸造酒",""]
[null,"スピリッツ",""]
[null,"リキュール",""]
[null,"粉末酒",{"$f":"IF(ISBLANK(BH30),\"\",BH30)","v":""}]
[null,"雑酒",""]
[null,"合　計",""]
[108,"清酒",{"$f":"IF(ISBLANK(BQ12),\"\",BQ12)","v":""}]
[null,"合成清酒",""]
[null,"連続式蒸留焼酎",""]
[null,"単式蒸留焼酎",""]
[null,"みりん",""]
[null,"ビール",""]
[null,"日本ワイン",""]
[null,"日本ワイン以外",""]
[null,"その他",""]
[null,"甘味果実酒",""]
[null,"ウイスキー",""]
[null,"ブランデー",""]
[null,"原料用アルコール",""]
[null,"発泡酒",""]
[null,"その他の醸造酒",""]
[null,"スピリッツ",""]
[null,"リキュール",""]
[null,"粉末酒",{"$f":"IF(ISBLANK(BQ30),\"\",BQ30)","v":""}]
[null,"雑酒",""]
[null,"合　計",""]
[101,"梅酒以外",{"$f":"IF(ISBLANK(E$29),\"\",E$29)","v":""}]
[102,"梅酒以外",{"$f":"IF(ISBLANK(O$29),\"\",O$29)","v":""}]
[103,"梅酒以外",{"$f":"IF(ISBLANK(X$29),\"\",X$29)","v":""}]
[104,"梅酒以外",{"$f":"IF(ISBLANK(AG$29),\"\",AG$29)","v":""}]
[105,"梅酒以外",{"$f":"IF(ISBLANK(AP$29),\"\",AP$29)","v":""}]
[106,"梅酒以外",{"$f":"IF(ISBLANK(AY$29),\"\",AY$29)","v":""}]
[107,"梅酒以外",{"$f":"IF(ISBLANK(BH$29),\"\",BH$29)","v":""}]
[108,"梅酒以外",{"$f":"IF(ISBLANK(BQ$29),\"\",BQ$29)","v":""}]

{"sheet":"C","index":4,"n_rows":211,"n_cols":47,"rows_kept":211,"cut":false,"hidden":true,"merged":[[199,0,204,0],[205,0,210,0],[199,1,201,1],[202,1,204,1],[205,1,207,1],[208,1,210,1],[24,12,24,20],[36,12,36,20],[24,39,24,47],[36,39,36,47],[43,0,43,2],[43,23,43,29],[42,0,42,2],[42,23,42,29],[37,3,37,11],[35,3,35,11],[38,3,38,11],[39,3,39,11],[40,3,40,11],[30,3,30,11],[32,3,32,11],[33,3,33,11],[34,3,34,11],[27,3,27,11],[3,0,3,47],[4,0,4,47],[5,0,5,47],[36,25,36,29],[24,25,24,29],[24,3,24,11],[24,30,24,38],[36,3,36,11],[36,30,36,38],[27,23,28,23],[27,25,27,29],[28,25,28,29],[29,0,31,0],[29,23,31,23],[29,25,29,29],[23,25,23,29],[25,25,25,29],[33,25,33,29],[34,25,34,29],[30,25,30,29],[19,3,19,11],[20,3,20,11],[19,12,19,20],[20,12,20,20],[0,10,0,29],[1,10,1,29],[38,0,40,0],[38,23,40,23],[38,25,38,29],[39,25,39,29],[41,0,41,2],[41,23,41,29],[32,0,37,0],[32,23,37,23],[32,25,32,29],[18,25,18,29],[26,25,26,29],[31,25,31,29],[37,25,37,29],[35,25,35,29],[40,25,40,29],[27,0,28,0],[19,0,26,0],[19,23,26,23],[19,25,19,29],[20,25,20,29],[21,25,21,29],[22,25,22,29],[8,0,18,0],[8,23,18,23],[17,25,17,29],[9,25,9,29],[10,25,10,29],[12,25,12,29],[21,3,21,11],[22,3,22,11],[7,37,7,38],[11,25,11,29],[17,12,17,20],[18,12,18,20],[8,12,8,20],[9,12,9,20],[10,12,10,20],[11,12,11,20],[12,12,12,20],[13,12,13,20],[14,12,14,20],[15,12,15,20],[16,12,16,20],[8,30,8,38],[13,30,13,38],[13,3,13,11],[23,12,23,20],[25,12,25,20],[14,3,14,11],[15,3,15,11],[16,3,16,11],[13,25,13,29],[14,25,14,29],[15,25,15,29],[21,12,21,20],[22,12,22,20],[28,3,28,11],[29,3,29,11],[31,3,31,11],[23,3,23,11],[26,3,26,11],[25,3,25,11],[17,3,17,11],[7,40,7,45],[7,46,7,47],[8,25,8,29],[15,39,15,47],[18,3,18,11],[16,25,16,29],[7,31,7,36],[7,4,7,9],[7,10,7,11],[7,13,7,18],[7,19,7,20],[7,25,7,29],[8,3,8,11],[9,3,9,11],[10,3,10,11],[11,3,11,11],[12,3,12,11],[30,12,30,20],[31,12,31,20],[32,12,32,20],[33,12,33,20],[26,12,26,20],[27,12,27,20],[28,12,28,20],[29,12,29,20],[43,12,43,20],[42,12,42,20],[8,39,8,47],[9,30,9,38],[9,39,9,47],[10,30,10,38],[10,39,10,47],[11,30,11,38],[11,39,11,47],[12,30,12,38],[12,39,12,47],[13,39,13,47],[14,30,14,38],[14,39,14,47],[15,30,15,38],[39,12,39,20],[40,12,40,20],[41,12,41,20],[34,12,34,20],[35,12,35,20],[37,12,37,20],[19,30,19,38],[19,39,19,47],[20,30,20,38],[20,39,20,47],[16,30,16,38],[16,39,16,47],[17,30,17,38],[17,39,17,47],[18,30,18,38],[18,39,18,47],[26,30,26,38],[26,39,26,47],[25,30,25,38],[25,39,25,47],[27,30,27,38],[27,39,27,47],[21,30,21,38],[21,39,21,47],[22,30,22,38],[22,39,22,47],[23,30,23,38],[23,39,23,47],[31,30,31,38],[31,39,31,47],[32,30,32,38],[32,39,32,47],[28,30,28,38],[28,39,28,47],[29,30,29,38],[29,39,29,47],[30,30,30,38],[30,39,30,47],[37,30,37,38],[37,39,37,47],[39,30,39,38],[39,39,39,47],[40,30,40,38],[40,39,40,47],[123,0,160,0],[123,1,160,1],[38,30,38,38],[38,39,38,47],[33,30,33,38],[33,39,33,47],[34,30,34,38],[34,39,34,47],[35,30,35,38],[35,39,35,47],[41,30,41,38],[41,39,41,47],[41,3,41,11],[42,3,42,11],[43,3,43,11],[38,12,38,20],[161,0,198,0],[161,1,198,1],[46,0,46,2],[47,1,84,1],[47,0,84,0],[85,0,122,0],[85,1,122,1],[42,30,42,38],[42,39,42,47],[43,30,43,38],[43,39,43,47]]}
["令和６年調査 酒類業実態調査表Ｃ１",null,null,null,null,null,null,null,null,null,"調査対象期間"]
[null,null,null,null,null,null,null,null,null,null,{"$f":"IF(A!C35=TRUE,\"事業年度（調査表Ｂで選択しているため）\",\"暦年（令和５年１月１日から令和５年12月31日）\")","v":"暦年（令和５年１月１日から令和５年12月31日）"}]
[]
["１　「清酒」の輸出取引について、調査対象期間における「輸出数量」及び「輸出金額」の合計を記入してください。"]
["　　「輸出取引」に該当するか否かは、「令和６年酒類業実態調査の手引き」の別紙３「輸出取引パターンフローチャート」及び別紙４「輸出取引のパターン分け」を参照してください。"]
[" 酒類製造者等と卸売業者の両方に該当する場合は、酒類製造者等としての取引と卸売業者としての取引を区分の上、それぞれの調査表に記入してください。"]
["○　清酒（特定名称酒）",null,null,null,null,null,null,null,null,null,null,null,null,null,null,null,null,null,null,null,null,null,null,"○　清酒（特定名称酒を除く。）"]
["地理圏","国番号","国・地域名",129,"輸出数量",null,null,null,null,null,"（ﾘｯﾄﾙ）",null,130,"輸出金額",null,null,null,null,null,"（千円）",null,null,null,"地理圏","国番号","国・地域名",null,null,null,null,131,"輸出数量",null,null,null,null,null,"（ﾘｯﾄﾙ）",null,132,"輸出金額",null,null,null,null,null,"（千円）"]
["アジア",103,"大韓民国",null,null,null,null,null,null,null,null,null,null,null,null,null,null,null,null,null,null,null,null,"アジア",103,"大韓民国"]
[null,105,"中華人民共和国",null,null,null,null,null,null,null,null,null,null,null,null,null,null,null,null,null,null,null,null,null,105,"中華人民共和国"]
[null,106,"台湾",null,null,null,null,null,null,null,null,null,null,null,null,null,null,null,null,null,null,null,null,null,106,"台湾"]
[null,108,"香港",null,null,null,null,null,null,null,null,null,null,null,null,null,null,null,null,null,null,null,null,null,108,"香港"]
[null,110,"ベトナム",null,null,null,null,null,null,null,null,null,null,null,null,null,null,null,null,null,null,null,null,null,110,"ベトナム"]
[null,111,"タイ",null,null,null,null,null,null,null,null,null,null,null,null,null,null,null,null,null,null,null,null,null,111,"タイ"]
[null,112,"シンガポール",null,null,null,null,null,null,null,null,null,null,null,null,null,null,null,null,null,null,null,null,null,112,"シンガポール"]
[null,113,"マレーシア",null,null,null,null,null,null,null,null,null,null,null,null,null,null,null,null,null,null,null,null,null,113,"マレーシア"]
[null,123,"インド",null,null,null,null,null,null,null,null,null,null,null,null,null,null,null,null,null,null,null,null,null,123,"インド"]
[null,129,"マカオ",null,null,null,null,null,null,null,null,null,null,null,null,null,null,null,null,null,null,null,null,null,129,"マカオ"]
[null,null,"その他・不明",null,null,null,null,null,null,null,null,null,null,null,null,null,null,null,null,null,null,null,null,null,null,"その他・不明"]
["西欧",205,"英国",null,null,null,null,null,null,null,null,null,null,null,null,null,null,null,null,null,null,null,null,"西欧",205,"英国"]
[null,207,"オランダ",null,null,null,null,null,null,null,null,null,null,null,null,null,null,null,null,null,null,null,null,null,207,"オランダ"]
[null,210,"フランス",null,null,null,null,null,null,null,null,null,null,null,null,null,null,null,null,null,null,null,null,null,210,"フランス"]
[null,213,"ドイツ",null,null,null,null,null,null,null,null,null,null,null,null,null,null,null,null,null,null,null,null,null,213,"ドイツ"]
[null,220,"イタリア",null,null,null,null,null,null,null,null,null,null,null,null,null,null,null,null,null,null,null,null,null,220,"イタリア"]
[null,206,"スペイン",null,null,null,null,null,null,null,null,null,null,null,null,null,null,null,null,null,null,null,null,null,206,"スペイン"]
[null,218,"アイルランド",null,null,null,null,null,null,null,null,null,null,null,null,null,null,null,null,null,null,null,null,null,218,"アイルランド"]
[null,null,"その他・不明",null,null,null,null,null,null,null,null,null,null,null,null,null,null,null,null,null,null,null,null,null,null,"その他・不明"]
["中東欧・ロシア等",224,"ロシア",null,null,null,null,null,null,null,null,null,null,null,null,null,null,null,null,null,null,null,null,"中東欧・ロシア等",224,"ロシア"]
[null,null,"その他・不明",null,null,null,null,null,null,null,null,null,null,null,null,null,null,null,null,null,null,null,null,null,null,"その他・不明"]
["北米",302,"カナダ",null,null,null,null,null,null,null,null,null,null,null,null,null,null,null,null,null,null,null,null,"北米",302,"カナダ"]
[null,304,"アメリカ合衆国",null,null,null,null,null,null,null,null,null,null,null,null,null,null,null,null,null,null,null,null,null,304,"アメリカ合衆国"]
[null,null,"その他・不明",null,null,null,null,null,null,null,null,null,null,null,null,null,null,null,null,null,null,null,null,null,null,"その他・不明"]
["中南米",305,"メキシコ",null,null,null,null,null,null,null,null,null,null,null,null,null,null,null,null,null,null,null,null,"中南米",305,"メキシコ"]
[null,407,"ペルー",null,null,null,null,null,null,null,null,null,null,null,null,null,null,null,null,null,null,null,null,null,407,"ペルー"]
[null,409,"チリ",null,null,null,null,null,null,null,null,null,null,null,null,null,null,null,null,null,null,null,null,null,409,"チリ"]
[null,410,"ブラジル",null,null,null,null,null,null,null,null,null,null,null,null,null,null,null,null,null,null,null,null,null,410,"ブラジル"]
[null,413,"アルゼンチン",null,null,null,null,null,null,null,null,null,null,null,null,null,null,null,null,null,null,null,null,null,413,"アルゼンチン"]
[null,null,"その他・不明",null,null,null,null,null,null,null,null,null,null,null,null,null,null,null,null,null,null,null,null,null,null,"その他・不明"]
["大洋州",601,"オーストラリア",null,null,null,null,null,null,null,null,null,null,null,null,null,null,null,null,null,null,null,null,"大洋州",601,"オーストラリア"]
[null,606,"ニュージーランド",null,null,null,null,null,null,null,null,null,null,null,null,null,null,null,null,null,null,null,null,null,606,"ニュージーランド"]
[null,null,"その他・不明",null,null,null,null,null,null,null,null,null,null,null,null,null,null,null,null,null,null,null,null,null,null,"その他・不明"]
["中東",null,null,null,null,null,null,null,null,null,null,null,null,null,null,null,null,null,null,null,null,null,null,"中東"]
["アフリカ",null,null,null,null,null,null,null,null,null,null,null,null,null,null,null,null,null,null,null,null,null,null,"アフリカ"]
["合計",null,null,{"$f":"IF(SUM(D9:L43)=0,\"\",SUM(D9:L43))","v":""},null,null,null,null,null,null,null,null,{"$f":"IF(SUM(M9:U43)=0,\"\",SUM(M9:U43))","v":""},null,null,null,null,null,null,null,null,null,null,"合計",null,null,null,null,null,null,{"$f":"IF(SUM(AE9:AM43)=0,\"\",SUM(AE9:AM43))","v":""},null,null,null,null,null,null,null,null,{"$f":"IF(SUM(AN9:AV43)=0,\"\",SUM(AN9:AV43))","v":""}]
[]
[]
["入力判定",null,null,{"$f":"IF(SUM(D44:U44,AE44:AV44)<>0,TRUE,FALSE)","v":false}]
["清酒（特定名称酒）","輸出数量","大韓民国",{"$f":"IF(ISBLANK(D9),\"\",D9)","v":""}]
[null,null,"中華人民共和国",""]
[null,null,"台湾",""]
[null,null,"香港",""]
[null,null,"ベトナム",""]
[null,null,"タイ",""]
[null,null,"シンガポール",""]
[null,null,"マレーシア",""]
[null,null,"インド",""]
[null,null,"マカオ",""]
[null,null,"その他",""]
[null,null,"不明"]
[null,null,"英国",{"$f":"IF(ISBLANK(D20),\"\",D20)","v":""}]
[null,null,"オランダ",{"$f":"IF(ISBLANK(D21),\"\",D21)","v":""}]
[null,null,"フランス",{"$f":"IF(ISBLANK(D22),\"\",D22)","v":""}]
[null,null,"ドイツ",{"$f":"IF(ISBLANK(D23),\"\",D23)","v":""}]
[null,null,"イタリア",{"$f":"IF(ISBLANK(D24),\"\",D24)","v":""}]
[null,null,"その他",{"$f":"IF(ISBLANK(D27),\"\",D27)","v":""}]
[null,null,"不明"]
[null,null,"ロシア",{"$f":"IF(ISBLANK(D28),\"\",D28)","v":""}]
[null,null,"その他",{"$f":"IF(ISBLANK(D29),\"\",D29)","v":""}]
[null,null,"カナダ",{"$f":"IF(ISBLANK(D30),\"\",D30)","v":""}]
[null,null,"アメリカ合衆国",{"$f":"IF(ISBLANK(D31),\"\",D31)","v":""}]
[null,null,"その他",{"$f":"IF(ISBLANK(D32),\"\",D32)","v":""}]
[null,null,"不明"]
[null,null,"メキシコ",{"$f":"IF(ISBLANK(D33),\"\",D33)","v":""}]
[null,null,"ペルー",{"$f":"IF(ISBLANK(D34),\"\",D34)","v":""}]
[null,null,"チリ",{"$f":"IF(ISBLANK(D35),\"\",D35)","v":""}]
[null,null,"ブラジル",{"$f":"IF(ISBLANK(D36),\"\",D36)","v":""}]
[null,null,"その他",{"$f":"IF(ISBLANK(D38),\"\",D38)","v":""}]
[null,null,"不明"]
[null,null,"オーストラリア",{"$f":"IF(ISBLANK(D39),\"\",D39)","v":""}]
[null,null,"ニュージーランド",{"$f":"IF(ISBLANK(D40),\"\",D40)","v":""}]
[null,null,"その他",{"$f":"IF(ISBLANK(D41),\"\",D41)","v":""}]
[null,null,"不明"]
[null,null,"中東",{"$f":"IF(ISBLANK(D42),\"\",D42)","v":""}]
[null,null,"アフリカ",""]
[null,null,"合計",""]
["清酒（特定名称酒）","輸出金額","大韓民国",{"$f":"IF(ISBLANK(M9),\"\",M9)","v":""}]
[null,null,"中華人民共和国",""]
[null,null,"台湾",""]
[null,null,"香港",""]
[null,null,"ベトナム",""]
[null,null,"タイ",""]
[null,null,"シンガポール",""]
[null,null,"マレーシア",""]
[null,null,"インド",""]
[null,null,"マカオ",""]
[null,null,"その他",""]
[null,null,"不明"]
[null,null,"英国",{"$f":"IF(ISBLANK(M20),\"\",M20)","v":""}]
[null,null,"オランダ",{"$f":"IF(ISBLANK(M21),\"\",M21)","v":""}]
[null,null,"フランス",{"$f":"IF(ISBLANK(M22),\"\",M22)","v":""}]
[null,null,"ドイツ",{"$f":"IF(ISBLANK(M23),\"\",M23)","v":""}]
[null,null,"イタリア",{"$f":"IF(ISBLANK(M24),\"\",M24)","v":""}]
[null,null,"その他",{"$f":"IF(ISBLANK(M27),\"\",M27)","v":""}]
[null,null,"不明"]
[null,null,"ロシア",{"$f":"IF(ISBLANK(M28),\"\",M28)","v":""}]
[null,null,"その他",{"$f":"IF(ISBLANK(M29),\"\",M29)","v":""}]
[null,null,"カナダ",{"$f":"IF(ISBLANK(M30),\"\",M30)","v":""}]
[null,null,"アメリカ合衆国",{"$f":"IF(ISBLANK(M31),\"\",M31)","v":""}]
[null,null,"その他",{"$f":"IF(ISBLANK(M32),\"\",M32)","v":""}]
[null,null,"不明"]
[null,null,"メキシコ",{"$f":"IF(ISBLANK(M33),\"\",M33)","v":""}]
[null,null,"ペルー",{"$f":"IF(ISBLANK(M34),\"\",M34)","v":""}]
[null,null,"チリ",{"$f":"IF(ISBLANK(M35),\"\",M35)","v":""}]
[null,null,"ブラジル",{"$f":"IF(ISBLANK(M36),\"\",M36)","v":""}]
[null,null,"その他",{"$f":"IF(ISBLANK(M38),\"\",M38)","v":""}]
[null,null,"不明"]
[null,null,"オーストラリア",{"$f":"IF(ISBLANK(M39),\"\",M39)","v":""}]
[null,null,"ニュージーランド",{"$f":"IF(ISBLANK(M40),\"\",M40)","v":""}]
[null,null,"その他",{"$f":"IF(ISBLANK(M41),\"\",M41)","v":""}]
[null,null,"不明"]
[null,null,"中東",{"$f":"IF(ISBLANK(M42),\"\",M42)","v":""}]
[null,null,"アフリカ",""]
[null,null,"合計",""]
["清酒（特定名称酒を除く）","輸出数量","大韓民国",{"$f":"IF(ISBLANK(AE9),\"\",AE9)","v":""}]
[null,null,"中華人民共和国",""]
[null,null,"台湾",""]
[null,null,"香港",""]
[null,null,"ベトナム",""]
[null,null,"タイ",""]
[null,null,"シンガポール",""]
[null,null,"マレーシア",""]
[null,null,"インド",""]
[null,null,"マカオ",""]
[null,null,"その他",""]
[null,null,"不明"]
[null,null,"英国",{"$f":"IF(ISBLANK(AE20),\"\",AE20)","v":""}]
[null,null,"オランダ",{"$f":"IF(ISBLANK(AE21),\"\",AE21)","v":""}]
[null,null,"フランス",{"$f":"IF(ISBLANK(AE22),\"\",AE22)","v":""}]
[null,null,"ドイツ",{"$f":"IF(ISBLANK(AE23),\"\",AE23)","v":""}]
[null,null,"イタリア",{"$f":"IF(ISBLANK(AE24),\"\",AE24)","v":""}]
[null,null,"その他",{"$f":"IF(ISBLANK(AE27),\"\",AE27)","v":""}]
[null,null,"不明"]
[null,null,"ロシア",{"$f":"IF(ISBLANK(AE28),\"\",AE28)","v":""}]
[null,null,"その他",{"$f":"IF(ISBLANK(AE29),\"\",AE29)","v":""}]
[null,null,"カナダ",{"$f":"IF(ISBLANK(AE30),\"\",AE30)","v":""}]
[null,null,"アメリカ合衆国",{"$f":"IF(ISBLANK(AE31),\"\",AE31)","v":""}]
[null,null,"その他",{"$f":"IF(ISBLANK(AE32),\"\",AE32)","v":""}]
[null,null,"不明"]
[null,null,"メキシコ",{"$f":"IF(ISBLANK(AE33),\"\",AE33)","v":""}]
[null,null,"ペルー",{"$f":"IF(ISBLANK(AE34),\"\",AE34)","v":""}]
[null,null,"チリ",{"$f":"IF(ISBLANK(AE35),\"\",AE35)","v":""}]
[null,null,"ブラジル",{"$f":"IF(ISBLANK(AE36),\"\",AE36)","v":""}]
[null,null,"その他",{"$f":"IF(ISBLANK(AE38),\"\",AE38)","v":""}]
[null,null,"不明"]
[null,null,"オーストラリア",{"$f":"IF(ISBLANK(AE39),\"\",AE39)","v":""}]
[null,null,"ニュージーランド",{"$f":"IF(ISBLANK(AE40),\"\",AE40)","v":""}]
[null,null,"その他",{"$f":"IF(ISBLANK(AE41),\"\",AE41)","v":""}]
[null,null,"不明"]
[null,null,"中東",{"$f":"IF(ISBLANK(AE42),\"\",AE42)","v":""}]
[null,null,"アフリカ",""]
[null,null,"合計",""]
["清酒（特定名称酒を除く）","輸出金額","大韓民国",{"$f":"IF(ISBLANK(AN9),\"\",AN9)","v":""}]
[null,null,"中華人民共和国",""]
[null,null,"台湾",""]
[null,null,"香港",""]
[null,null,"ベトナム",""]
[null,null,"タイ",""]
[null,null,"シンガポール",""]
[null,null,"マレーシア",""]
[null,null,"インド",""]
[null,null,"マカオ",""]
[null,null,"その他",""]
[null,null,"不明"]
[null,null,"英国",{"$f":"IF(ISBLANK(AN20),\"\",AN20)","v":""}]
[null,null,"オランダ",{"$f":"IF(ISBLANK(AN21),\"\",AN21)","v":""}]
[null,null,"フランス",{"$f":"IF(ISBLANK(AN22),\"\",AN22)","v":""}]
[null,null,"ドイツ",{"$f":"IF(ISBLANK(AN23),\"\",AN23)","v":""}]
[null,null,"イタリア",{"$f":"IF(ISBLANK(AN24),\"\",AN24)","v":""}]
[null,null,"その他",{"$f":"IF(ISBLANK(AN27),\"\",AN27)","v":""}]
[null,null,"不明"]
[null,null,"ロシア",{"$f":"IF(ISBLANK(AN28),\"\",AN28)","v":""}]
[null,null,"その他",{"$f":"IF(ISBLANK(AN29),\"\",AN29)","v":""}]
[null,null,"カナダ",{"$f":"IF(ISBLANK(AN30),\"\",AN30)","v":""}]
[null,null,"アメリカ合衆国",{"$f":"IF(ISBLANK(AN31),\"\",AN31)","v":""}]
[null,null,"その他",{"$f":"IF(ISBLANK(AN32),\"\",AN32)","v":""}]
[null,null,"不明"]
[null,null,"メキシコ",{"$f":"IF(ISBLANK(AN33),\"\",AN33)","v":""}]
[null,null,"ペルー",{"$f":"IF(ISBLANK(AN34),\"\",AN34)","v":""}]
[null,null,"チリ",{"$f":"IF(ISBLANK(AN35),\"\",AN35)","v":""}]
[null,null,"ブラジル",{"$f":"IF(ISBLANK(AN36),\"\",AN36)","v":""}]
[null,null,"その他",{"$f":"IF(ISBLANK(AN38),\"\",AN38)","v":""}]
[null,null,"不明"]
[null,null,"オーストラリア",{"$f":"IF(ISBLANK(AN39),\"\",AN39)","v":""}]
[null,null,"ニュージーランド",{"$f":"IF(ISBLANK(AN40),\"\",AN40)","v":""}]
[null,null,"その他",{"$f":"IF(ISBLANK(AN41),\"\",AN41)","v":""}]
[null,null,"不明"]
[null,null,"中東",{"$f":"IF(ISBLANK(AN42),\"\",AN42)","v":""}]
[null,null,"アフリカ",""]
[null,null,"合計",""]
["清酒（特定名称酒）","輸出数量","スペイン",{"$f":"IF(ISBLANK(D25),\"\",D25)","v":""}]
[null,null,"アイルランド",{"$f":"IF(ISBLANK(D26),\"\",D26)","v":""}]
[null,null,"アルゼンチン",{"$f":"IF(ISBLANK(D37),\"\",D37)","v":""}]
[null,"輸出金額","スペイン",{"$f":"IF(ISBLANK(M25),\"\",M25)","v":""}]
[null,null,"アイルランド",{"$f":"IF(ISBLANK(M26),\"\",M26)","v":""}]
[null,null,"アルゼンチン",{"$f":"IF(ISBLANK(M37),\"\",M37)","v":""}]
["清酒（特定名称酒）","輸出数量","スペイン",{"$f":"IF(ISBLANK(AE25),\"\",AE25)","v":""}]
[null,null,"アイルランド",{"$f":"IF(ISBLANK(AE26),\"\",AE26)","v":""}]
[null,null,"アルゼンチン",{"$f":"IF(ISBLANK(AE37),\"\",AE37)","v":""}]
[null,"輸出金額","スペイン",{"$f":"IF(ISBLANK(AN25),\"\",AN25)","v":""}]
[null,null,"アイルランド",{"$f":"IF(ISBLANK(AN26),\"\",AN26)","v":""}]
[null,null,"アルゼンチン",{"$f":"IF(ISBLANK(AN37),\"\",AN37)","v":""}]

{"sheet":"D","index":5,"n_rows":211,"n_cols":47,"rows_kept":211,"cut":false,"hidden":true,"merged":[[199,0,204,0],[199,1,201,1],[202,1,204,1],[205,0,210,0],[205,1,207,1],[208,1,210,1],[46,0,46,2],[47,0,84,0],[47,1,84,1],[85,0,122,0],[85,1,122,1],[123,0,160,0],[123,1,160,1],[43,39,43,47],[41,39,41,47],[42,0,42,2],[42,3,42,11],[42,12,42,20],[42,23,42,29],[42,30,42,38],[42,39,42,47],[161,0,198,0],[161,1,198,1],[41,0,41,2],[41,3,41,11],[41,12,41,20],[41,23,41,29],[41,30,41,38],[38,0,40,0],[43,0,43,2],[43,3,43,11],[43,12,43,20],[43,23,43,29],[43,30,43,38],[36,25,36,29],[36,30,36,38],[36,39,36,47],[38,30,38,38],[38,39,38,47],[39,3,39,11],[39,12,39,20],[39,25,39,29],[39,30,39,38],[39,39,39,47],[37,3,37,11],[37,12,37,20],[37,25,37,29],[37,30,37,38],[37,39,37,47],[38,3,38,11],[38,12,38,20],[38,23,40,23],[38,25,38,29],[40,3,40,11],[40,12,40,20],[40,25,40,29],[40,30,40,38],[40,39,40,47],[32,0,37,0],[32,3,32,11],[32,12,32,20],[32,23,37,23],[32,25,32,29],[32,30,32,38],[32,39,32,47],[33,3,33,11],[33,12,33,20],[33,25,33,29],[33,30,33,38],[33,39,33,47],[34,3,34,11],[34,12,34,20],[34,25,34,29],[34,30,34,38],[34,39,34,47],[35,3,35,11],[35,12,35,20],[35,25,35,29],[35,30,35,38],[35,39,35,47],[36,3,36,11],[36,12,36,20],[29,39,29,47],[30,3,30,11],[30,12,30,20],[30,25,30,29],[30,30,30,38],[30,39,30,47],[31,39,31,47],[29,0,31,0],[29,3,29,11],[29,12,29,20],[29,23,31,23],[29,25,29,29],[29,30,29,38],[31,3,31,11],[31,12,31,20],[31,25,31,29],[31,30,31,38],[27,39,27,47],[28,3,28,11],[28,12,28,20],[28,25,28,29],[28,30,28,38],[28,39,28,47],[27,0,28,0],[27,3,27,11],[27,12,27,20],[27,23,28,23],[27,25,27,29],[27,30,27,38],[24,39,24,47],[25,3,25,11],[25,12,25,20],[25,25,25,29],[25,30,25,38],[25,39,25,47],[26,3,26,11],[26,12,26,20],[26,25,26,29],[26,30,26,38],[26,39,26,47],[21,39,21,47],[22,3,22,11],[22,12,22,20],[22,25,22,29],[22,30,22,38],[22,39,22,47],[23,3,23,11],[23,12,23,20],[23,25,23,29],[23,30,23,38],[23,39,23,47],[19,39,19,47],[20,3,20,11],[20,12,20,20],[20,25,20,29],[20,30,20,38],[20,39,20,47],[18,3,18,11],[18,12,18,20],[18,25,18,29],[18,30,18,38],[18,39,18,47],[19,0,26,0],[19,3,19,11],[19,12,19,20],[19,23,26,23],[19,25,19,29],[16,3,16,11],[16,12,16,20],[16,25,16,29],[16,30,16,38],[8,0,18,0],[19,30,19,38],[21,3,21,11],[21,12,21,20],[21,25,21,29],[21,30,21,38],[24,3,24,11],[24,12,24,20],[24,25,24,29],[24,30,24,38],[16,39,16,47],[17,3,17,11],[17,12,17,20],[17,25,17,29],[17,30,17,38],[17,39,17,47],[14,3,14,11],[14,12,14,20],[14,25,14,29],[14,30,14,38],[14,39,14,47],[15,3,15,11],[15,12,15,20],[15,25,15,29],[15,30,15,38],[15,39,15,47],[11,39,11,47],[12,3,12,11],[12,12,12,20],[12,25,12,29],[12,30,12,38],[12,39,12,47],[13,3,13,11],[13,12,13,20],[13,25,13,29],[13,30,13,38],[13,39,13,47],[8,39,8,47],[9,3,9,11],[9,12,9,20],[9,25,9,29],[9,30,9,38],[9,39,9,47],[7,31,7,36],[7,37,7,38],[7,40,7,45],[7,46,7,47],[8,3,8,11],[8,12,8,20],[8,23,18,23],[8,25,8,29],[8,30,8,38],[10,3,10,11],[10,12,10,20],[10,25,10,29],[10,30,10,38],[10,39,10,47],[11,3,11,11],[11,12,11,20],[11,25,11,29],[11,30,11,38],[0,10,0,29],[1,10,1,29],[3,0,3,47],[4,0,4,47],[5,0,5,47],[7,4,7,9],[7,10,7,11],[7,13,7,18],[7,19,7,20],[7,25,7,29]]}
["令和６年調査 酒類業実態調査表Ｃ２",null,null,null,null,null,null,null,null,null,"調査対象期間"]
[null,null,null,null,null,null,null,null,null,null,{"$f":"IF(A!C35=TRUE,\"事業年度（調査表Ｂで選択しているため）\",\"暦年（令和５年１月１日から令和５年12月31日）\")","v":"暦年（令和５年１月１日から令和５年12月31日）"}]
[]
["２　「単式蒸留焼酎」又は「ビール・発泡酒」の輸出取引について、調査対象期間における「輸出数量」及び「輸出金額」の合計を記入してください。"]
["　　「輸出取引」に該当するか否かは、「令和６年酒類業実態調査の手引き」の別紙３「輸出取引パターンフローチャート」及び別紙４「輸出取引のパターン分け」を参照してください。"]
[" 酒類製造者等と卸売業者の両方に該当する場合は、酒類製造者等としての取引と卸売業者としての取引を区分の上、それぞれの調査表に記入してください。"]
["○　単式蒸留焼酎",null,null,null,null,null,null,null,null,null,null,null,null,null,null,null,null,null,null,null,null,null,null,"○　ビール・発泡酒"]
["地理圏","国番号","国・地域名",129,"輸出数量",null,null,null,null,null,"（ﾘｯﾄﾙ）",null,130,"輸出金額",null,null,null,null,null,"（千円）",null,null,null,"地理圏","国番号","国・地域名",null,null,null,null,131,"輸出数量",null,null,null,null,null,"（ﾘｯﾄﾙ）",null,132,"輸出金額",null,null,null,null,null,"（千円）"]
["アジア",103,"大韓民国",null,null,null,null,null,null,null,null,null,null,null,null,null,null,null,null,null,null,null,null,"アジア",103,"大韓民国"]
[null,105,"中華人民共和国",null,null,null,null,null,null,null,null,null,null,null,null,null,null,null,null,null,null,null,null,null,105,"中華人民共和国"]
[null,106,"台湾",null,null,null,null,null,null,null,null,null,null,null,null,null,null,null,null,null,null,null,null,null,106,"台湾"]
[null,108,"香港",null,null,null,null,null,null,null,null,null,null,null,null,null,null,null,null,null,null,null,null,null,108,"香港"]
[null,110,"ベトナム",null,null,null,null,null,null,null,null,null,null,null,null,null,null,null,null,null,null,null,null,null,110,"ベトナム"]
[null,111,"タイ",null,null,null,null,null,null,null,null,null,null,null,null,null,null,null,null,null,null,null,null,null,111,"タイ"]
[null,112,"シンガポール",null,null,null,null,null,null,null,null,null,null,null,null,null,null,null,null,null,null,null,null,null,112,"シンガポール"]
[null,113,"マレーシア",null,null,null,null,null,null,null,null,null,null,null,null,null,null,null,null,null,null,null,null,null,113,"マレーシア"]
[null,123,"インド",null,null,null,null,null,null,null,null,null,null,null,null,null,null,null,null,null,null,null,null,null,123,"インド"]
[null,129,"マカオ",null,null,null,null,null,null,null,null,null,null,null,null,null,null,null,null,null,null,null,null,null,129,"マカオ"]
[null,null,"その他・不明",null,null,null,null,null,null,null,null,null,null,null,null,null,null,null,null,null,null,null,null,null,null,"その他・不明"]
["西欧",205,"英国",null,null,null,null,null,null,null,null,null,null,null,null,null,null,null,null,null,null,null,null,"西欧",205,"英国"]
[null,207,"オランダ",null,null,null,null,null,null,null,null,null,null,null,null,null,null,null,null,null,null,null,null,null,207,"オランダ"]
[null,210,"フランス",null,null,null,null,null,null,null,null,null,null,null,null,null,null,null,null,null,null,null,null,null,210,"フランス"]
[null,213,"ドイツ",null,null,null,null,null,null,null,null,null,null,null,null,null,null,null,null,null,null,null,null,null,213,"ドイツ"]
[null,220,"イタリア",null,null,null,null,null,null,null,null,null,null,null,null,null,null,null,null,null,null,null,null,null,220,"イタリア"]
[null,206,"スペイン",null,null,null,null,null,null,null,null,null,null,null,null,null,null,null,null,null,null,null,null,null,206,"スペイン"]
[null,218,"アイルランド",null,null,null,null,null,null,null,null,null,null,null,null,null,null,null,null,null,null,null,null,null,218,"アイルランド"]
[null,null,"その他・不明",null,null,null,null,null,null,null,null,null,null,null,null,null,null,null,null,null,null,null,null,null,null,"その他・不明"]
["中東欧・ロシア等",224,"ロシア",null,null,null,null,null,null,null,null,null,null,null,null,null,null,null,null,null,null,null,null,"中東欧・ロシア等",224,"ロシア"]
[null,null,"その他・不明",null,null,null,null,null,null,null,null,null,null,null,null,null,null,null,null,null,null,null,null,null,null,"その他・不明"]
["北米",302,"カナダ",null,null,null,null,null,null,null,null,null,null,null,null,null,null,null,null,null,null,null,null,"北米",302,"カナダ"]
[null,304,"アメリカ合衆国",null,null,null,null,null,null,null,null,null,null,null,null,null,null,null,null,null,null,null,null,null,304,"アメリカ合衆国"]
[null,null,"その他・不明",null,null,null,null,null,null,null,null,null,null,null,null,null,null,null,null,null,null,null,null,null,null,"その他・不明"]
["中南米",305,"メキシコ",null,null,null,null,null,null,null,null,null,null,null,null,null,null,null,null,null,null,null,null,"中南米",305,"メキシコ"]
[null,407,"ペルー",null,null,null,null,null,null,null,null,null,null,null,null,null,null,null,null,null,null,null,null,null,407,"ペルー"]
[null,409,"チリ",null,null,null,null,null,null,null,null,null,null,null,null,null,null,null,null,null,null,null,null,null,409,"チリ"]
[null,410,"ブラジル",null,null,null,null,null,null,null,null,null,null,null,null,null,null,null,null,null,null,null,null,null,410,"ブラジル"]
[null,413,"アルゼンチン",null,null,null,null,null,null,null,null,null,null,null,null,null,null,null,null,null,null,null,null,null,413,"アルゼンチン"]
[null,null,"その他・不明",null,null,null,null,null,null,null,null,null,null,null,null,null,null,null,null,null,null,null,null,null,null,"その他・不明"]
["大洋州",601,"オーストラリア",null,null,null,null,null,null,null,null,null,null,null,null,null,null,null,null,null,null,null,null,"大洋州",601,"オーストラリア"]
[null,606,"ニュージーランド",null,null,null,null,null,null,null,null,null,null,null,null,null,null,null,null,null,null,null,null,null,606,"ニュージーランド"]
[null,null,"その他・不明",null,null,null,null,null,null,null,null,null,null,null,null,null,null,null,null,null,null,null,null,null,null,"その他・不明"]
["中東",null,null,null,null,null,null,null,null,null,null,null,null,null,null,null,null,null,null,null,null,null,null,"中東"]
["アフリカ",null,null,null,null,null,null,null,null,null,null,null,null,null,null,null,null,null,null,null,null,null,null,"アフリカ"]
["合計",null,null,{"$f":"IF(SUM(D9:L43)=0,\"\",SUM(D9:L43))","v":""},null,null,null,null,null,null,null,null,{"$f":"IF(SUM(M9:U43)=0,\"\",SUM(M9:U43))","v":""},null,null,null,null,null,null,null,null,null,null,"合計",null,null,null,null,null,null,{"$f":"IF(SUM(AE9:AM43)=0,\"\",SUM(AE9:AM43))","v":""},null,null,null,null,null,null,null,null,{"$f":"IF(SUM(AN9:AV43)=0,\"\",SUM(AN9:AV43))","v":""}]
[]
[]
["入力判定",null,null,{"$f":"IF(SUM(D44:U44,AE44:AV44)<>0,TRUE,FALSE)","v":false}]
["単式蒸留焼酎","輸出数量","大韓民国",{"$f":"IF(ISBLANK(D9),\"\",D9)","v":""}]
[null,null,"中華人民共和国",""]
[null,null,"台湾",""]
[null,null,"香港",""]
[null,null,"ベトナム",""]
[null,null,"タイ",""]
[null,null,"シンガポール",""]
[null,null,"マレーシア",""]
[null,null,"インド",{"$f":"IF(ISBLANK(D17),\"\",D17)","v":""}]
[null,null,"マカオ",""]
[null,null,"その他",""]
[null,null,"不明"]
[null,null,"英国",{"$f":"IF(ISBLANK(D20),\"\",D20)","v":""}]
[null,null,"オランダ",{"$f":"IF(ISBLANK(D21),\"\",D21)","v":""}]
[null,null,"フランス",{"$f":"IF(ISBLANK(D22),\"\",D22)","v":""}]
[null,null,"ドイツ",{"$f":"IF(ISBLANK(D23),\"\",D23)","v":""}]
[null,null,"イタリア",{"$f":"IF(ISBLANK(D24),\"\",D24)","v":""}]
[null,null,"その他",{"$f":"IF(ISBLANK(D27),\"\",D27)","v":""}]
[null,null,"不明"]
[null,null,"ロシア",{"$f":"IF(ISBLANK(D28),\"\",D28)","v":""}]
[null,null,"その他",{"$f":"IF(ISBLANK(D29),\"\",D29)","v":""}]
[null,null,"カナダ",{"$f":"IF(ISBLANK(D30),\"\",D30)","v":""}]
[null,null,"アメリカ合衆国",{"$f":"IF(ISBLANK(D31),\"\",D31)","v":""}]
[null,null,"その他",{"$f":"IF(ISBLANK(D32),\"\",D32)","v":""}]
[null,null,"不明"]
[null,null,"メキシコ",{"$f":"IF(ISBLANK(D33),\"\",D33)","v":""}]
[null,null,"ペルー",{"$f":"IF(ISBLANK(D34),\"\",D34)","v":""}]
[null,null,"チリ",{"$f":"IF(ISBLANK(D35),\"\",D35)","v":""}]
[null,null,"ブラジル",{"$f":"IF(ISBLANK(D36),\"\",D36)","v":""}]
[null,null,"その他",{"$f":"IF(ISBLANK(D38),\"\",D38)","v":""}]
[null,null,"不明"]
[null,null,"オーストラリア",{"$f":"IF(ISBLANK(D39),\"\",D39)","v":""}]
[null,null,"ニュージーランド",{"$f":"IF(ISBLANK(D40),\"\",D40)","v":""}]
[null,null,"その他",{"$f":"IF(ISBLANK(D41),\"\",D41)","v":""}]
[null,null,"不明"]
[null,null,"中東",{"$f":"IF(ISBLANK(D42),\"\",D42)","v":""}]
[null,null,"アフリカ",""]
[null,null,"合計",""]
["単式蒸留焼酎","輸出金額","大韓民国",{"$f":"IF(ISBLANK(M9),\"\",M9)","v":""}]
[null,null,"中華人民共和国",""]
[null,null,"台湾",""]
[null,null,"香港",""]
[null,null,"ベトナム",""]
[null,null,"タイ",""]
[null,null,"シンガポール",""]
[null,null,"マレーシア",""]
[null,null,"インド",""]
[null,null,"マカオ",""]
[null,null,"その他",""]
[null,null,"不明"]
[null,null,"英国",{"$f":"IF(ISBLANK(M20),\"\",M20)","v":""}]
[null,null,"オランダ",{"$f":"IF(ISBLANK(M21),\"\",M21)","v":""}]
[null,null,"フランス",{"$f":"IF(ISBLANK(M22),\"\",M22)","v":""}]
[null,null,"ドイツ",{"$f":"IF(ISBLANK(M23),\"\",M23)","v":""}]
[null,null,"イタリア",{"$f":"IF(ISBLANK(M24),\"\",M24)","v":""}]
[null,null,"その他",{"$f":"IF(ISBLANK(M27),\"\",M27)","v":""}]
[null,null,"不明"]
[null,null,"ロシア",{"$f":"IF(ISBLANK(M28),\"\",M28)","v":""}]
[null,null,"その他",{"$f":"IF(ISBLANK(M29),\"\",M29)","v":""}]
[null,null,"カナダ",{"$f":"IF(ISBLANK(M30),\"\",M30)","v":""}]
[null,null,"アメリカ合衆国",{"$f":"IF(ISBLANK(M31),\"\",M31)","v":""}]
[null,null,"その他",{"$f":"IF(ISBLANK(M32),\"\",M32)","v":""}]
[null,null,"不明"]
[null,null,"メキシコ",{"$f":"IF(ISBLANK(M33),\"\",M33)","v":""}]
[null,null,"ペルー",{"$f":"IF(ISBLANK(M34),\"\",M34)","v":""}]
[null,null,"チリ",{"$f":"IF(ISBLANK(M35),\"\",M35)","v":""}]
[null,null,"ブラジル",{"$f":"IF(ISBLANK(M36),\"\",M36)","v":""}]
[null,null,"その他",{"$f":"IF(ISBLANK(M38),\"\",M38)","v":""}]
[null,null,"不明"]
[null,null,"オーストラリア",{"$f":"IF(ISBLANK(M39),\"\",M39)","v":""}]
[null,null,"ニュージーランド",{"$f":"IF(ISBLANK(M40),\"\",M40)","v":""}]
[null,null,"その他",{"$f":"IF(ISBLANK(M41),\"\",M41)","v":""}]
[null,null,"不明"]
[null,null,"中東",{"$f":"IF(ISBLANK(M42),\"\",M42)","v":""}]
[null,null,"アフリカ",""]
[null,null,"合計",""]
["ビール・発泡酒","輸出数量","大韓民国",{"$f":"IF(ISBLANK(AE9),\"\",AE9)","v":""}]
[null,null,"中華人民共和国",""]
[null,null,"台湾",""]
[null,null,"香港",""]
[null,null,"ベトナム",""]
[null,null,"タイ",""]
[null,null,"シンガポール",""]
[null,null,"マレーシア",""]
[null,null,"インド",""]
[null,null,"マカオ",""]
[null,null,"その他",""]
[null,null,"不明"]
[null,null,"英国",{"$f":"IF(ISBLANK(AE20),\"\",AE20)","v":""}]
[null,null,"オランダ",{"$f":"IF(ISBLANK(AE21),\"\",AE21)","v":""}]
[null,null,"フランス",{"$f":"IF(ISBLANK(AE22),\"\",AE22)","v":""}]
[null,null,"ドイツ",{"$f":"IF(ISBLANK(AE23),\"\",AE23)","v":""}]
[null,null,"イタリア",{"$f":"IF(ISBLANK(AE24),\"\",AE24)","v":""}]
[null,null,"その他",{"$f":"IF(ISBLANK(AE27),\"\",AE27)","v":""}]
[null,null,"不明"]
[null,null,"ロシア",{"$f":"IF(ISBLANK(AE28),\"\",AE28)","v":""}]
[null,null,"その他",{"$f":"IF(ISBLANK(AE29),\"\",AE29)","v":""}]
[null,null,"カナダ",{"$f":"IF(ISBLANK(AE30),\"\",AE30)","v":""}]
[null,null,"アメリカ合衆国",{"$f":"IF(ISBLANK(AE31),\"\",AE31)","v":""}]
[null,null,"その他",{"$f":"IF(ISBLANK(AE32),\"\",AE32)","v":""}]
[null,null,"不明"]
[null,null,"メキシコ",{"$f":"IF(ISBLANK(AE33),\"\",AE33)","v":""}]
[null,null,"ペルー",{"$f":"IF(ISBLANK(AE34),\"\",AE34)","v":""}]
[null,null,"チリ",{"$f":"IF(ISBLANK(AE35),\"\",AE35)","v":""}]
[null,null,"ブラジル",{"$f":"IF(ISBLANK(AE36),\"\",AE36)","v":""}]
[null,null,"その他",{"$f":"IF(ISBLANK(AE38),\"\",AE38)","v":""}]
[null,null,"不明"]
[null,null,"オーストラリア",{"$f":"IF(ISBLANK(AE39),\"\",AE39)","v":""}]
[null,null,"ニュージーランド",{"$f":"IF(ISBLANK(AE40),\"\",AE40)","v":""}]
[null,null,"その他",{"$f":"IF(ISBLANK(AE41),\"\",AE41)","v":""}]
[null,null,"不明"]
[null,null,"中東",{"$f":"IF(ISBLANK(AE42),\"\",AE42)","v":""}]
[null,null,"アフリカ",""]
[null,null,"合計",""]
["ビール・発泡酒","輸出金額","大韓民国",{"$f":"IF(ISBLANK(AN9),\"\",AN9)","v":""}]
[null,null,"中華人民共和国",""]
[null,null,"台湾",""]
[null,null,"香港",""]
[null,null,"ベトナム",""]
[null,null,"タイ",""]
[null,null,"シンガポール",""]
[null,null,"マレーシア",""]
[null,null,"インド",""]
[null,null,"マカオ",""]
[null,null,"その他",""]
[null,null,"不明"]
[null,null,"英国",{"$f":"IF(ISBLANK(AN20),\"\",AN20)","v":""}]
[null,null,"オランダ",{"$f":"IF(ISBLANK(AN21),\"\",AN21)","v":""}]
[null,null,"フランス",{"$f":"IF(ISBLANK(AN22),\"\",AN22)","v":""}]
[null,null,"ドイツ",{"$f":"IF(ISBLANK(AN23),\"\",AN23)","v":""}]
[null,null,"イタリア",{"$f":"IF(ISBLANK(AN24),\"\",AN24)","v":""}]
[null,null,"その他",{"$f":"IF(ISBLANK(AN27),\"\",AN27)","v":""}]
[null,null,"不明"]
[null,null,"ロシア",{"$f":"IF(ISBLANK(AN28),\"\",AN28)","v":""}]
[null,null,"その他",{"$f":"IF(ISBLANK(AN29),\"\",AN29)","v":""}]
[null,null,"カナダ",{"$f":"IF(ISBLANK(AN30),\"\",AN30)","v":""}]
[null,null,"アメリカ合衆国",{"$f":"IF(ISBLANK(AN31),\"\",AN31)","v":""}]
[null,null,"その他",{"$f":"IF(ISBLANK(AN32),\"\",AN32)","v":""}]
[null,null,"不明"]
[null,null,"メキシコ",{"$f":"IF(ISBLANK(AN33),\"\",AN33)","v":""}]
[null,null,"ペルー",{"$f":"IF(ISBLANK(AN34),\"\",AN34)","v":""}]
[null,null,"チリ",{"$f":"IF(ISBLANK(AN35),\"\",AN35)","v":""}]
[null,null,"ブラジル",{"$f":"IF(ISBLANK(AN36),\"\",AN36)","v":""}]
[null,null,"その他",{"$f":"IF(ISBLANK(AN38),\"\",AN38)","v":""}]
[null,null,"不明"]
[null,null,"オーストラリア",{"$f":"IF(ISBLANK(AN39),\"\",AN39)","v":""}]
[null,null,"ニュージーランド",{"$f":"IF(ISBLANK(AN40),\"\",AN40)","v":""}]
[null,null,"その他",{"$f":"IF(ISBLANK(AN41),\"\",AN41)","v":""}]
[null,null,"不明"]
[null,null,"中東",{"$f":"IF(ISBLANK(AN42),\"\",AN42)","v":""}]
[null,null,"アフリカ",""]
[null,null,"合計",""]
["単式蒸留焼酎","輸出数量","スペイン",{"$f":"IF(ISBLANK(D25),\"\",D25)","v":""}]
[null,null,"アイルランド",{"$f":"IF(ISBLANK(D26),\"\",D26)","v":""}]
[null,null,"アルゼンチン",{"$f":"IF(ISBLANK(D37),\"\",D37)","v":""}]
[null,"輸出金額","スペイン",{"$f":"IF(ISBLANK(M25),\"\",M25)","v":""}]
[null,null,"アイルランド",{"$f":"IF(ISBLANK(M26),\"\",M26)","v":""}]
[null,null,"アルゼンチン",{"$f":"IF(ISBLANK(M37),\"\",M37)","v":""}]
["ビール・発泡酒","輸出数量","スペイン",{"$f":"IF(ISBLANK(AE25),\"\",AE25)","v":""}]
[null,null,"アイルランド",{"$f":"IF(ISBLANK(AE26),\"\",AE26)","v":""}]
[null,null,"アルゼンチン",{"$f":"IF(ISBLANK(AE37),\"\",AE37)","v":""}]
[null,"輸出金額","スペイン",{"$f":"IF(ISBLANK(AN25),\"\",AN25)","v":""}]
[null,null,"アイルランド",{"$f":"IF(ISBLANK(AN26),\"\",AN26)","v":""}]
[null,null,"アルゼンチン",{"$f":"IF(ISBLANK(AN37),\"\",AN37)","v":""}]

{"sheet":"E","index":6,"n_rows":211,"n_cols":47,"rows_kept":211,"cut":false,"hidden":true,"merged":[[199,0,204,0],[199,1,201,1],[202,1,204,1],[205,0,210,0],[205,1,207,1],[208,1,210,1],[46,0,46,2],[47,0,84,0],[47,1,84,1],[85,0,122,0],[85,1,122,1],[123,0,160,0],[123,1,160,1],[43,39,43,47],[41,39,41,47],[42,0,42,2],[42,3,42,11],[42,12,42,20],[42,23,42,29],[42,30,42,38],[42,39,42,47],[161,0,198,0],[161,1,198,1],[41,0,41,2],[41,3,41,11],[41,12,41,20],[41,23,41,29],[41,30,41,38],[38,0,40,0],[43,0,43,2],[43,3,43,11],[43,12,43,20],[43,23,43,29],[43,30,43,38],[36,25,36,29],[36,30,36,38],[36,39,36,47],[38,30,38,38],[38,39,38,47],[39,3,39,11],[39,12,39,20],[39,25,39,29],[39,30,39,38],[39,39,39,47],[37,3,37,11],[37,12,37,20],[37,25,37,29],[37,30,37,38],[37,39,37,47],[38,3,38,11],[38,12,38,20],[38,23,40,23],[38,25,38,29],[40,3,40,11],[40,12,40,20],[40,25,40,29],[40,30,40,38],[40,39,40,47],[32,0,37,0],[32,3,32,11],[32,12,32,20],[32,23,37,23],[32,25,32,29],[32,30,32,38],[32,39,32,47],[33,3,33,11],[33,12,33,20],[33,25,33,29],[33,30,33,38],[33,39,33,47],[34,3,34,11],[34,12,34,20],[34,25,34,29],[34,30,34,38],[34,39,34,47],[35,3,35,11],[35,12,35,20],[35,25,35,29],[35,30,35,38],[35,39,35,47],[36,3,36,11],[36,12,36,20],[29,39,29,47],[30,3,30,11],[30,12,30,20],[30,25,30,29],[30,30,30,38],[30,39,30,47],[31,39,31,47],[29,0,31,0],[29,3,29,11],[29,12,29,20],[29,23,31,23],[29,25,29,29],[29,30,29,38],[31,3,31,11],[31,12,31,20],[31,25,31,29],[31,30,31,38],[27,39,27,47],[28,3,28,11],[28,12,28,20],[28,25,28,29],[28,30,28,38],[28,39,28,47],[27,0,28,0],[27,3,27,11],[27,12,27,20],[27,23,28,23],[27,25,27,29],[27,30,27,38],[24,39,24,47],[25,3,25,11],[25,12,25,20],[25,25,25,29],[25,30,25,38],[25,39,25,47],[26,3,26,11],[26,12,26,20],[26,25,26,29],[26,30,26,38],[26,39,26,47],[21,39,21,47],[22,3,22,11],[22,12,22,20],[22,25,22,29],[22,30,22,38],[22,39,22,47],[23,3,23,11],[23,12,23,20],[23,25,23,29],[23,30,23,38],[23,39,23,47],[19,39,19,47],[20,3,20,11],[20,12,20,20],[20,25,20,29],[20,30,20,38],[20,39,20,47],[18,3,18,11],[18,12,18,20],[18,25,18,29],[18,30,18,38],[18,39,18,47],[19,0,26,0],[19,3,19,11],[19,12,19,20],[19,23,26,23],[19,25,19,29],[16,3,16,11],[16,12,16,20],[16,25,16,29],[16,30,16,38],[8,0,18,0],[19,30,19,38],[21,3,21,11],[21,12,21,20],[21,25,21,29],[21,30,21,38],[24,3,24,11],[24,12,24,20],[24,25,24,29],[24,30,24,38],[16,39,16,47],[17,3,17,11],[17,12,17,20],[17,25,17,29],[17,30,17,38],[17,39,17,47],[14,3,14,11],[14,12,14,20],[14,25,14,29],[14,30,14,38],[14,39,14,47],[15,3,15,11],[15,12,15,20],[15,25,15,29],[15,30,15,38],[15,39,15,47],[11,39,11,47],[12,3,12,11],[12,12,12,20],[12,25,12,29],[12,30,12,38],[12,39,12,47],[13,3,13,11],[13,12,13,20],[13,25,13,29],[13,30,13,38],[13,39,13,47],[8,39,8,47],[9,3,9,11],[9,12,9,20],[9,25,9,29],[9,30,9,38],[9,39,9,47],[7,31,7,36],[7,37,7,38],[7,40,7,45],[7,46,7,47],[8,3,8,11],[8,12,8,20],[8,23,18,23],[8,25,8,29],[8,30,8,38],[10,3,10,11],[10,12,10,20],[10,25,10,29],[10,30,10,38],[10,39,10,47],[11,3,11,11],[11,12,11,20],[11,25,11,29],[11,30,11,38],[0,10,0,29],[1,10,1,29],[3,0,3,47],[4,0,4,47],[5,0,5,47],[7,4,7,9],[7,10,7,11],[7,13,7,18],[7,19,7,20],[7,25,7,29]]}
["令和６年調査 酒類業実態調査表Ｃ３",null,null,null,null,null,null,null,null,null,"調査対象期間"]
[null,null,null,null,null,null,null,null,null,null,{"$f":"IF(A!C35=TRUE,\"事業年度（調査表Ｂで選択しているため）\",\"暦年（令和５年１月１日から令和５年12月31日）\")","v":"暦年（令和５年１月１日から令和５年12月31日）"}]
[]
["３　「ウイスキー」又は「日本ワイン」の輸出取引について、調査対象期間における「輸出数量」及び「輸出金額」の合計を記入してください。"]
["　　「輸出取引」に該当するか否かは、「令和６年酒類業実態調査の手引き」の別紙３「輸出取引パターンフローチャート」及び別紙４「輸出取引のパターン分け」を参照してください。"]
[" 酒類製造者等と卸売業者の両方に該当する場合は、酒類製造者等としての取引と卸売業者としての取引を区分の上、それぞれの調査表に記入してください。"]
["○　ウイスキー",null,null,null,null,null,null,null,null,null,null,null,null,null,null,null,null,null,null,null,null,null,null,"○　日本ワイン"]
["地理圏","国番号","国・地域名",129,"輸出数量",null,null,null,null,null,"（ﾘｯﾄﾙ）",null,130,"輸出金額",null,null,null,null,null,"（千円）",null,null,null,"地理圏","国番号","国・地域名",null,null,null,null,131,"輸出数量",null,null,null,null,null,"（ﾘｯﾄﾙ）",null,132,"輸出金額",null,null,null,null,null,"（千円）"]
["アジア",103,"大韓民国",null,null,null,null,null,null,null,null,null,null,null,null,null,null,null,null,null,null,null,null,"アジア",103,"大韓民国"]
[null,105,"中華人民共和国",null,null,null,null,null,null,null,null,null,null,null,null,null,null,null,null,null,null,null,null,null,105,"中華人民共和国"]
[null,106,"台湾",null,null,null,null,null,null,null,null,null,null,null,null,null,null,null,null,null,null,null,null,null,106,"台湾"]
[null,108,"香港",null,null,null,null,null,null,null,null,null,null,null,null,null,null,null,null,null,null,null,null,null,108,"香港"]
[null,110,"ベトナム",null,null,null,null,null,null,null,null,null,null,null,null,null,null,null,null,null,null,null,null,null,110,"ベトナム"]
[null,111,"タイ",null,null,null,null,null,null,null,null,null,null,null,null,null,null,null,null,null,null,null,null,null,111,"タイ"]
[null,112,"シンガポール",null,null,null,null,null,null,null,null,null,null,null,null,null,null,null,null,null,null,null,null,null,112,"シンガポール"]
[null,113,"マレーシア",null,null,null,null,null,null,null,null,null,null,null,null,null,null,null,null,null,null,null,null,null,113,"マレーシア"]
[null,123,"インド",null,null,null,null,null,null,null,null,null,null,null,null,null,null,null,null,null,null,null,null,null,123,"インド"]
[null,129,"マカオ",null,null,null,null,null,null,null,null,null,null,null,null,null,null,null,null,null,null,null,null,null,129,"マカオ"]
[null,null,"その他・不明",null,null,null,null,null,null,null,null,null,null,null,null,null,null,null,null,null,null,null,null,null,null,"その他・不明"]
["西欧",205,"英国",null,null,null,null,null,null,null,null,null,null,null,null,null,null,null,null,null,null,null,null,"西欧",205,"英国"]
[null,207,"オランダ",null,null,null,null,null,null,null,null,null,null,null,null,null,null,null,null,null,null,null,null,null,207,"オランダ"]
[null,210,"フランス",null,null,null,null,null,null,null,null,null,null,null,null,null,null,null,null,null,null,null,null,null,210,"フランス"]
[null,213,"ドイツ",null,null,null,null,null,null,null,null,null,null,null,null,null,null,null,null,null,null,null,null,null,213,"ドイツ"]
[null,220,"イタリア",null,null,null,null,null,null,null,null,null,null,null,null,null,null,null,null,null,null,null,null,null,220,"イタリア"]
[null,206,"スペイン",null,null,null,null,null,null,null,null,null,null,null,null,null,null,null,null,null,null,null,null,null,206,"スペイン"]
[null,218,"アイルランド",null,null,null,null,null,null,null,null,null,null,null,null,null,null,null,null,null,null,null,null,null,218,"アイルランド"]
[null,null,"その他・不明",null,null,null,null,null,null,null,null,null,null,null,null,null,null,null,null,null,null,null,null,null,null,"その他・不明"]
["中東欧・ロシア等",224,"ロシア",null,null,null,null,null,null,null,null,null,null,null,null,null,null,null,null,null,null,null,null,"中東欧・ロシア等",224,"ロシア"]
[null,null,"その他・不明",null,null,null,null,null,null,null,null,null,null,null,null,null,null,null,null,null,null,null,null,null,null,"その他・不明"]
["北米",302,"カナダ",null,null,null,null,null,null,null,null,null,null,null,null,null,null,null,null,null,null,null,null,"北米",302,"カナダ"]
[null,304,"アメリカ合衆国",null,null,null,null,null,null,null,null,null,null,null,null,null,null,null,null,null,null,null,null,null,304,"アメリカ合衆国"]
[null,null,"その他・不明",null,null,null,null,null,null,null,null,null,null,null,null,null,null,null,null,null,null,null,null,null,null,"その他・不明"]
["中南米",305,"メキシコ",null,null,null,null,null,null,null,null,null,null,null,null,null,null,null,null,null,null,null,null,"中南米",305,"メキシコ"]
[null,407,"ペルー",null,null,null,null,null,null,null,null,null,null,null,null,null,null,null,null,null,null,null,null,null,407,"ペルー"]
[null,409,"チリ",null,null,null,null,null,null,null,null,null,null,null,null,null,null,null,null,null,null,null,null,null,409,"チリ"]
[null,410,"ブラジル",null,null,null,null,null,null,null,null,null,null,null,null,null,null,null,null,null,null,null,null,null,410,"ブラジル"]
[null,413,"アルゼンチン",null,null,null,null,null,null,null,null,null,null,null,null,null,null,null,null,null,null,null,null,null,413,"アルゼンチン"]
[null,null,"その他・不明",null,null,null,null,null,null,null,null,null,null,null,null,null,null,null,null,null,null,null,null,null,null,"その他・不明"]
["大洋州",601,"オーストラリア",null,null,null,null,null,null,null,null,null,null,null,null,null,null,null,null,null,null,null,null,"大洋州",601,"オーストラリア"]
[null,606,"ニュージーランド",null,null,null,null,null,null,null,null,null,null,null,null,null,null,null,null,null,null,null,null,null,606,"ニュージーランド"]
[null,null,"その他・不明",null,null,null,null,null,null,null,null,null,null,null,null,null,null,null,null,null,null,null,null,null,null,"その他・不明"]
["中東",null,null,null,null,null,null,null,null,null,null,null,null,null,null,null,null,null,null,null,null,null,null,"中東"]
["アフリカ",null,null,null,null,null,null,null,null,null,null,null,null,null,null,null,null,null,null,null,null,null,null,"アフリカ"]
["合計",null,null,{"$f":"IF(SUM(D9:L43)=0,\"\",SUM(D9:L43))","v":""},null,null,null,null,null,null,null,null,{"$f":"IF(SUM(M9:U43)=0,\"\",SUM(M9:U43))","v":""},null,null,null,null,null,null,null,null,null,null,"合計",null,null,null,null,null,null,{"$f":"IF(SUM(AE9:AM43)=0,\"\",SUM(AE9:AM43))","v":""},null,null,null,null,null,null,null,null,{"$f":"IF(SUM(AN9:AV43)=0,\"\",SUM(AN9:AV43))","v":""}]
[]
[]
["入力判定",null,null,{"$f":"IF(SUM(D44:U44,AE44:AV44)<>0,TRUE,FALSE)","v":false}]
["ウイスキー","輸出数量","大韓民国",{"$f":"IF(ISBLANK(D9),\"\",D9)","v":""}]
[null,null,"中華人民共和国",""]
[null,null,"台湾",""]
[null,null,"香港",""]
[null,null,"ベトナム",""]
[null,null,"タイ",""]
[null,null,"シンガポール",""]
[null,null,"マレーシア",""]
[null,null,"インド",""]
[null,null,"マカオ",""]
[null,null,"その他",""]
[null,null,"不明"]
[null,null,"英国",{"$f":"IF(ISBLANK(D20),\"\",D20)","v":""}]
[null,null,"オランダ",{"$f":"IF(ISBLANK(D21),\"\",D21)","v":""}]
[null,null,"フランス",{"$f":"IF(ISBLANK(D22),\"\",D22)","v":""}]
[null,null,"ドイツ",{"$f":"IF(ISBLANK(D23),\"\",D23)","v":""}]
[null,null,"イタリア",{"$f":"IF(ISBLANK(D24),\"\",D24)","v":""}]
[null,null,"その他",{"$f":"IF(ISBLANK(D27),\"\",D27)","v":""}]
[null,null,"不明"]
[null,null,"ロシア",{"$f":"IF(ISBLANK(D28),\"\",D28)","v":""}]
[null,null,"その他",{"$f":"IF(ISBLANK(D29),\"\",D29)","v":""}]
[null,null,"カナダ",{"$f":"IF(ISBLANK(D30),\"\",D30)","v":""}]
[null,null,"アメリカ合衆国",{"$f":"IF(ISBLANK(D31),\"\",D31)","v":""}]
[null,null,"その他",{"$f":"IF(ISBLANK(D32),\"\",D32)","v":""}]
[null,null,"不明"]
[null,null,"メキシコ",{"$f":"IF(ISBLANK(D33),\"\",D33)","v":""}]
[null,null,"ペルー",{"$f":"IF(ISBLANK(D34),\"\",D34)","v":""}]
[null,null,"チリ",{"$f":"IF(ISBLANK(D35),\"\",D35)","v":""}]
[null,null,"ブラジル",{"$f":"IF(ISBLANK(D36),\"\",D36)","v":""}]
[null,null,"その他",{"$f":"IF(ISBLANK(D38),\"\",D38)","v":""}]
[null,null,"不明"]
[null,null,"オーストラリア",{"$f":"IF(ISBLANK(D39),\"\",D39)","v":""}]
[null,null,"ニュージーランド",{"$f":"IF(ISBLANK(D40),\"\",D40)","v":""}]
[null,null,"その他",{"$f":"IF(ISBLANK(D41),\"\",D41)","v":""}]
[null,null,"不明"]
[null,null,"中東",{"$f":"IF(ISBLANK(D42),\"\",D42)","v":""}]
[null,null,"アフリカ",""]
[null,null,"合計",""]
["ウイスキー","輸出金額","大韓民国",{"$f":"IF(ISBLANK(M9),\"\",M9)","v":""}]
[null,null,"中華人民共和国",""]
[null,null,"台湾",""]
[null,null,"香港",""]
[null,null,"ベトナム",""]
[null,null,"タイ",""]
[null,null,"シンガポール",""]
[null,null,"マレーシア",""]
[null,null,"インド",""]
[null,null,"マカオ",""]
[null,null,"その他",""]
[null,null,"不明"]
[null,null,"英国",{"$f":"IF(ISBLANK(M20),\"\",M20)","v":""}]
[null,null,"オランダ",{"$f":"IF(ISBLANK(M21),\"\",M21)","v":""}]
[null,null,"フランス",{"$f":"IF(ISBLANK(M22),\"\",M22)","v":""}]
[null,null,"ドイツ",{"$f":"IF(ISBLANK(M23),\"\",M23)","v":""}]
[null,null,"イタリア",{"$f":"IF(ISBLANK(M24),\"\",M24)","v":""}]
[null,null,"その他",{"$f":"IF(ISBLANK(M27),\"\",M27)","v":""}]
[null,null,"不明"]
[null,null,"ロシア",{"$f":"IF(ISBLANK(M28),\"\",M28)","v":""}]
[null,null,"その他",{"$f":"IF(ISBLANK(M29),\"\",M29)","v":""}]
[null,null,"カナダ",{"$f":"IF(ISBLANK(M30),\"\",M30)","v":""}]
[null,null,"アメリカ合衆国",{"$f":"IF(ISBLANK(M31),\"\",M31)","v":""}]
[null,null,"その他",{"$f":"IF(ISBLANK(M32),\"\",M32)","v":""}]
[null,null,"不明"]
[null,null,"メキシコ",{"$f":"IF(ISBLANK(M33),\"\",M33)","v":""}]
[null,null,"ペルー",{"$f":"IF(ISBLANK(M34),\"\",M34)","v":""}]
[null,null,"チリ",{"$f":"IF(ISBLANK(M35),\"\",M35)","v":""}]
[null,null,"ブラジル",{"$f":"IF(ISBLANK(M36),\"\",M36)","v":""}]
[null,null,"その他",{"$f":"IF(ISBLANK(M38),\"\",M38)","v":""}]
[null,null,"不明"]
[null,null,"オーストラリア",{"$f":"IF(ISBLANK(M39),\"\",M39)","v":""}]
[null,null,"ニュージーランド",{"$f":"IF(ISBLANK(M40),\"\",M40)","v":""}]
[null,null,"その他",{"$f":"IF(ISBLANK(M41),\"\",M41)","v":""}]
[null,null,"不明"]
[null,null,"中東",{"$f":"IF(ISBLANK(M42),\"\",M42)","v":""}]
[null,null,"アフリカ",""]
[null,null,"合計",""]
["日本ワイン","輸出数量","大韓民国",{"$f":"IF(ISBLANK(AE9),\"\",AE9)","v":""}]
[null,null,"中華人民共和国",""]
[null,null,"台湾",""]
[null,null,"香港",""]
[null,null,"ベトナム",""]
[null,null,"タイ",""]
[null,null,"シンガポール",""]
[null,null,"マレーシア",""]
[null,null,"インド",""]
[null,null,"マカオ",""]
[null,null,"その他",""]
[null,null,"不明"]
[null,null,"英国",{"$f":"IF(ISBLANK(AE20),\"\",AE20)","v":""}]
[null,null,"オランダ",{"$f":"IF(ISBLANK(AE21),\"\",AE21)","v":""}]
[null,null,"フランス",{"$f":"IF(ISBLANK(AE22),\"\",AE22)","v":""}]
[null,null,"ドイツ",{"$f":"IF(ISBLANK(AE23),\"\",AE23)","v":""}]
[null,null,"イタリア",{"$f":"IF(ISBLANK(AE24),\"\",AE24)","v":""}]
[null,null,"その他",{"$f":"IF(ISBLANK(AE27),\"\",AE27)","v":""}]
[null,null,"不明"]
[null,null,"ロシア",{"$f":"IF(ISBLANK(AE28),\"\",AE28)","v":""}]
[null,null,"その他",{"$f":"IF(ISBLANK(AE29),\"\",AE29)","v":""}]
[null,null,"カナダ",{"$f":"IF(ISBLANK(AE30),\"\",AE30)","v":""}]
[null,null,"アメリカ合衆国",{"$f":"IF(ISBLANK(AE31),\"\",AE31)","v":""}]
[null,null,"その他",{"$f":"IF(ISBLANK(AE32),\"\",AE32)","v":""}]
[null,null,"不明"]
[null,null,"メキシコ",{"$f":"IF(ISBLANK(AE33),\"\",AE33)","v":""}]
[null,null,"ペルー",{"$f":"IF(ISBLANK(AE34),\"\",AE34)","v":""}]
[null,null,"チリ",{"$f":"IF(ISBLANK(AE35),\"\",AE35)","v":""}]
[null,null,"ブラジル",{"$f":"IF(ISBLANK(AE36),\"\",AE36)","v":""}]
[null,null,"その他",{"$f":"IF(ISBLANK(AE38),\"\",AE38)","v":""}]
[null,null,"不明"]
[null,null,"オーストラリア",{"$f":"IF(ISBLANK(AE39),\"\",AE39)","v":""}]
[null,null,"ニュージーランド",{"$f":"IF(ISBLANK(AE40),\"\",AE40)","v":""}]
[null,null,"その他",{"$f":"IF(ISBLANK(AE41),\"\",AE41)","v":""}]
[null,null,"不明"]
[null,null,"中東",{"$f":"IF(ISBLANK(AE42),\"\",AE42)","v":""}]
[null,null,"アフリカ",""]
[null,null,"合計",""]
["日本ワイン","輸出金額","大韓民国",{"$f":"IF(ISBLANK(AN9),\"\",AN9)","v":""}]
[null,null,"中華人民共和国",""]
[null,null,"台湾",""]
[null,null,"香港",""]
[null,null,"ベトナム",""]
[null,null,"タイ",""]
[null,null,"シンガポール",""]
[null,null,"マレーシア",""]
[null,null,"インド",""]
[null,null,"マカオ",""]
[null,null,"その他",""]
[null,null,"不明"]
[null,null,"英国",{"$f":"IF(ISBLANK(AN20),\"\",AN20)","v":""}]
[null,null,"オランダ",{"$f":"IF(ISBLANK(AN21),\"\",AN21)","v":""}]
[null,null,"フランス",{"$f":"IF(ISBLANK(AN22),\"\",AN22)","v":""}]
[null,null,"ドイツ",{"$f":"IF(ISBLANK(AN23),\"\",AN23)","v":""}]
[null,null,"イタリア",{"$f":"IF(ISBLANK(AN24),\"\",AN24)","v":""}]
[null,null,"その他",{"$f":"IF(ISBLANK(AN27),\"\",AN27)","v":""}]
[null,null,"不明"]
[null,null,"ロシア",{"$f":"IF(ISBLANK(AN28),\"\",AN28)","v":""}]
[null,null,"その他",{"$f":"IF(ISBLANK(AN29),\"\",AN29)","v":""}]
[null,null,"カナダ",{"$f":"IF(ISBLANK(AN30),\"\",AN30)","v":""}]
[null,null,"アメリカ合衆国",{"$f":"IF(ISBLANK(AN31),\"\",AN31)","v":""}]
[null,null,"その他",{"$f":"IF(ISBLANK(AN32),\"\",AN32)","v":""}]
[null,null,"不明"]
[null,null,"メキシコ",{"$f":"IF(ISBLANK(AN33),\"\",AN33)","v":""}]
[null,null,"ペルー",{"$f":"IF(ISBLANK(AN34),\"\",AN34)","v":""}]
[null,null,"チリ",{"$f":"IF(ISBLANK(AN35),\"\",AN35)","v":""}]
[null,null,"ブラジル",{"$f":"IF(ISBLANK(AN36),\"\",AN36)","v":""}]
[null,null,"その他",{"$f":"IF(ISBLANK(AN38),\"\",AN38)","v":""}]
[null,null,"不明"]
[null,null,"オーストラリア",{"$f":"IF(ISBLANK(AN39),\"\",AN39)","v":""}]
[null,null,"ニュージーランド",{"$f":"IF(ISBLANK(AN40),\"\",AN40)","v":""}]
[null,null,"その他",{"$f":"IF(ISBLANK(AN41),\"\",AN41)","v":""}]
[null,null,"不明"]
[null,null,"中東",{"$f":"IF(ISBLANK(AN42),\"\",AN42)","v":""}]
[null,null,"アフリカ",""]
[null,null,"合計",""]
["ウイスキー","輸出数量","スペイン",{"$f":"IF(ISBLANK(D25),\"\",D25)","v":""}]
[null,null,"アイルランド",{"$f":"IF(ISBLANK(D26),\"\",D26)","v":""}]
[null,null,"アルゼンチン",{"$f":"IF(ISBLANK(D37),\"\",D37)","v":""}]
[null,"輸出金額","スペイン",{"$f":"IF(ISBLANK(M25),\"\",M25)","v":""}]
[null,null,"アイルランド",{"$f":"IF(ISBLANK(M26),\"\",M26)","v":""}]
[null,null,"アルゼンチン",{"$f":"IF(ISBLANK(M37),\"\",M37)","v":""}]
["日本ワイン","輸出数量","スペイン",{"$f":"IF(ISBLANK(AE25),\"\",AE25)","v":""}]
[null,null,"アイルランド",{"$f":"IF(ISBLANK(AE26),\"\",AE26)","v":""}]
[null,null,"アルゼンチン",{"$f":"IF(ISBLANK(AE37),\"\",AE37)","v":""}]
[null,"輸出金額","スペイン",{"$f":"IF(ISBLANK(AN25),\"\",AN25)","v":""}]
[null,null,"アイルランド",{"$f":"IF(ISBLANK(AN26),\"\",AN26)","v":""}]
[null,null,"アルゼンチン",{"$f":"IF(ISBLANK(AN37),\"\",AN37)","v":""}]

{"sheet":"F","index":7,"n_rows":211,"n_cols":47,"rows_kept":211,"cut":false,"hidden":true,"merged":[[199,0,204,0],[199,1,201,1],[202,1,204,1],[205,0,210,0],[205,1,207,1],[208,1,210,1],[46,0,46,2],[47,0,84,0],[47,1,84,1],[85,0,122,0],[85,1,122,1],[123,0,160,0],[123,1,160,1],[43,39,43,47],[41,39,41,47],[42,0,42,2],[42,3,42,11],[42,12,42,20],[42,23,42,29],[42,30,42,38],[42,39,42,47],[161,0,198,0],[161,1,198,1],[41,0,41,2],[41,3,41,11],[41,12,41,20],[41,23,41,29],[41,30,41,38],[38,0,40,0],[43,0,43,2],[43,3,43,11],[43,12,43,20],[43,23,43,29],[43,30,43,38],[36,25,36,29],[36,30,36,38],[36,39,36,47],[38,30,38,38],[38,39,38,47],[39,3,39,11],[39,12,39,20],[39,25,39,29],[39,30,39,38],[39,39,39,47],[37,3,37,11],[37,12,37,20],[37,25,37,29],[37,30,37,38],[37,39,37,47],[38,3,38,11],[38,12,38,20],[38,23,40,23],[38,25,38,29],[40,3,40,11],[40,12,40,20],[40,25,40,29],[40,30,40,38],[40,39,40,47],[32,0,37,0],[32,3,32,11],[32,12,32,20],[32,23,37,23],[32,25,32,29],[32,30,32,38],[32,39,32,47],[33,3,33,11],[33,12,33,20],[33,25,33,29],[33,30,33,38],[33,39,33,47],[34,3,34,11],[34,12,34,20],[34,25,34,29],[34,30,34,38],[34,39,34,47],[35,3,35,11],[35,12,35,20],[35,25,35,29],[35,30,35,38],[35,39,35,47],[36,3,36,11],[36,12,36,20],[29,39,29,47],[30,3,30,11],[30,12,30,20],[30,25,30,29],[30,30,30,38],[30,39,30,47],[31,39,31,47],[29,0,31,0],[29,3,29,11],[29,12,29,20],[29,23,31,23],[29,25,29,29],[29,30,29,38],[31,3,31,11],[31,12,31,20],[31,25,31,29],[31,30,31,38],[27,39,27,47],[28,3,28,11],[28,12,28,20],[28,25,28,29],[28,30,28,38],[28,39,28,47],[27,0,28,0],[27,3,27,11],[27,12,27,20],[27,23,28,23],[27,25,27,29],[27,30,27,38],[24,39,24,47],[25,3,25,11],[25,12,25,20],[25,25,25,29],[25,30,25,38],[25,39,25,47],[26,3,26,11],[26,12,26,20],[26,25,26,29],[26,30,26,38],[26,39,26,47],[21,39,21,47],[22,3,22,11],[22,12,22,20],[22,25,22,29],[22,30,22,38],[22,39,22,47],[23,3,23,11],[23,12,23,20],[23,25,23,29],[23,30,23,38],[23,39,23,47],[19,39,19,47],[20,3,20,11],[20,12,20,20],[20,25,20,29],[20,30,20,38],[20,39,20,47],[18,3,18,11],[18,12,18,20],[18,25,18,29],[18,30,18,38],[18,39,18,47],[19,0,26,0],[19,3,19,11],[19,12,19,20],[19,23,26,23],[19,25,19,29],[16,3,16,11],[16,12,16,20],[16,25,16,29],[16,30,16,38],[8,0,18,0],[19,30,19,38],[21,3,21,11],[21,12,21,20],[21,25,21,29],[21,30,21,38],[24,3,24,11],[24,12,24,20],[24,25,24,29],[24,30,24,38],[16,39,16,47],[17,3,17,11],[17,12,17,20],[17,25,17,29],[17,30,17,38],[17,39,17,47],[14,3,14,11],[14,12,14,20],[14,25,14,29],[14,30,14,38],[14,39,14,47],[15,3,15,11],[15,12,15,20],[15,25,15,29],[15,30,15,38],[15,39,15,47],[11,39,11,47],[12,3,12,11],[12,12,12,20],[12,25,12,29],[12,30,12,38],[12,39,12,47],[13,3,13,11],[13,12,13,20],[13,25,13,29],[13,30,13,38],[13,39,13,47],[8,39,8,47],[9,3,9,11],[9,12,9,20],[9,25,9,29],[9,30,9,38],[9,39,9,47],[7,31,7,36],[7,37,7,38],[7,40,7,45],[7,46,7,47],[8,3,8,11],[8,12,8,20],[8,23,18,23],[8,25,8,29],[8,30,8,38],[10,3,10,11],[10,12,10,20],[10,25,10,29],[10,30,10,38],[10,39,10,47],[11,3,11,11],[11,12,11,20],[11,25,11,29],[11,30,11,38],[0,10,0,29],[1,10,1,29],[3,0,3,47],[4,0,4,47],[5,0,5,47],[7,4,7,9],[7,10,7,11],[7,13,7,18],[7,19,7,20],[7,25,7,29]]}
["令和６年調査 酒類業実態調査表Ｃ４",null,null,null,null,null,null,null,null,null,"調査対象期間"]
[null,null,null,null,null,null,null,null,null,null,{"$f":"IF(A!C35=TRUE,\"事業年度（調査表Ｂで選択しているため）\",\"暦年（令和５年１月１日から令和５年12月31日）\")","v":"暦年（令和５年１月１日から令和５年12月31日）"}]
[]
["４　「リキュール」の輸出取引について、調査対象期間における「輸出数量」及び「輸出金額」の合計を記入してください。"]
["　　「輸出取引」に該当するか否かは、「令和６年酒類業実態調査の手引き」の別紙３「輸出取引パターンフローチャート」及び別紙４「輸出取引のパターン分け」を参照してください。"]
[" 酒類製造者等と卸売業者の両方に該当する場合は、酒類製造者等としての取引と卸売業者としての取引を区分の上、それぞれの調査表に記入してください。"]
["○　リキュール（本格梅酒）",null,null,null,null,null,null,null,null,null,null,null,null,null,null,null,null,null,null,null,null,null,null,"○　リキュール（本格梅酒、新ジャンル及びRTD商品を除く。）"]
["地理圏","国番号","国・地域名",129,"輸出数量",null,null,null,null,null,"（ﾘｯﾄﾙ）",null,130,"輸出金額",null,null,null,null,null,"（千円）",null,null,null,"地理圏","国番号","国・地域名",null,null,null,null,131,"輸出数量",null,null,null,null,null,"（ﾘｯﾄﾙ）",null,132,"輸出金額",null,null,null,null,null,"（千円）"]
["アジア",103,"大韓民国",null,null,null,null,null,null,null,null,null,null,null,null,null,null,null,null,null,null,null,null,"アジア",103,"大韓民国"]
[null,105,"中華人民共和国",null,null,null,null,null,null,null,null,null,null,null,null,null,null,null,null,null,null,null,null,null,105,"中華人民共和国"]
[null,106,"台湾",null,null,null,null,null,null,null,null,null,null,null,null,null,null,null,null,null,null,null,null,null,106,"台湾"]
[null,108,"香港",null,null,null,null,null,null,null,null,null,null,null,null,null,null,null,null,null,null,null,null,null,108,"香港"]
[null,110,"ベトナム",null,null,null,null,null,null,null,null,null,null,null,null,null,null,null,null,null,null,null,null,null,110,"ベトナム"]
[null,111,"タイ",null,null,null,null,null,null,null,null,null,null,null,null,null,null,null,null,null,null,null,null,null,111,"タイ"]
[null,112,"シンガポール",null,null,null,null,null,null,null,null,null,null,null,null,null,null,null,null,null,null,null,null,null,112,"シンガポール"]
[null,113,"マレーシア",null,null,null,null,null,null,null,null,null,null,null,null,null,null,null,null,null,null,null,null,null,113,"マレーシア"]
[null,123,"インド",null,null,null,null,null,null,null,null,null,null,null,null,null,null,null,null,null,null,null,null,null,123,"インド"]
[null,129,"マカオ",null,null,null,null,null,null,null,null,null,null,null,null,null,null,null,null,null,null,null,null,null,129,"マカオ"]
[null,null,"その他・不明",null,null,null,null,null,null,null,null,null,null,null,null,null,null,null,null,null,null,null,null,null,null,"その他・不明"]
["西欧",205,"英国",null,null,null,null,null,null,null,null,null,null,null,null,null,null,null,null,null,null,null,null,"西欧",205,"英国"]
[null,207,"オランダ",null,null,null,null,null,null,null,null,null,null,null,null,null,null,null,null,null,null,null,null,null,207,"オランダ"]
[null,210,"フランス",null,null,null,null,null,null,null,null,null,null,null,null,null,null,null,null,null,null,null,null,null,210,"フランス"]
[null,213,"ドイツ",null,null,null,null,null,null,null,null,null,null,null,null,null,null,null,null,null,null,null,null,null,213,"ドイツ"]
[null,220,"イタリア",null,null,null,null,null,null,null,null,null,null,null,null,null,null,null,null,null,null,null,null,null,220,"イタリア"]
[null,206,"スペイン",null,null,null,null,null,null,null,null,null,null,null,null,null,null,null,null,null,null,null,null,null,206,"スペイン"]
[null,218,"アイルランド",null,null,null,null,null,null,null,null,null,null,null,null,null,null,null,null,null,null,null,null,null,218,"アイルランド"]
[null,null,"その他・不明",null,null,null,null,null,null,null,null,null,null,null,null,null,null,null,null,null,null,null,null,null,null,"その他・不明"]
["中東欧・ロシア等",224,"ロシア",null,null,null,null,null,null,null,null,null,null,null,null,null,null,null,null,null,null,null,null,"中東欧・ロシア等",224,"ロシア"]
[null,null,"その他・不明",null,null,null,null,null,null,null,null,null,null,null,null,null,null,null,null,null,null,null,null,null,null,"その他・不明"]
["北米",302,"カナダ",null,null,null,null,null,null,null,null,null,null,null,null,null,null,null,null,null,null,null,null,"北米",302,"カナダ"]
[null,304,"アメリカ合衆国",null,null,null,null,null,null,null,null,null,null,null,null,null,null,null,null,null,null,null,null,null,304,"アメリカ合衆国"]
[null,null,"その他・不明",null,null,null,null,null,null,null,null,null,null,null,null,null,null,null,null,null,null,null,null,null,null,"その他・不明"]
["中南米",305,"メキシコ",null,null,null,null,null,null,null,null,null,null,null,null,null,null,null,null,null,null,null,null,"中南米",305,"メキシコ"]
[null,407,"ペルー",null,null,null,null,null,null,null,null,null,null,null,null,null,null,null,null,null,null,null,null,null,407,"ペルー"]
[null,409,"チリ",null,null,null,null,null,null,null,null,null,null,null,null,null,null,null,null,null,null,null,null,null,409,"チリ"]
[null,410,"ブラジル",null,null,null,null,null,null,null,null,null,null,null,null,null,null,null,null,null,null,null,null,null,410,"ブラジル"]
[null,413,"アルゼンチン",null,null,null,null,null,null,null,null,null,null,null,null,null,null,null,null,null,null,null,null,null,413,"アルゼンチン"]
[null,null,"その他・不明",null,null,null,null,null,null,null,null,null,null,null,null,null,null,null,null,null,null,null,null,null,null,"その他・不明"]
["大洋州",601,"オーストラリア",null,null,null,null,null,null,null,null,null,null,null,null,null,null,null,null,null,null,null,null,"大洋州",601,"オーストラリア"]
[null,606,"ニュージーランド",null,null,null,null,null,null,null,null,null,null,null,null,null,null,null,null,null,null,null,null,null,606,"ニュージーランド"]
[null,null,"その他・不明",null,null,null,null,null,null,null,null,null,null,null,null,null,null,null,null,null,null,null,null,null,null,"その他・不明"]
["中東",null,null,null,null,null,null,null,null,null,null,null,null,null,null,null,null,null,null,null,null,null,null,"中東"]
["アフリカ",null,null,null,null,null,null,null,null,null,null,null,null,null,null,null,null,null,null,null,null,null,null,"アフリカ"]
["合計",null,null,{"$f":"IF(SUM(D9:L43)=0,\"\",SUM(D9:L43))","v":""},null,null,null,null,null,null,null,null,{"$f":"IF(SUM(M9:U43)=0,\"\",SUM(M9:U43))","v":""},null,null,null,null,null,null,null,null,null,null,"合計",null,null,null,null,null,null,{"$f":"IF(SUM(AE9:AM43)=0,\"\",SUM(AE9:AM43))","v":""},null,null,null,null,null,null,null,null,{"$f":"IF(SUM(AN9:AV43)=0,\"\",SUM(AN9:AV43))","v":""}]
[]
[]
["入力判定",null,null,{"$f":"IF(SUM(D44:U44,AE44:AV44)<>0,TRUE,FALSE)","v":false}]
["リキュール（本格梅酒）","輸出数量","大韓民国",{"$f":"IF(ISBLANK(D9),\"\",D9)","v":""}]
[null,null,"中華人民共和国",""]
[null,null,"台湾",""]
[null,null,"香港",""]
[null,null,"ベトナム",""]
[null,null,"タイ",""]
[null,null,"シンガポール",""]
[null,null,"マレーシア",""]
[null,null,"インド",""]
[null,null,"マカオ",""]
[null,null,"その他",""]
[null,null,"不明"]
[null,null,"英国",{"$f":"IF(ISBLANK(D20),\"\",D20)","v":""}]
[null,null,"オランダ",{"$f":"IF(ISBLANK(D21),\"\",D21)","v":""}]
[null,null,"フランス",{"$f":"IF(ISBLANK(D22),\"\",D22)","v":""}]
[null,null,"ドイツ",{"$f":"IF(ISBLANK(D23),\"\",D23)","v":""}]
[null,null,"イタリア",{"$f":"IF(ISBLANK(D24),\"\",D24)","v":""}]
[null,null,"その他",{"$f":"IF(ISBLANK(D27),\"\",D27)","v":""}]
[null,null,"不明"]
[null,null,"ロシア",{"$f":"IF(ISBLANK(D28),\"\",D28)","v":""}]
[null,null,"その他",{"$f":"IF(ISBLANK(D29),\"\",D29)","v":""}]
[null,null,"カナダ",{"$f":"IF(ISBLANK(D30),\"\",D30)","v":""}]
[null,null,"アメリカ合衆国",{"$f":"IF(ISBLANK(D31),\"\",D31)","v":""}]
[null,null,"その他",{"$f":"IF(ISBLANK(D32),\"\",D32)","v":""}]
[null,null,"不明"]
[null,null,"メキシコ",{"$f":"IF(ISBLANK(D33),\"\",D33)","v":""}]
[null,null,"ペルー",{"$f":"IF(ISBLANK(D34),\"\",D34)","v":""}]
[null,null,"チリ",{"$f":"IF(ISBLANK(D35),\"\",D35)","v":""}]
[null,null,"ブラジル",{"$f":"IF(ISBLANK(D36),\"\",D36)","v":""}]
[null,null,"その他",{"$f":"IF(ISBLANK(D38),\"\",D38)","v":""}]
[null,null,"不明"]
[null,null,"オーストラリア",{"$f":"IF(ISBLANK(D39),\"\",D39)","v":""}]
[null,null,"ニュージーランド",{"$f":"IF(ISBLANK(D40),\"\",D40)","v":""}]
[null,null,"その他",{"$f":"IF(ISBLANK(D41),\"\",D41)","v":""}]
[null,null,"不明"]
[null,null,"中東",{"$f":"IF(ISBLANK(D42),\"\",D42)","v":""}]
[null,null,"アフリカ",""]
[null,null,"合計",""]
["リキュール（本格梅酒）","輸出金額","大韓民国",{"$f":"IF(ISBLANK(M9),\"\",M9)","v":""}]
[null,null,"中華人民共和国",""]
[null,null,"台湾",""]
[null,null,"香港",""]
[null,null,"ベトナム",""]
[null,null,"タイ",""]
[null,null,"シンガポール",""]
[null,null,"マレーシア",""]
[null,null,"インド",""]
[null,null,"マカオ",""]
[null,null,"その他",""]
[null,null,"不明"]
[null,null,"英国",{"$f":"IF(ISBLANK(M20),\"\",M20)","v":""}]
[null,null,"オランダ",{"$f":"IF(ISBLANK(M21),\"\",M21)","v":""}]
[null,null,"フランス",{"$f":"IF(ISBLANK(M22),\"\",M22)","v":""}]
[null,null,"ドイツ",{"$f":"IF(ISBLANK(M23),\"\",M23)","v":""}]
[null,null,"イタリア",{"$f":"IF(ISBLANK(M24),\"\",M24)","v":""}]
[null,null,"その他",{"$f":"IF(ISBLANK(M27),\"\",M27)","v":""}]
[null,null,"不明"]
[null,null,"ロシア",{"$f":"IF(ISBLANK(M28),\"\",M28)","v":""}]
[null,null,"その他",{"$f":"IF(ISBLANK(M29),\"\",M29)","v":""}]
[null,null,"カナダ",{"$f":"IF(ISBLANK(M30),\"\",M30)","v":""}]
[null,null,"アメリカ合衆国",{"$f":"IF(ISBLANK(M31),\"\",M31)","v":""}]
[null,null,"その他",{"$f":"IF(ISBLANK(M32),\"\",M32)","v":""}]
[null,null,"不明"]
[null,null,"メキシコ",{"$f":"IF(ISBLANK(M33),\"\",M33)","v":""}]
[null,null,"ペルー",{"$f":"IF(ISBLANK(M34),\"\",M34)","v":""}]
[null,null,"チリ",{"$f":"IF(ISBLANK(M35),\"\",M35)","v":""}]
[null,null,"ブラジル",{"$f":"IF(ISBLANK(M36),\"\",M36)","v":""}]
[null,null,"その他",{"$f":"IF(ISBLANK(M38),\"\",M38)","v":""}]
[null,null,"不明"]
[null,null,"オーストラリア",{"$f":"IF(ISBLANK(M39),\"\",M39)","v":""}]
[null,null,"ニュージーランド",{"$f":"IF(ISBLANK(M40),\"\",M40)","v":""}]
[null,null,"その他",{"$f":"IF(ISBLANK(M41),\"\",M41)","v":""}]
[null,null,"不明"]
[null,null,"中東",{"$f":"IF(ISBLANK(M42),\"\",M42)","v":""}]
[null,null,"アフリカ",""]
[null,null,"合計",""]
["リキュール（本格梅酒、新ジャンル及びRTD商品を除く。）","輸出数量","大韓民国",{"$f":"IF(ISBLANK(AE9),\"\",AE9)","v":""}]
[null,null,"中華人民共和国",""]
[null,null,"台湾",""]
[null,null,"香港",""]
[null,null,"ベトナム",""]
[null,null,"タイ",""]
[null,null,"シンガポール",""]
[null,null,"マレーシア",""]
[null,null,"インド",""]
[null,null,"マカオ",""]
[null,null,"その他",""]
[null,null,"不明"]
[null,null,"英国",{"$f":"IF(ISBLANK(AE20),\"\",AE20)","v":""}]
[null,null,"オランダ",{"$f":"IF(ISBLANK(AE21),\"\",AE21)","v":""}]
[null,null,"フランス",{"$f":"IF(ISBLANK(AE22),\"\",AE22)","v":""}]
[null,null,"ドイツ",{"$f":"IF(ISBLANK(AE23),\"\",AE23)","v":""}]
[null,null,"イタリア",{"$f":"IF(ISBLANK(AE24),\"\",AE24)","v":""}]
[null,null,"その他",{"$f":"IF(ISBLANK(AE27),\"\",AE27)","v":""}]
[null,null,"不明"]
[null,null,"ロシア",{"$f":"IF(ISBLANK(AE28),\"\",AE28)","v":""}]
[null,null,"その他",{"$f":"IF(ISBLANK(AE29),\"\",AE29)","v":""}]
[null,null,"カナダ",{"$f":"IF(ISBLANK(AE30),\"\",AE30)","v":""}]
[null,null,"アメリカ合衆国",{"$f":"IF(ISBLANK(AE31),\"\",AE31)","v":""}]
[null,null,"その他",{"$f":"IF(ISBLANK(AE32),\"\",AE32)","v":""}]
[null,null,"不明"]
[null,null,"メキシコ",{"$f":"IF(ISBLANK(AE33),\"\",AE33)","v":""}]
[null,null,"ペルー",{"$f":"IF(ISBLANK(AE34),\"\",AE34)","v":""}]
[null,null,"チリ",{"$f":"IF(ISBLANK(AE35),\"\",AE35)","v":""}]
[null,null,"ブラジル",{"$f":"IF(ISBLANK(AE36),\"\",AE36)","v":""}]
[null,null,"その他",{"$f":"IF(ISBLANK(AE38),\"\",AE38)","v":""}]
[null,null,"不明"]
[null,null,"オーストラリア",{"$f":"IF(ISBLANK(AE39),\"\",AE39)","v":""}]
[null,null,"ニュージーランド",{"$f":"IF(ISBLANK(AE40),\"\",AE40)","v":""}]
[null,null,"その他",{"$f":"IF(ISBLANK(AE41),\"\",AE41)","v":""}]
[null,null,"不明"]
[null,null,"中東",{"$f":"IF(ISBLANK(AE42),\"\",AE42)","v":""}]
[null,null,"アフリカ",""]
[null,null,"合計",""]
["リキュール（本格梅酒、新ジャンル及びRTD商品を除く。）","輸出金額","大韓民国",{"$f":"IF(ISBLANK(AN9),\"\",AN9)","v":""}]
[null,null,"中華人民共和国",""]
[null,null,"台湾",""]
[null,null,"香港",""]
[null,null,"ベトナム",""]
[null,null,"タイ",""]
[null,null,"シンガポール",""]
[null,null,"マレーシア",""]
[null,null,"インド",""]
[null,null,"マカオ",""]
[null,null,"その他",""]
[null,null,"不明"]
[null,null,"英国",{"$f":"IF(ISBLANK(AN20),\"\",AN20)","v":""}]
[null,null,"オランダ",{"$f":"IF(ISBLANK(AN21),\"\",AN21)","v":""}]
[null,null,"フランス",{"$f":"IF(ISBLANK(AN22),\"\",AN22)","v":""}]
[null,null,"ドイツ",{"$f":"IF(ISBLANK(AN23),\"\",AN23)","v":""}]
[null,null,"イタリア",{"$f":"IF(ISBLANK(AN24),\"\",AN24)","v":""}]
[null,null,"その他",{"$f":"IF(ISBLANK(AN27),\"\",AN27)","v":""}]
[null,null,"不明"]
[null,null,"ロシア",{"$f":"IF(ISBLANK(AN28),\"\",AN28)","v":""}]
[null,null,"その他",{"$f":"IF(ISBLANK(AN29),\"\",AN29)","v":""}]
[null,null,"カナダ",{"$f":"IF(ISBLANK(AN30),\"\",AN30)","v":""}]
[null,null,"アメリカ合衆国",{"$f":"IF(ISBLANK(AN31),\"\",AN31)","v":""}]
[null,null,"その他",{"$f":"IF(ISBLANK(AN32),\"\",AN32)","v":""}]
[null,null,"不明"]
[null,null,"メキシコ",{"$f":"IF(ISBLANK(AN33),\"\",AN33)","v":""}]
[null,null,"ペルー",{"$f":"IF(ISBLANK(AN34),\"\",AN34)","v":""}]
[null,null,"チリ",{"$f":"IF(ISBLANK(AN35),\"\",AN35)","v":""}]
[null,null,"ブラジル",{"$f":"IF(ISBLANK(AN36),\"\",AN36)","v":""}]
[null,null,"その他",{"$f":"IF(ISBLANK(AN38),\"\",AN38)","v":""}]
[null,null,"不明"]
[null,null,"オーストラリア",{"$f":"IF(ISBLANK(AN39),\"\",AN39)","v":""}]
[null,null,"ニュージーランド",{"$f":"IF(ISBLANK(AN40),\"\",AN40)","v":""}]
[null,null,"その他",{"$f":"IF(ISBLANK(AN41),\"\",AN41)","v":""}]
[null,null,"不明"]
[null,null,"中東",{"$f":"IF(ISBLANK(AN42),\"\",AN42)","v":""}]
[null,null,"アフリカ",""]
[null,null,"合計",""]
["リキュール（本格梅酒）","輸出数量","スペイン",{"$f":"IF(ISBLANK(D25),\"\",D25)","v":""}]
[null,null,"アイルランド",{"$f":"IF(ISBLANK(D26),\"\",D26)","v":""}]
[null,null,"アルゼンチン",{"$f":"IF(ISBLANK(D37),\"\",D37)","v":""}]
[null,"輸出金額","スペイン",{"$f":"IF(ISBLANK(M25),\"\",M25)","v":""}]
[null,null,"アイルランド",{"$f":"IF(ISBLANK(M26),\"\",M26)","v":""}]
[null,null,"アルゼンチン",{"$f":"IF(ISBLANK(M37),\"\",M37)","v":""}]
["リキュール（本格梅酒、新ジャンル及びRTD商品を除く。）","輸出数量","スペイン",{"$f":"IF(ISBLANK(AE25),\"\",AE25)","v":""}]
[null,null,"アイルランド",{"$f":"IF(ISBLANK(AE26),\"\",AE26)","v":""}]
[null,null,"アルゼンチン",{"$f":"IF(ISBLANK(AE37),\"\",AE37)","v":""}]
[null,"輸出金額","スペイン",{"$f":"IF(ISBLANK(AN25),\"\",AN25)","v":""}]
[null,null,"アイルランド",{"$f":"IF(ISBLANK(AN26),\"\",AN26)","v":""}]
[null,null,"アルゼンチン",{"$f":"IF(ISBLANK(AN37),\"\",AN37)","v":""}]

{"sheet":"F2","index":8,"n_rows":211,"n_cols":20,"rows_kept":211,"cut":false,"hidden":true,"merged":[[199,0,204,0],[199,1,201,1],[202,1,204,1],[205,0,210,0],[205,1,207,1],[208,1,210,1],[46,0,46,2],[47,0,84,0],[47,1,84,1],[85,0,122,0],[85,1,122,1],[123,0,160,0],[123,1,160,1],[43,39,43,47],[41,39,41,47],[42,0,42,2],[42,3,42,11],[42,12,42,20],[42,23,42,29],[42,30,42,38],[42,39,42,47],[161,0,198,0],[161,1,198,1],[41,0,41,2],[41,3,41,11],[41,12,41,20],[41,23,41,29],[41,30,41,38],[38,0,40,0],[43,0,43,2],[43,3,43,11],[43,12,43,20],[43,23,43,29],[43,30,43,38],[36,25,36,29],[36,30,36,38],[36,39,36,47],[38,30,38,38],[38,39,38,47],[39,3,39,11],[39,12,39,20],[39,25,39,29],[39,30,39,38],[39,39,39,47],[37,3,37,11],[37,12,37,20],[37,25,37,29],[37,30,37,38],[37,39,37,47],[38,3,38,11],[38,12,38,20],[38,23,40,23],[38,25,38,29],[40,3,40,11],[40,12,40,20],[40,25,40,29],[40,30,40,38],[40,39,40,47],[32,0,37,0],[32,3,32,11],[32,12,32,20],[32,23,37,23],[32,25,32,29],[32,30,32,38],[32,39,32,47],[33,3,33,11],[33,12,33,20],[33,25,33,29],[33,30,33,38],[33,39,33,47],[34,3,34,11],[34,12,34,20],[34,25,34,29],[34,30,34,38],[34,39,34,47],[35,3,35,11],[35,12,35,20],[35,25,35,29],[35,30,35,38],[35,39,35,47],[36,3,36,11],[36,12,36,20],[29,39,29,47],[30,3,30,11],[30,12,30,20],[30,25,30,29],[30,30,30,38],[30,39,30,47],[31,39,31,47],[29,0,31,0],[29,3,29,11],[29,12,29,20],[29,23,31,23],[29,25,29,29],[29,30,29,38],[31,3,31,11],[31,12,31,20],[31,25,31,29],[31,30,31,38],[27,39,27,47],[28,3,28,11],[28,12,28,20],[28,25,28,29],[28,30,28,38],[28,39,28,47],[27,0,28,0],[27,3,27,11],[27,12,27,20],[27,23,28,23],[27,25,27,29],[27,30,27,38],[24,39,24,47],[25,3,25,11],[25,12,25,20],[25,25,25,29],[25,30,25,38],[25,39,25,47],[26,3,26,11],[26,12,26,20],[26,25,26,29],[26,30,26,38],[26,39,26,47],[21,39,21,47],[22,3,22,11],[22,12,22,20],[22,25,22,29],[22,30,22,38],[22,39,22,47],[23,3,23,11],[23,12,23,20],[23,25,23,29],[23,30,23,38],[23,39,23,47],[19,39,19,47],[20,3,20,11],[20,12,20,20],[20,25,20,29],[20,30,20,38],[20,39,20,47],[18,3,18,11],[18,12,18,20],[18,25,18,29],[18,30,18,38],[18,39,18,47],[19,0,26,0],[19,3,19,11],[19,12,19,20],[19,23,26,23],[19,25,19,29],[16,3,16,11],[16,12,16,20],[16,25,16,29],[16,30,16,38],[8,0,18,0],[19,30,19,38],[21,3,21,11],[21,12,21,20],[21,25,21,29],[21,30,21,38],[24,3,24,11],[24,12,24,20],[24,25,24,29],[24,30,24,38],[16,39,16,47],[17,3,17,11],[17,12,17,20],[17,25,17,29],[17,30,17,38],[17,39,17,47],[14,3,14,11],[14,12,14,20],[14,25,14,29],[14,30,14,38],[14,39,14,47],[15,3,15,11],[15,12,15,20],[15,25,15,29],[15,30,15,38],[15,39,15,47],[11,39,11,47],[12,3,12,11],[12,12,12,20],[12,25,12,29],[12,30,12,38],[12,39,12,47],[13,3,13,11],[13,12,13,20],[13,25,13,29],[13,30,13,38],[13,39,13,47],[8,39,8,47],[9,3,9,11],[9,12,9,20],[9,25,9,29],[9,30,9,38],[9,39,9,47],[7,31,7,36],[7,37,7,38],[7,40,7,45],[7,46,7,47],[8,3,8,11],[8,12,8,20],[8,23,18,23],[8,25,8,29],[8,30,8,38],[10,3,10,11],[10,12,10,20],[10,25,10,29],[10,30,10,38],[10,39,10,47],[11,3,11,11],[11,12,11,20],[11,25,11,29],[11,30,11,38],[0,10,0,29],[1,10,1,29],[3,0,3,47],[4,0,4,47],[5,0,5,47],[7,4,7,9],[7,10,7,11],[7,13,7,18],[7,19,7,20],[7,25,7,29]]}
["令和６年調査 酒類業実態調査表Ｃ５",null,null,null,null,null,null,null,null,null,"調査対象期間"]
[null,null,null,null,null,null,null,null,null,null,{"$f":"IF(A!C35=TRUE,\"事業年度（調査表Ｂで選択しているため）\",\"暦年（令和５年１月１日から令和５年12月31日）\")","v":"暦年（令和５年１月１日から令和５年12月31日）"}]
[]
["５　「スピリッツ」の輸出取引について、調査対象期間における「輸出数量」及び「輸出金額」の合計を記入してください。"]
["　　「輸出取引」に該当するか否かは、「令和６年酒類業実態調査の手引き」の別紙３「輸出取引パターンフローチャート」及び別紙４「輸出取引のパターン分け」を参照してください。"]
[" 酒類製造者等と卸売業者の両方に該当する場合は、酒類製造者等としての取引と卸売業者としての取引を区分の上、それぞれの調査表に記入してください。"]
["○　スピリッツ（RTD商品を除く。）"]
["地理圏","国番号","国・地域名",129,"輸出数量",null,null,null,null,null,"（ﾘｯﾄﾙ）",null,130,"輸出金額",null,null,null,null,null,"（千円）"]
["アジア",103,"大韓民国"]
[null,105,"中華人民共和国"]
[null,106,"台湾"]
[null,108,"香港"]
[null,110,"ベトナム"]
[null,111,"タイ"]
[null,112,"シンガポール"]
[null,113,"マレーシア"]
[null,123,"インド"]
[null,129,"マカオ"]
[null,null,"その他・不明"]
["西欧",205,"英国"]
[null,207,"オランダ"]
[null,210,"フランス"]
[null,213,"ドイツ"]
[null,220,"イタリア"]
[null,206,"スペイン"]
[null,218,"アイルランド"]
[null,null,"その他・不明"]
["中東欧・ロシア等",224,"ロシア"]
[null,null,"その他・不明"]
["北米",302,"カナダ"]
[null,304,"アメリカ合衆国"]
[null,null,"その他・不明"]
["中南米",305,"メキシコ"]
[null,407,"ペルー"]
[null,409,"チリ"]
[null,410,"ブラジル"]
[null,413,"アルゼンチン"]
[null,null,"その他・不明"]
["大洋州",601,"オーストラリア"]
[null,606,"ニュージーランド"]
[null,null,"その他・不明"]
["中東"]
["アフリカ"]
["合計",null,null,{"$f":"IF(SUM(D9:L43)=0,\"\",SUM(D9:L43))","v":""},null,null,null,null,null,null,null,null,{"$f":"IF(SUM(M9:U43)=0,\"\",SUM(M9:U43))","v":""}]
[]
[]
["入力判定",null,null,{"$f":"IF(SUM(D44:U44,AE44:AV44)<>0,TRUE,FALSE)","v":false}]
["スピリッツ（RTD商品を除く。）","輸出数量","大韓民国",{"$f":"IF(ISBLANK(D9),\"\",D9)","v":""}]
[null,null,"中華人民共和国",""]
[null,null,"台湾",""]
[null,null,"香港",""]
[null,null,"ベトナム",""]
[null,null,"タイ",""]
[null,null,"シンガポール",""]
[null,null,"マレーシア",""]
[null,null,"インド",""]
[null,null,"マカオ",""]
[null,null,"その他",""]
[null,null,"不明"]
[null,null,"英国",{"$f":"IF(ISBLANK(D20),\"\",D20)","v":""}]
[null,null,"オランダ",{"$f":"IF(ISBLANK(D21),\"\",D21)","v":""}]
[null,null,"フランス",{"$f":"IF(ISBLANK(D22),\"\",D22)","v":""}]
[null,null,"ドイツ",{"$f":"IF(ISBLANK(D23),\"\",D23)","v":""}]
[null,null,"イタリア",{"$f":"IF(ISBLANK(D24),\"\",D24)","v":""}]
[null,null,"その他",{"$f":"IF(ISBLANK(D27),\"\",D27)","v":""}]
[null,null,"不明"]
[null,null,"ロシア",{"$f":"IF(ISBLANK(D28),\"\",D28)","v":""}]
[null,null,"その他",{"$f":"IF(ISBLANK(D29),\"\",D29)","v":""}]
[null,null,"カナダ",{"$f":"IF(ISBLANK(D30),\"\",D30)","v":""}]
[null,null,"アメリカ合衆国",{"$f":"IF(ISBLANK(D31),\"\",D31)","v":""}]
[null,null,"その他",{"$f":"IF(ISBLANK(D32),\"\",D32)","v":""}]
[null,null,"不明"]
[null,null,"メキシコ",{"$f":"IF(ISBLANK(D33),\"\",D33)","v":""}]
[null,null,"ペルー",{"$f":"IF(ISBLANK(D34),\"\",D34)","v":""}]
[null,null,"チリ",{"$f":"IF(ISBLANK(D35),\"\",D35)","v":""}]
[null,null,"ブラジル",{"$f":"IF(ISBLANK(D36),\"\",D36)","v":""}]
[null,null,"その他",{"$f":"IF(ISBLANK(D38),\"\",D38)","v":""}]
[null,null,"不明"]
[null,null,"オーストラリア",{"$f":"IF(ISBLANK(D39),\"\",D39)","v":""}]
[null,null,"ニュージーランド",{"$f":"IF(ISBLANK(D40),\"\",D40)","v":""}]
[null,null,"その他",{"$f":"IF(ISBLANK(D41),\"\",D41)","v":""}]
[null,null,"不明"]
[null,null,"中東",{"$f":"IF(ISBLANK(D42),\"\",D42)","v":""}]
[null,null,"アフリカ",""]
[null,null,"合計",""]
["スピリッツ（RTD商品を除く。）","輸出金額","大韓民国",{"$f":"IF(ISBLANK(M9),\"\",M9)","v":""}]
[null,null,"中華人民共和国",""]
[null,null,"台湾",""]
[null,null,"香港",""]
[null,null,"ベトナム",""]
[null,null,"タイ",""]
[null,null,"シンガポール",""]
[null,null,"マレーシア",""]
[null,null,"インド",""]
[null,null,"マカオ",""]
[null,null,"その他",""]
[null,null,"不明"]
[null,null,"英国",{"$f":"IF(ISBLANK(M20),\"\",M20)","v":""}]
[null,null,"オランダ",{"$f":"IF(ISBLANK(M21),\"\",M21)","v":""}]
[null,null,"フランス",{"$f":"IF(ISBLANK(M22),\"\",M22)","v":""}]
[null,null,"ドイツ",{"$f":"IF(ISBLANK(M23),\"\",M23)","v":""}]
[null,null,"イタリア",{"$f":"IF(ISBLANK(M24),\"\",M24)","v":""}]
[null,null,"その他",{"$f":"IF(ISBLANK(M27),\"\",M27)","v":""}]
[null,null,"不明"]
[null,null,"ロシア",{"$f":"IF(ISBLANK(M28),\"\",M28)","v":""}]
[null,null,"その他",{"$f":"IF(ISBLANK(M29),\"\",M29)","v":""}]
[null,null,"カナダ",{"$f":"IF(ISBLANK(M30),\"\",M30)","v":""}]
[null,null,"アメリカ合衆国",{"$f":"IF(ISBLANK(M31),\"\",M31)","v":""}]
[null,null,"その他",{"$f":"IF(ISBLANK(M32),\"\",M32)","v":""}]
[null,null,"不明"]
[null,null,"メキシコ",{"$f":"IF(ISBLANK(M33),\"\",M33)","v":""}]
[null,null,"ペルー",{"$f":"IF(ISBLANK(M34),\"\",M34)","v":""}]
[null,null,"チリ",{"$f":"IF(ISBLANK(M35),\"\",M35)","v":""}]
[null,null,"ブラジル",{"$f":"IF(ISBLANK(M36),\"\",M36)","v":""}]
[null,null,"その他",{"$f":"IF(ISBLANK(M38),\"\",M38)","v":""}]
[null,null,"不明"]
[null,null,"オーストラリア",{"$f":"IF(ISBLANK(M39),\"\",M39)","v":""}]
[null,null,"ニュージーランド",{"$f":"IF(ISBLANK(M40),\"\",M40)","v":""}]
[null,null,"その他",{"$f":"IF(ISBLANK(M41),\"\",M41)","v":""}]
[null,null,"不明"]
[null,null,"中東",{"$f":"IF(ISBLANK(M42),\"\",M42)","v":""}]
[null,null,"アフリカ",""]
[null,null,"合計",""]
[null,"輸出数量","大韓民国",{"$f":"IF(ISBLANK(AE9),\"\",AE9)","v":""}]
[null,null,"中華人民共和国",""]
[null,null,"台湾",""]
[null,null,"香港",""]
[null,null,"ベトナム",""]
[null,null,"タイ",""]
[null,null,"シンガポール",""]
[null,null,"マレーシア",""]
[null,null,"インド",""]
[null,null,"マカオ",""]
[null,null,"その他",""]
[null,null,"不明"]
[null,null,"英国",{"$f":"IF(ISBLANK(AE20),\"\",AE20)","v":""}]
[null,null,"オランダ",{"$f":"IF(ISBLANK(AE21),\"\",AE21)","v":""}]
[null,null,"フランス",{"$f":"IF(ISBLANK(AE22),\"\",AE22)","v":""}]
[null,null,"ドイツ",{"$f":"IF(ISBLANK(AE23),\"\",AE23)","v":""}]
[null,null,"イタリア",{"$f":"IF(ISBLANK(AE24),\"\",AE24)","v":""}]
[null,null,"その他",{"$f":"IF(ISBLANK(AE27),\"\",AE27)","v":""}]
[null,null,"不明"]
[null,null,"ロシア",{"$f":"IF(ISBLANK(AE28),\"\",AE28)","v":""}]
[null,null,"その他",{"$f":"IF(ISBLANK(AE29),\"\",AE29)","v":""}]
[null,null,"カナダ",{"$f":"IF(ISBLANK(AE30),\"\",AE30)","v":""}]
[null,null,"アメリカ合衆国",{"$f":"IF(ISBLANK(AE31),\"\",AE31)","v":""}]
[null,null,"その他",{"$f":"IF(ISBLANK(AE32),\"\",AE32)","v":""}]
[null,null,"不明"]
[null,null,"メキシコ",{"$f":"IF(ISBLANK(AE33),\"\",AE33)","v":""}]
[null,null,"ペルー",{"$f":"IF(ISBLANK(AE34),\"\",AE34)","v":""}]
[null,null,"チリ",{"$f":"IF(ISBLANK(AE35),\"\",AE35)","v":""}]
[null,null,"ブラジル",{"$f":"IF(ISBLANK(AE36),\"\",AE36)","v":""}]
[null,null,"その他",{"$f":"IF(ISBLANK(AE38),\"\",AE38)","v":""}]
[null,null,"不明"]
[null,null,"オーストラリア",{"$f":"IF(ISBLANK(AE39),\"\",AE39)","v":""}]
[null,null,"ニュージーランド",{"$f":"IF(ISBLANK(AE40),\"\",AE40)","v":""}]
[null,null,"その他",{"$f":"IF(ISBLANK(AE41),\"\",AE41)","v":""}]
[null,null,"不明"]
[null,null,"中東",{"$f":"IF(ISBLANK(AE42),\"\",AE42)","v":""}]
[null,null,"アフリカ",""]
[null,null,"合計",""]
[null,"輸出金額","大韓民国",{"$f":"IF(ISBLANK(AN9),\"\",AN9)","v":""}]
[null,null,"中華人民共和国",""]
[null,null,"台湾",""]
[null,null,"香港",""]
[null,null,"ベトナム",""]
[null,null,"タイ",""]
[null,null,"シンガポール",""]
[null,null,"マレーシア",""]
[null,null,"インド",""]
[null,null,"マカオ",""]
[null,null,"その他",""]
[null,null,"不明"]
[null,null,"英国",{"$f":"IF(ISBLANK(AN20),\"\",AN20)","v":""}]
[null,null,"オランダ",{"$f":"IF(ISBLANK(AN21),\"\",AN21)","v":""}]
[null,null,"フランス",{"$f":"IF(ISBLANK(AN22),\"\",AN22)","v":""}]
[null,null,"ドイツ",{"$f":"IF(ISBLANK(AN23),\"\",AN23)","v":""}]
[null,null,"イタリア",{"$f":"IF(ISBLANK(AN24),\"\",AN24)","v":""}]
[null,null,"その他",{"$f":"IF(ISBLANK(AN27),\"\",AN27)","v":""}]
[null,null,"不明"]
[null,null,"ロシア",{"$f":"IF(ISBLANK(AN28),\"\",AN28)","v":""}]
[null,null,"その他",{"$f":"IF(ISBLANK(AN29),\"\",AN29)","v":""}]
[null,null,"カナダ",{"$f":"IF(ISBLANK(AN30),\"\",AN30)","v":""}]
[null,null,"アメリカ合衆国",{"$f":"IF(ISBLANK(AN31),\"\",AN31)","v":""}]
[null,null,"その他",{"$f":"IF(ISBLANK(AN32),\"\",AN32)","v":""}]
[null,null,"不明"]
[null,null,"メキシコ",{"$f":"IF(ISBLANK(AN33),\"\",AN33)","v":""}]
[null,null,"ペルー",{"$f":"IF(ISBLANK(AN34),\"\",AN34)","v":""}]
[null,null,"チリ",{"$f":"IF(ISBLANK(AN35),\"\",AN35)","v":""}]
[null,null,"ブラジル",{"$f":"IF(ISBLANK(AN36),\"\",AN36)","v":""}]
[null,null,"その他",{"$f":"IF(ISBLANK(AN38),\"\",AN38)","v":""}]
[null,null,"不明"]
[null,null,"オーストラリア",{"$f":"IF(ISBLANK(AN39),\"\",AN39)","v":""}]
[null,null,"ニュージーランド",{"$f":"IF(ISBLANK(AN40),\"\",AN40)","v":""}]
[null,null,"その他",{"$f":"IF(ISBLANK(AN41),\"\",AN41)","v":""}]
[null,null,"不明"]
[null,null,"中東",{"$f":"IF(ISBLANK(AN42),\"\",AN42)","v":""}]
[null,null,"アフリカ",""]
[null,null,"合計",""]
["スピリッツ（RTD商品を除く。）","輸出数量","スペイン",{"$f":"IF(ISBLANK(D25),\"\",D25)","v":""}]
[null,null,"アイルランド",{"$f":"IF(ISBLANK(D26),\"\",D26)","v":""}]
[null,null,"アルゼンチン",{"$f":"IF(ISBLANK(D37),\"\",D37)","v":""}]
[null,"輸出金額","スペイン",{"$f":"IF(ISBLANK(M25),\"\",M25)","v":""}]
[null,null,"アイルランド",{"$f":"IF(ISBLANK(M26),\"\",M26)","v":""}]
[null,null,"アルゼンチン",{"$f":"IF(ISBLANK(M37),\"\",M37)","v":""}]
[null,"輸出数量","スペイン",{"$f":"IF(ISBLANK(AE25),\"\",AE25)","v":""}]
[null,null,"アイルランド",{"$f":"IF(ISBLANK(AE26),\"\",AE26)","v":""}]
[null,null,"アルゼンチン",{"$f":"IF(ISBLANK(AE37),\"\",AE37)","v":""}]
[null,"輸出金額","スペイン",{"$f":"IF(ISBLANK(AN25),\"\",AN25)","v":""}]
[null,null,"アイルランド",{"$f":"IF(ISBLANK(AN26),\"\",AN26)","v":""}]
[null,null,"アルゼンチン",{"$f":"IF(ISBLANK(AN37),\"\",AN37)","v":""}]

{"sheet":"G2","index":9,"n_rows":54,"n_cols":42,"rows_kept":54,"cut":false,"hidden":true,"merged":[[23,0,23,13],[24,1,24,24],[19,0,19,6],[20,0,20,6],[18,22,18,23],[18,7,18,14],[18,15,18,16],[18,17,18,21],[18,0,18,6],[19,8,19,16],[20,8,20,16],[19,18,19,23],[20,18,20,23],[11,0,11,6],[12,0,12,6],[10,8,10,16],[11,8,11,16],[12,8,12,16],[15,8,15,16],[10,17,10,31],[10,32,10,33],[7,0,7,6],[7,17,9,17],[7,18,8,20],[7,21,7,23],[14,25,14,33],[14,17,14,23],[10,0,10,6],[14,0,14,6],[15,0,15,6],[13,0,13,6],[13,8,13,16],[14,8,14,16],[8,0,8,6],[9,0,9,6],[9,18,9,23],[8,8,8,16],[9,8,9,16],[8,25,8,33],[9,25,9,33],[6,41,6,42],[0,47,0,52],[6,0,6,14],[6,15,6,16],[6,17,6,31],[6,32,6,33],[6,34,6,40],[2,16,2,35],[1,16,1,35],[10,38,10,42],[11,17,13,17],[11,25,11,33],[12,25,12,33],[13,18,13,23],[13,25,13,33],[10,34,10,36],[11,18,11,23],[12,18,12,23],[11,34,11,36],[11,38,11,42],[7,8,7,16],[7,25,7,33],[7,38,7,42],[8,38,8,42],[9,38,9,42],[7,34,7,36],[8,21,8,23],[8,34,8,36],[9,34,9,36]]}
[]
["令和６年調査 酒類業実態調査表Ｄ１",null,null,null,null,null,null,null,null,null,null,null,null,null,null,null,"調査対象期間"]
[null,null,null,null,null,null,null,null,null,null,null,null,null,null,null,null,"事業年度（個人は令和５年分）"]
["個別項目（清酒）"]
[]
["１　清酒製造業に係る以下の項目を記入してください。"]
["損益計算書",null,null,null,null,null,null,null,null,null,null,null,null,null,null,"（千円）",null,"清酒の生産費等製造原価",null,null,null,null,null,null,null,null,null,null,null,null,null,null,"（千円）",null,"清酒製造業の従業員数",null,null,null,null,null,null,"（人）"]
["課税売上高",null,null,null,null,null,null,211,null,null,null,null,null,null,null,null,null,"原材料費","原料米代",null,null,"米代",null,null,220,null,null,null,null,null,null,null,null,null,"製造部門",null,null,223]
["未納税売上高",null,null,null,null,null,null,212,null,null,null,null,null,null,null,null,null,null,null,null,null,"引取諸掛",null,null,221,null,null,null,null,null,null,null,null,null,"詰口部門",null,null,224]
["その他",null,null,null,null,null,null,213,null,null,null,null,null,null,null,null,null,null,"その他",null,null,null,null,null,222,null,null,null,null,null,null,null,null,null,"その他",null,null,225]
["計",null,null,null,null,null,null,214,{"$f":"IF(SUM(I8:Q10)=0,\"\",SUM(I8:Q10))","v":""},null,null,null,null,null,null,null,null,"課税移出数量",null,null,null,null,null,null,null,null,null,null,null,null,null,null,"（ﾘｯﾄﾙ）",null,"計",null,null,226,{"$f":"IF(SUM(AM8:AQ10)=0,\"\",SUM(AM8:AQ10))","v":""}]
["課税売上原価",null,null,null,null,null,null,215,null,null,null,null,null,null,null,null,null,"移出地域","自県分",null,null,null,null,null,228,null,null,null,null,null,null,null,null,null,"季節労働者",null,null,227]
["未納税売上原価",null,null,null,null,null,null,216,null,null,null,null,null,null,null,null,null,null,"自県以外の自局分",null,null,null,null,null,229]
["その他",null,null,null,null,null,null,217,null,null,null,null,null,null,null,null,null,null,"他局分",null,null,null,null,null,230]
["計",null,null,null,null,null,null,218,{"$f":"IF(SUM(I12:Q14)=0,\"\",SUM(I12:Q14))","v":""},null,null,null,null,null,null,null,null,"計",null,null,null,null,null,null,231,{"$f":"IF(SUM(Z12:AH14)=0,\"\",SUM(Z12:AH14))","v":""}]
["販売費及び一般管理費",null,null,null,null,null,null,219]
[]
["２　未納税移出入数量及び未納税取引先数については、桶売り・桶買い等の取引の数量及び取引先数を記入してください。"]
["区分",null,null,null,null,null,null,"実数量",null,null,null,null,null,null,null,"（ﾘｯﾄﾙ）",null,"取引先数",null,null,null,null,"（者）"]
["未納税移出",null,null,null,null,null,null,232,null,null,null,null,null,null,null,null,null,234]
["未納税移入",null,null,null,null,null,null,233,null,null,null,null,null,null,null,null,null,235]
[]
["３　清酒製造業の製造責任者の状況について当てはまるものを選択してください。"]
["　１　代表者親族　２　杜氏制　３　社員杜氏"]
[210]
[]
[]
["入力判定",{"$f":"IF(SUM(I8:Q10)<>0,TRUE,FALSE)","v":false}]
[211,{"$f":"IF(ISBLANK(I8),\"\",I8)","v":""}]
[212,""]
[213,""]
[214,""]
[215,""]
[216,""]
[217,""]
[218,""]
[219,""]
[220,{"$f":"IF(ISBLANK(Z8),\"\",Z8)","v":""}]
[221,{"$f":"IF(ISBLANK(Z9),\"\",Z9)","v":""}]
[222,{"$f":"IF(ISBLANK(Z10),\"\",Z10)","v":""}]
[223,{"$f":"IF(ISBLANK(AM8),\"\",AM8)","v":""}]
[224,{"$f":"IF(ISBLANK(AM9),\"\",AM9)","v":""}]
[225,{"$f":"IF(ISBLANK(AM10),\"\",AM10)","v":""}]
[226,{"$f":"IF(ISBLANK(AM11),\"\",AM11)","v":""}]
[228,{"$f":"IF(ISBLANK(Z12),\"\",Z12)","v":""}]
[229,{"$f":"IF(ISBLANK(Z13),\"\",Z13)","v":""}]
[230,{"$f":"IF(ISBLANK(Z14),\"\",Z14)","v":""}]
[231,{"$f":"IF(ISBLANK(Z15),\"\",Z15)","v":""}]
[232,{"$f":"IF(ISBLANK(I20),\"\",I20)","v":""}]
[233,{"$f":"IF(ISBLANK(I21),\"\",I21)","v":""}]
[234,{"$f":"IF(ISBLANK(S20),\"\",S20)","v":""}]
[235,{"$f":"IF(ISBLANK(S21),\"\",S21)","v":""}]
[210,{"$f":"IF(ISBLANK(B25),\"\",B25)","v":""}]
[227,{"$f":"IF(ISBLANK(AM12),\"\",AM12)","v":""}]

{"sheet":"G1","index":10,"n_rows":65,"n_cols":54,"rows_kept":65,"cut":false,"hidden":true,"merged":[[64,0,64,1],[2,19,2,44],[1,47,1,57],[2,47,2,57],[13,49,13,51],[13,52,13,58],[12,0,12,7],[12,8,12,17],[12,18,12,27],[12,46,12,47],[12,49,12,51],[12,52,12,58],[13,0,13,7],[13,8,13,17],[13,18,13,27],[13,46,13,47],[11,52,11,58],[10,0,10,7],[10,8,10,17],[10,18,10,27],[10,46,10,47],[10,49,10,51],[10,52,10,58],[11,0,11,7],[11,8,11,17],[11,18,11,27],[11,46,11,47],[11,49,11,51],[10,28,10,36],[11,28,11,36],[10,37,10,45],[11,37,11,45],[9,37,9,45],[9,0,9,7],[9,8,9,17],[9,18,9,27],[9,46,9,47],[9,28,9,36],[9,52,9,58],[7,46,7,47],[7,49,7,58],[8,46,8,47],[8,50,8,51],[8,53,8,58],[9,49,9,51],[0,34,0,39],[7,0,8,0],[7,1,8,7],[7,8,8,8],[7,9,8,17],[7,18,8,18],[7,19,8,27],[7,28,8,28],[7,37,8,37],[7,38,8,45],[6,0,6,58],[1,19,1,44],[7,29,8,36],[27,0,35,0],[36,0,44,0],[45,0,53,0],[54,0,62,0],[12,37,12,45],[13,37,13,45],[17,0,17,1],[18,0,26,0],[12,28,12,36],[13,28,13,36]]}
[]
["令和６年調査　酒類業実態調査表Ｄ２",null,null,null,null,null,null,null,null,null,null,null,null,null,null,null,null,null,null,"調査対象期間",null,null,null,null,null,null,null,null,null,null,null,null,null,null,null,null,null,null,null,null,null,null,null,null,null,null,null,"事業年度で記入した場合チェックする"]
[null,null,null,null,null,null,null,null,null,null,null,null,null,null,null,null,null,null,null,"暦年（令和５年１月１日から令和５年12月31日）"]
["個別項目（清酒）"]
[]
["４　清酒の海外生産をしている方（現地法人によるものを含む。）は記入してください。"]
["　　暦年で記入できない場合は、事業年度で記入していただいても差し支えありません。その場合、右上の欄にチェックをお願いします。"]
[201,"生産国",null,null,null,null,null,null,202,"生　産　者\n（現地法人）",null,null,null,null,null,null,null,null,203,"主　な　銘　柄",null,null,null,null,null,null,null,null,204,"売上数量\n（ﾘｯﾄﾙ）",null,null,null,null,null,null,null,205,"売上金額\n（日本円の場合は千円単位）",null,null,null,null,null,null,null,206,null,207,"生産国からの輸出"]
[null,null,null,null,null,null,null,null,null,null,null,null,null,null,null,null,null,null,null,null,null,null,null,null,null,null,null,null,null,null,null,null,null,null,null,null,null,null,null,null,null,null,null,null,null,null,"現地\n通貨",null,"桁",208,"日本への輸出の有無",null,209,"日本以外の\n輸出先国"]
[]
[]
[]
[]
[]
[]
[]
[]
["入力判定",null,"なし"]
[1,201,{"$f":"IF(ISBLANK(A10),\"\",A10)","v":""}]
[null,202,{"$f":"IF(ISBLANK(I10),\"\",I10)","v":""}]
[null,203,{"$f":"IF(ISBLANK(S10),\"\",S10)","v":""}]
[null,204,{"$f":"IF(ISBLANK(AC10),\"\",AC10)","v":""}]
[null,205,{"$f":"IF(ISBLANK(AL10),\"\",AL10)","v":""}]
[null,206,{"$f":"IF(ISBLANK(AU10),\"\",AU10)","v":""}]
[null,207,{"$f":"IF(ISBLANK(AW10),\"\",AW10)","v":""}]
[null,208,{"$f":"IF(ISBLANK(AX10),\"\",AX10)","v":""}]
[null,209,{"$f":"IF(ISBLANK(BA10),\"\",BA10)","v":""}]
[2,201,{"$f":"IF(ISBLANK(A11),\"\",A11)","v":""}]
[null,202,{"$f":"IF(ISBLANK(I11),\"\",I11)","v":""}]
[null,203,{"$f":"IF(ISBLANK(S11),\"\",S11)","v":""}]
[null,204,{"$f":"IF(ISBLANK(AC11),\"\",AC11)","v":""}]
[null,205,{"$f":"IF(ISBLANK(AL11),\"\",AL11)","v":""}]
[null,206,{"$f":"IF(ISBLANK(AU11),\"\",AU11)","v":""}]
[null,207,{"$f":"IF(ISBLANK(AW11),\"\",AW11)","v":""}]
[null,208,{"$f":"IF(ISBLANK(AX11),\"\",AX11)","v":""}]
[null,209,{"$f":"IF(ISBLANK(BA11),\"\",BA11)","v":""}]
[3,201,{"$f":"IF(ISBLANK(A12),\"\",A12)","v":""}]
[null,202,{"$f":"IF(ISBLANK(I12),\"\",I12)","v":""}]
[null,203,{"$f":"IF(ISBLANK(S12),\"\",S12)","v":""}]
[null,204,{"$f":"IF(ISBLANK(AC12),\"\",AC12)","v":""}]
[null,205,{"$f":"IF(ISBLANK(AL12),\"\",AL12)","v":""}]
[null,206,{"$f":"IF(ISBLANK(AU12),\"\",AU12)","v":""}]
[null,207,{"$f":"IF(ISBLANK(AW12),\"\",AW12)","v":""}]
[null,208,{"$f":"IF(ISBLANK(AX12),\"\",AX12)","v":""}]
[null,209,{"$f":"IF(ISBLANK(BA12),\"\",BA12)","v":""}]
[4,201,{"$f":"IF(ISBLANK(A13),\"\",A13)","v":""}]
[null,202,{"$f":"IF(ISBLANK(I13),\"\",I13)","v":""}]
[null,203,{"$f":"IF(ISBLANK(S13),\"\",S13)","v":""}]
[null,204,{"$f":"IF(ISBLANK(AC13),\"\",AC13)","v":""}]
[null,205,{"$f":"IF(ISBLANK(AL13),\"\",AL13)","v":""}]
[null,206,{"$f":"IF(ISBLANK(AU13),\"\",AU13)","v":""}]
[null,207,{"$f":"IF(ISBLANK(AW13),\"\",AW13)","v":""}]
[null,208,{"$f":"IF(ISBLANK(AX13),\"\",AX13)","v":""}]
[null,209,{"$f":"IF(ISBLANK(BA13),\"\",BA13)","v":""}]
[5,201,{"$f":"IF(ISBLANK(A14),\"\",A14)","v":""}]
[null,202,{"$f":"IF(ISBLANK(I14),\"\",I14)","v":""}]
[null,203,{"$f":"IF(ISBLANK(S14),\"\",S14)","v":""}]
[null,204,{"$f":"IF(ISBLANK(AC14),\"\",AC14)","v":""}]
[null,205,{"$f":"IF(ISBLANK(AL14),\"\",AL14)","v":""}]
[null,206,{"$f":"IF(ISBLANK(AU14),\"\",AU14)","v":""}]
[null,207,{"$f":"IF(ISBLANK(AW14),\"\",AW14)","v":""}]
[null,208,{"$f":"IF(ISBLANK(AX14),\"\",AX14)","v":""}]
[null,209,{"$f":"IF(ISBLANK(BA14),\"\",BA14)","v":""}]
[210,null,{"$f":"IF(ISBLANK('G2'!B53),\"\",'G2'!B53)","v":""}]
["事業年度",null,false]

{"sheet":"H2","index":11,"n_rows":97,"n_cols":50,"rows_kept":97,"cut":false,"hidden":true,"merged":[[96,0,96,1],[23,26,23,34],[23,35,23,38],[22,27,22,34],[22,36,22,38],[23,14,23,22],[22,40,22,45],[27,10,27,13],[27,26,27,34],[27,35,27,38],[24,0,24,9],[24,10,24,13],[26,0,26,9],[26,10,26,13],[26,26,26,34],[26,35,26,38],[24,26,24,34],[24,35,24,38],[25,0,25,9],[25,10,25,13],[25,26,25,34],[25,35,25,38],[27,0,27,9],[23,0,23,9],[22,49,22,50],[5,45,5,46],[17,0,17,6],[18,0,18,6],[19,0,19,6],[22,1,22,9],[22,15,22,20],[22,24,22,25],[14,0,14,6],[8,0,8,6],[8,17,8,33],[8,34,8,36],[9,0,9,6],[9,17,9,23],[18,8,18,16],[19,8,19,16],[18,18,18,23],[19,18,19,23],[17,7,17,14],[17,15,17,16],[17,17,17,21],[22,11,22,13],[17,22,17,23],[12,0,12,6],[0,47,0,52],[2,14,2,29],[1,14,1,29],[5,0,5,14],[5,15,5,16],[5,17,5,31],[5,32,5,33],[5,34,5,44],[13,0,13,6],[6,0,6,6],[6,17,7,17],[6,18,6,23],[6,34,6,36],[7,0,7,6],[7,18,7,23],[7,34,7,36],[9,34,9,36],[10,0,10,6],[10,17,10,23],[11,0,11,6],[6,8,6,16],[7,8,7,16],[8,8,8,16],[7,38,7,46],[6,38,6,46],[8,38,8,46],[9,38,9,46],[14,8,14,16],[6,25,6,33],[7,25,7,33],[9,25,9,33],[10,25,10,33],[9,8,9,16],[10,8,10,16],[11,8,11,16],[12,8,12,16],[13,8,13,16],[23,10,23,13],[30,0,30,16],[88,0,95,0],[34,0,34,1],[56,0,63,0],[64,0,71,0],[72,0,79,0],[80,0,87,0],[31,1,31,24],[23,48,23,50],[24,48,24,50],[25,48,25,50],[26,48,26,50],[27,48,27,50],[26,14,26,22],[27,14,27,22],[23,39,23,47],[24,39,24,47],[25,39,25,47],[26,39,26,47],[27,39,27,47],[23,23,23,25],[24,23,24,25],[25,23,25,25],[26,23,26,25],[27,23,27,25],[24,14,24,22],[25,14,25,22]]}
[]
["令和６年調査 酒類業実態調査表Ｅ１",null,null,null,null,null,null,null,null,null,null,null,null,null,"調査対象期間"]
[null,null,null,null,null,null,null,null,null,null,null,null,null,null,"事業年度（個人は令和５年分）"]
["個別項目（単式蒸留焼酎）"]
["１　単式蒸留焼酎製造業に係る以下の項目を記入してください。"]
["損益計算書",null,null,null,null,null,null,null,null,null,null,null,null,null,null,"（千円）",null,"単式蒸留焼酎の生産費等製造原価",null,null,null,null,null,null,null,null,null,null,null,null,null,null,"（千円）",null,"単式蒸留焼酎製造業の従業員数",null,null,null,null,null,null,null,null,null,null,"（人）"]
["課税売上高",null,null,null,null,null,null,307,null,null,null,null,null,null,null,null,null,"原材料費","主原料代（米、芋及び黒糖代等）",null,null,null,null,null,316,null,null,null,null,null,null,null,null,null,"製造部門",null,null,320]
["未納税売上高",null,null,null,null,null,null,308,null,null,null,null,null,null,null,null,null,null,"その他",null,null,null,null,null,317,null,null,null,null,null,null,null,null,null,"詰口部門",null,null,321]
["その他",null,null,null,null,null,null,309,null,null,null,null,null,null,null,null,null,"焼酎粕の処理費",null,null,null,null,null,null,null,null,null,null,null,null,null,null,null,null,"その他",null,null,322]
["計",null,null,null,null,null,null,310,{"$f":"IF(SUM(I7:Q9)=0,\"\",SUM(I7:Q9))","v":""},null,null,null,null,null,null,null,null,"総額（千円）",null,null,null,null,null,null,318,null,null,null,null,null,null,null,null,null,"計",null,null,323,{"$f":"IF(SUM(AM7:AU9)=0,\"\",SUM(AM7:AU9))","v":""}]
["課税売上原価",null,null,null,null,null,null,311,null,null,null,null,null,null,null,null,null,"トン当たりの処理単価（円）",null,null,null,null,null,null,319]
["未納税売上原価",null,null,null,null,null,null,312]
["その他",null,null,null,null,null,null,313]
["計",null,null,null,null,null,null,314,{"$f":"IF(SUM(I11:Q13)=0,\"\",SUM(I11:Q13))","v":""}]
["販売費及び一般管理費",null,null,null,null,null,null,315]
[]
["２　自社間の移出入を除く未納税移出入数量及び取引先数について記入してください。"]
["区分",null,null,null,null,null,null,"数量（25度換算）",null,null,null,null,null,null,null,"（ﾘｯﾄﾙ）",null,"取引先数",null,null,null,null,"（者）"]
["未納税移出",null,null,null,null,null,null,324,null,null,null,null,null,null,null,null,null,326]
["未納税移入",null,null,null,null,null,null,325,null,null,null,null,null,null,null,null,null,327]
[]
["３　自社間の移出入を除く未納税移出入の状況を製造場ごとに原材料別の数量を上位５場について記入してください。"]
[328,"移出先製造場名",null,null,null,null,null,null,null,null,329,"原材料別",null,null,330,"未納税移出数量\n（25度換算）",null,null,null,null,null,"（ﾘｯﾄﾙ）",null,331,"単価\n（円）",null,332,"移入元製造場名",null,null,null,null,null,null,null,333,"原材料別",null,null,334,"未納税移入数量\n（25度換算）",null,null,null,null,null,"（ﾘｯﾄﾙ）",null,335,"単価\n（円）"]
[]
[]
[]
[]
[]
[]
["４　単式蒸留焼酎製造業の製造責任者の状況について当てはまるものを記入してください。"]
["　１　代表者親族　２　杜氏制　３　社員杜氏"]
[306]
[]
[]
["入力判定",null,{"$f":"IF(SUM(I7:Q9)<>0,TRUE,FALSE)","v":false}]
[307,null,{"$f":"IF(ISBLANK(I7),\"\",I7)","v":""}]
[308,null,""]
[309,null,""]
[310,null,""]
[311,null,""]
[312,null,""]
[313,null,""]
[314,null,""]
[315,null,""]
[316,null,{"$f":"IF(ISBLANK(Z7),\"\",Z7)","v":""}]
[317,null,{"$f":"IF(ISBLANK(Z8),\"\",Z8)","v":""}]
[318,null,{"$f":"IF(ISBLANK(Z10),\"\",Z10)","v":""}]
[319,null,{"$f":"IF(ISBLANK(Z11),\"\",Z11)","v":""}]
[320,null,{"$f":"IF(ISBLANK(AM7),\"\",AM7)","v":""}]
[321,null,{"$f":"IF(ISBLANK(AM8),\"\",AM8)","v":""}]
[322,null,{"$f":"IF(ISBLANK(AM9),\"\",AM9)","v":""}]
[323,null,{"$f":"IF(ISBLANK(AM10),\"\",AM10)","v":""}]
[324,null,{"$f":"IF(ISBLANK(I19),\"\",I19)","v":""}]
[325,null,{"$f":"IF(ISBLANK(I20),\"\",I20)","v":""}]
[326,null,{"$f":"IF(ISBLANK(S19),\"\",S19)","v":""}]
[327,null,{"$f":"IF(ISBLANK(S20),\"\",S20)","v":""}]
[1,328,{"$f":"IF(ISBLANK(A24),\"\",A24)","v":""}]
[null,329,{"$f":"IF(ISBLANK(K24),\"\",K24)","v":""}]
[null,330,{"$f":"IF(ISBLANK(O24),\"\",O24)","v":""}]
[null,331,{"$f":"IF(ISBLANK(X24),\"\",X24)","v":""}]
[null,332,{"$f":"IF(ISBLANK(AA24),\"\",AA24)","v":""}]
[null,333,{"$f":"IF(ISBLANK(AJ24),\"\",AJ24)","v":""}]
[null,334,{"$f":"IF(ISBLANK(AN24),\"\",AN24)","v":""}]
[null,335,{"$f":"IF(ISBLANK(AW24),\"\",AW24)","v":""}]
[2,328,{"$f":"IF(ISBLANK(A25),\"\",A25)","v":""}]
[null,329,{"$f":"IF(ISBLANK(K25),\"\",K25)","v":""}]
[null,330,{"$f":"IF(ISBLANK(O25),\"\",O25)","v":""}]
[null,331,{"$f":"IF(ISBLANK(X25),\"\",X25)","v":""}]
[null,332,{"$f":"IF(ISBLANK(AA25),\"\",AA25)","v":""}]
[null,333,{"$f":"IF(ISBLANK(AJ25),\"\",AJ25)","v":""}]
[null,334,{"$f":"IF(ISBLANK(AN25),\"\",AN25)","v":""}]
[null,335,{"$f":"IF(ISBLANK(AW25),\"\",AW25)","v":""}]
[3,328,{"$f":"IF(ISBLANK(A26),\"\",A26)","v":""}]
[null,329,{"$f":"IF(ISBLANK(K26),\"\",K26)","v":""}]
[null,330,{"$f":"IF(ISBLANK(O26),\"\",O26)","v":""}]
[null,331,{"$f":"IF(ISBLANK(X26),\"\",X26)","v":""}]
[null,332,{"$f":"IF(ISBLANK(AA26),\"\",AA26)","v":""}]
[null,333,{"$f":"IF(ISBLANK(AJ26),\"\",AJ26)","v":""}]
[null,334,{"$f":"IF(ISBLANK(AN26),\"\",AN26)","v":""}]
[null,335,{"$f":"IF(ISBLANK(AW26),\"\",AW26)","v":""}]
[4,328,{"$f":"IF(ISBLANK(A27),\"\",A27)","v":""}]
[null,329,{"$f":"IF(ISBLANK(K27),\"\",K27)","v":""}]
[null,330,{"$f":"IF(ISBLANK(O27),\"\",O27)","v":""}]
[null,331,{"$f":"IF(ISBLANK(X27),\"\",X27)","v":""}]
[null,332,{"$f":"IF(ISBLANK(AA27),\"\",AA27)","v":""}]
[null,333,{"$f":"IF(ISBLANK(AJ27),\"\",AJ27)","v":""}]
[null,334,{"$f":"IF(ISBLANK(AN27),\"\",AN27)","v":""}]
[null,335,{"$f":"IF(ISBLANK(AW27),\"\",AW27)","v":""}]
[5,328,{"$f":"IF(ISBLANK(A28),\"\",A28)","v":""}]
[null,329,{"$f":"IF(ISBLANK(K28),\"\",K28)","v":""}]
[null,330,{"$f":"IF(ISBLANK(O28),\"\",O28)","v":""}]
[null,331,{"$f":"IF(ISBLANK(X28),\"\",X28)","v":""}]
[null,332,{"$f":"IF(ISBLANK(AA28),\"\",AA28)","v":""}]
[null,333,{"$f":"IF(ISBLANK(AJ28),\"\",AJ28)","v":""}]
[null,334,{"$f":"IF(ISBLANK(AN28),\"\",AN28)","v":""}]
[null,335,{"$f":"IF(ISBLANK(AW28),\"\",AW28)","v":""}]
[306,null,{"$f":"IF(ISBLANK(B32),\"\",B32)","v":""}]

{"sheet":"H1","index":12,"n_rows":75,"n_cols":50,"rows_kept":75,"cut":false,"hidden":true,"merged":[[74,0,74,1],[14,0,14,5],[15,0,15,5],[16,0,16,5],[17,0,17,5],[22,0,22,1],[23,0,27,0],[28,0,32,0],[33,0,37,0],[63,0,67,0],[68,0,72,0],[38,0,42,0],[43,0,47,0],[48,0,52,0],[53,0,57,0],[58,0,62,0],[17,6,17,14],[15,24,15,32],[16,24,16,32],[17,24,17,32],[7,13,7,14],[7,16,7,21],[7,22,7,23],[11,15,11,23],[12,15,12,23],[13,15,13,23],[14,15,14,23],[15,15,15,23],[16,15,16,23],[17,15,17,23],[12,6,12,14],[13,6,13,14],[13,0,13,5],[7,25,7,30],[7,0,7,5],[7,7,7,12],[8,0,8,5],[9,0,9,5],[10,0,10,5],[11,0,11,5],[12,0,12,5],[8,6,8,14],[9,6,9,14],[10,6,10,14],[11,6,11,14],[8,15,8,23],[9,15,9,23],[10,15,10,23],[7,43,7,48],[7,49,7,50],[0,47,0,52],[7,31,7,32],[7,34,7,39],[7,40,7,41],[1,16,1,32],[2,16,2,32],[1,35,1,45],[2,35,2,45],[14,6,14,14],[15,6,15,14],[16,6,16,14],[8,24,8,32],[9,24,9,32],[10,24,10,32],[11,24,11,32],[12,24,12,32],[13,24,13,32],[14,24,14,32],[8,33,8,41],[9,33,9,41],[10,33,10,41],[11,33,11,41],[12,33,12,41],[8,42,8,50],[9,42,9,50],[10,42,10,50],[11,42,11,50],[12,42,12,50],[13,42,13,50],[14,42,14,50],[15,42,15,50],[16,42,16,50],[17,42,17,50],[13,33,13,41],[14,33,14,41],[15,33,15,41],[16,33,16,41],[17,33,17,41]]}
[]
["令和６年調査 酒類業実態調査表Ｅ２",null,null,null,null,null,null,null,null,null,null,null,null,null,null,null,"調査対象期間",null,null,null,null,null,null,null,null,null,null,null,null,null,null,null,null,null,null,"事業年度で記入した場合チェックする"]
[null,null,null,null,null,null,null,null,null,null,null,null,null,null,null,null,"暦年（令和５年１月１日から令和５年12月31日）"]
["個別項目（単式蒸留焼酎）"]
[]
["５　原材料別に記入してください。"]
["　　暦年で記入できない場合は、事業年度で記入していただいても差し支えありません。その場合、右上の欄にチェックをお願いします。"]
["原材料別",null,null,null,null,null,301,"製成数量\n(25度換算）",null,null,null,null,null,"（ﾘｯﾄﾙ）",null,302,"売上数量\n(国内取引)",null,null,null,null,null,"（ﾘｯﾄﾙ）",null,303,"売上金額\n(国内取引)(税抜)",null,null,null,null,null,"（千円）",null,304,"輸出数量",null,null,null,null,null,"（ﾘｯﾄﾙ）",null,305,"輸出金額",null,null,null,null,null,"（千円）"]
["芋焼酎"]
["米焼酎"]
["麦焼酎"]
["そば焼酎"]
["黒糖焼酎"]
["かす取り焼酎"]
["泡盛"]
["その他の単式蒸留焼酎"]
["焼酎乙類甲類混和"]
["合計",null,null,null,null,null,{"$f":"IF(SUM(G9:O17)=0,\"\",SUM(G9:O17))","v":""},null,null,null,null,null,null,null,null,{"$f":"IF(SUM(P9:X17)=0,\"\",SUM(P9:X17))","v":""},null,null,null,null,null,null,null,null,{"$f":"IF(SUM(Y9:AG17)=0,\"\",SUM(Y9:AG17))","v":""},null,null,null,null,null,null,null,null,{"$f":"IF(SUM(AH9:AP17)=0,\"\",SUM(AH9:AP17))","v":""},null,null,null,null,null,null,null,null,{"$f":"IF(SUM(AQ9:AY17)=0,\"\",SUM(AQ9:AY17))","v":""}]
[]
[]
[]
[]
["入力判定",null,"なし"]
["芋焼酎",301,{"$f":"IF(ISBLANK(G9),\"\",G9)","v":""}]
[null,302,{"$f":"IF(ISBLANK(P9),\"\",P9)","v":""}]
[null,303,{"$f":"IF(ISBLANK(Y9),\"\",Y9)","v":""}]
[null,304,{"$f":"IF(ISBLANK(AH9),\"\",AH9)","v":""}]
[null,305,{"$f":"IF(ISBLANK(AQ9),\"\",AQ9)","v":""}]
["米焼酎",301,{"$f":"IF(ISBLANK(G10),\"\",G10)","v":""}]
[null,302,{"$f":"IF(ISBLANK(P10),\"\",P10)","v":""}]
[null,303,{"$f":"IF(ISBLANK(Y10),\"\",Y10)","v":""}]
[null,304,{"$f":"IF(ISBLANK(AH10),\"\",AH10)","v":""}]
[null,305,{"$f":"IF(ISBLANK(AQ10),\"\",AQ10)","v":""}]
["麦焼酎",301,{"$f":"IF(ISBLANK(G11),\"\",G11)","v":""}]
[null,302,{"$f":"IF(ISBLANK(P11),\"\",P11)","v":""}]
[null,303,{"$f":"IF(ISBLANK(Y11),\"\",Y11)","v":""}]
[null,304,{"$f":"IF(ISBLANK(AH11),\"\",AH11)","v":""}]
[null,305,{"$f":"IF(ISBLANK(AQ11),\"\",AQ11)","v":""}]
["そば焼酎",301,{"$f":"IF(ISBLANK(G12),\"\",G12)","v":""}]
[null,302,{"$f":"IF(ISBLANK(P12),\"\",P12)","v":""}]
[null,303,{"$f":"IF(ISBLANK(Y12),\"\",Y12)","v":""}]
[null,304,{"$f":"IF(ISBLANK(AH12),\"\",AH12)","v":""}]
[null,305,{"$f":"IF(ISBLANK(AQ12),\"\",AQ12)","v":""}]
["黒糖焼酎",301,{"$f":"IF(ISBLANK(G13),\"\",G13)","v":""}]
[null,302,{"$f":"IF(ISBLANK(P13),\"\",P13)","v":""}]
[null,303,{"$f":"IF(ISBLANK(Y13),\"\",Y13)","v":""}]
[null,304,{"$f":"IF(ISBLANK(AH13),\"\",AH13)","v":""}]
[null,305,{"$f":"IF(ISBLANK(AQ13),\"\",AQ13)","v":""}]
["かす取り焼酎",301,{"$f":"IF(ISBLANK(G14),\"\",G14)","v":""}]
[null,302,{"$f":"IF(ISBLANK(P14),\"\",P14)","v":""}]
[null,303,{"$f":"IF(ISBLANK(Y14),\"\",Y14)","v":""}]
[null,304,{"$f":"IF(ISBLANK(AH14),\"\",AH14)","v":""}]
[null,305,{"$f":"IF(ISBLANK(AQ14),\"\",AQ14)","v":""}]
["泡盛",301,{"$f":"IF(ISBLANK(G15),\"\",G15)","v":""}]
[null,302,{"$f":"IF(ISBLANK(P15),\"\",P15)","v":""}]
[null,303,{"$f":"IF(ISBLANK(Y15),\"\",Y15)","v":""}]
[null,304,{"$f":"IF(ISBLANK(AH15),\"\",AH15)","v":""}]
[null,305,{"$f":"IF(ISBLANK(AQ15),\"\",AQ15)","v":""}]
["その他の単式蒸留焼酎",301,{"$f":"IF(ISBLANK(G16),\"\",G16)","v":""}]
[null,302,{"$f":"IF(ISBLANK(P16),\"\",P16)","v":""}]
[null,303,{"$f":"IF(ISBLANK(Y16),\"\",Y16)","v":""}]
[null,304,{"$f":"IF(ISBLANK(AH16),\"\",AH16)","v":""}]
[null,305,{"$f":"IF(ISBLANK(AQ16),\"\",AQ16)","v":""}]
["焼酎乙類甲類混和",301,{"$f":"IF(ISBLANK(G17),\"\",G17)","v":""}]
[null,302,{"$f":"IF(ISBLANK(P17),\"\",P17)","v":""}]
[null,303,{"$f":"IF(ISBLANK(Y17),\"\",Y17)","v":""}]
[null,304,{"$f":"IF(ISBLANK(AH17),\"\",AH17)","v":""}]
[null,305,{"$f":"IF(ISBLANK(AQ17),\"\",AQ17)","v":""}]
["合計",301,{"$f":"IF(ISBLANK(G18),\"\",G18)","v":""}]
[null,302,{"$f":"IF(ISBLANK(P18),\"\",P18)","v":""}]
[null,303,{"$f":"IF(ISBLANK(Y18),\"\",Y18)","v":""}]
[null,304,{"$f":"IF(ISBLANK(AH18),\"\",AH18)","v":""}]
[null,305,{"$f":"IF(ISBLANK(AQ18),\"\",AQ18)","v":""}]
[null,306,{"$f":"'H2'!C97","v":""}]
["事業年度",null,false]

{"sheet":"I","index":13,"n_rows":80,"n_cols":54,"rows_kept":80,"cut":false,"hidden":true,"merged":[[7,19,8,37],[7,40,7,58],[8,40,8,58],[9,46,9,58],[10,46,12,58],[9,42,12,45],[9,23,10,24],[11,23,12,24],[9,25,10,37],[6,40,6,58],[7,0,8,0],[9,0,10,0],[11,0,12,0],[9,40,12,41],[7,1,8,9],[9,1,10,9],[11,1,12,9],[6,0,6,17],[6,19,6,37],[7,10,8,17],[9,10,10,17],[11,10,12,17],[11,19,12,22],[9,19,10,22],[11,25,12,37],[72,0,72,1],[1,19,1,35],[1,38,1,48],[2,19,2,35],[2,38,2,48],[45,0,53,0],[54,0,62,0],[63,0,71,0],[21,0,21,7],[21,8,21,17],[36,0,44,0],[27,0,35,0],[26,0,26,1],[20,0,20,7],[20,8,20,17],[20,18,20,27],[19,46,19,47],[19,49,19,51],[19,52,19,58],[18,0,18,7],[18,8,18,17],[18,18,18,27],[18,28,18,36],[19,0,19,7],[19,8,19,17],[19,18,19,27],[19,28,19,36],[19,37,19,45],[18,37,18,45],[18,49,18,51],[18,52,18,58],[16,49,16,58],[17,46,17,47],[17,50,17,51],[17,53,17,58],[16,38,17,45],[16,19,17,27],[16,28,17,28],[16,29,17,34],[16,35,17,36],[16,37,17,37],[0,34,0,39],[21,46,21,47],[22,0,22,7],[22,8,22,17],[22,18,22,27],[22,46,22,47],[16,46,16,47],[16,0,17,0],[16,1,17,7],[16,8,17,8],[16,9,17,17],[16,18,17,18],[18,46,18,47],[21,18,21,27],[21,28,21,36],[21,37,21,45],[22,49,22,51],[22,28,22,36],[22,37,22,45],[22,52,22,58],[20,46,20,47],[20,49,20,51],[20,52,20,58],[21,49,21,51],[21,52,21,58],[20,28,20,36],[20,37,20,45]]}
[]
["令和６年調査　酒類業実態調査表Ｆ",null,null,null,null,null,null,null,null,null,null,null,null,null,null,null,null,null,null,"調査対象期間",null,null,null,null,null,null,null,null,null,null,null,null,null,null,null,null,null,null,"事業年度で記入した場合チェックする"]
[null,null,null,null,null,null,null,null,null,null,null,null,null,null,null,null,null,null,null,"暦年（令和５年１月１日から令和５年12月31日）"]
["個別項目（ビール・発泡酒）"]
["暦年で記入できない場合は、事業年度で記入していただいても差し支えありません。その場合、右上の欄にチェックしてください。"]
[]
["１　製造場の場数について記入してください。",null,null,null,null,null,null,null,null,null,null,null,null,null,null,null,null,null,null,"２　ビール及び発泡酒の課税移出数量を記入してください。",null,null,null,null,null,null,null,null,null,null,null,null,null,null,null,null,null,null,null,null,"３　主な販売形態について当てはまる番号を記入してください。"]
[410,"ビール免許のみの製造場数",null,null,null,null,null,null,null,null,null,null,null,null,null,null,null,null,null,"課税移出数量（リットル）",null,null,null,null,null,null,null,null,null,null,null,null,null,null,null,null,null,null,null,null,"１：酒類販売業者への卸売り　２：飲料店・チェーン店への供給　３：レストラン併設"]
[null,null,null,null,null,null,null,null,null,null,null,null,null,null,null,null,null,null,null,null,null,null,null,null,null,null,null,null,null,null,null,null,null,null,null,null,null,null,null,null,"４：物産展・売店等併設　５：テーマパーク内施設　６：その他"]
[411,"発泡酒免許のみの製造場数",null,null,null,null,null,null,null,null,null,null,null,null,null,null,null,null,null,"ビール",null,null,null,413,null,null,null,null,null,null,null,null,null,null,null,null,null,null,null,null,415,null,null,null,null,null,"（６：その他を選択した場合、具体的な内容を記入してください。）"]
[]
[412,"ビール・発泡酒兼業の製造場数",null,null,null,null,null,null,null,null,null,null,null,null,null,null,null,null,null,"発泡酒",null,null,null,414]
[]
[]
["４　ビールの海外生産をしている方（現地法人によるものを含む。）は記入してください。"]
[]
[401,"生産国",null,null,null,null,null,null,402,"生　産　者\n（現地法人）",null,null,null,null,null,null,null,null,403,"主　な　銘　柄",null,null,null,null,null,null,null,null,404,"売上数量",null,null,null,null,null,"（ﾘｯﾄﾙ）",null,405,"売上金額\n（日本円の場合は千円単位）",null,null,null,null,null,null,null,406,null,407,"生産国からの輸出"]
[null,null,null,null,null,null,null,null,null,null,null,null,null,null,null,null,null,null,null,null,null,null,null,null,null,null,null,null,null,null,null,null,null,null,null,null,null,null,null,null,null,null,null,null,null,null,"現地\n通貨",null,"桁",408,"日本への輸出の有無",null,409,"日本以外の\n輸出先国"]
[]
[]
[]
[]
[]
[]
[]
[]
["入力判定",null,{"$f":"IF(SUM(K8,K10,K12)<>0,TRUE,FALSE)","v":false}]
[1,401,{"$f":"IF(ISBLANK(A19),\"\",A19)","v":""}]
[null,402,{"$f":"IF(ISBLANK(I19),\"\",I19)","v":""}]
[null,403,{"$f":"IF(ISBLANK(S19),\"\",S19)","v":""}]
[null,404,{"$f":"IF(ISBLANK(AC19),\"\",AC19)","v":""}]
[null,405,{"$f":"IF(ISBLANK(AL19),\"\",AL19)","v":""}]
[null,406,{"$f":"IF(ISBLANK(AU19),\"\",AU19)","v":""}]
[null,407,{"$f":"IF(ISBLANK(AW19),\"\",AW19)","v":""}]
[null,408,{"$f":"IF(ISBLANK(AX19),\"\",AX19)","v":""}]
[null,409,{"$f":"IF(ISBLANK(BA19),\"\",BA19)","v":""}]
[2,401,{"$f":"IF(ISBLANK(A20),\"\",A20)","v":""}]
[null,402,{"$f":"IF(ISBLANK(I20),\"\",I20)","v":""}]
[null,403,{"$f":"IF(ISBLANK(S20),\"\",S20)","v":""}]
[null,404,{"$f":"IF(ISBLANK(AC20),\"\",AC20)","v":""}]
[null,405,{"$f":"IF(ISBLANK(AL20),\"\",AL20)","v":""}]
[null,406,{"$f":"IF(ISBLANK(AU20),\"\",AU20)","v":""}]
[null,407,{"$f":"IF(ISBLANK(AW20),\"\",AW20)","v":""}]
[null,408,{"$f":"IF(ISBLANK(AX20),\"\",AX20)","v":""}]
[null,409,{"$f":"IF(ISBLANK(BA20),\"\",BA20)","v":""}]
[3,401,{"$f":"IF(ISBLANK(A21),\"\",A21)","v":""}]
[null,402,{"$f":"IF(ISBLANK(I21),\"\",I21)","v":""}]
[null,403,{"$f":"IF(ISBLANK(S21),\"\",S21)","v":""}]
[null,404,{"$f":"IF(ISBLANK(AC21),\"\",AC21)","v":""}]
[null,405,{"$f":"IF(ISBLANK(AL21),\"\",AL21)","v":""}]
[null,406,{"$f":"IF(ISBLANK(AU21),\"\",AU21)","v":""}]
[null,407,{"$f":"IF(ISBLANK(AW21),\"\",AW21)","v":""}]
[null,408,{"$f":"IF(ISBLANK(AX21),\"\",AX21)","v":""}]
[null,409,{"$f":"IF(ISBLANK(BA21),\"\",BA21)","v":""}]
[4,401,{"$f":"IF(ISBLANK(A22),\"\",A22)","v":""}]
[null,402,{"$f":"IF(ISBLANK(I22),\"\",I22)","v":""}]
[null,403,{"$f":"IF(ISBLANK(S22),\"\",S22)","v":""}]
[null,404,{"$f":"IF(ISBLANK(AC22),\"\",AC22)","v":""}]
[null,405,{"$f":"IF(ISBLANK(AL22),\"\",AL22)","v":""}]
[null,406,{"$f":"IF(ISBLANK(AU22),\"\",AU22)","v":""}]
[null,407,{"$f":"IF(ISBLANK(AW22),\"\",AW22)","v":""}]
[null,408,{"$f":"IF(ISBLANK(AX22),\"\",AX22)","v":""}]
[null,409,{"$f":"IF(ISBLANK(BA22),\"\",BA22)","v":""}]
[5,401,{"$f":"IF(ISBLANK(A23),\"\",A23)","v":""}]
[null,402,{"$f":"IF(ISBLANK(I23),\"\",I23)","v":""}]
[null,403,{"$f":"IF(ISBLANK(S23),\"\",S23)","v":""}]
[null,404,{"$f":"IF(ISBLANK(AC23),\"\",AC23)","v":""}]
[null,405,{"$f":"IF(ISBLANK(AL23),\"\",AL23)","v":""}]
[null,406,{"$f":"IF(ISBLANK(AU23),\"\",AU23)","v":""}]
[null,407,{"$f":"IF(ISBLANK(AW23),\"\",AW23)","v":""}]
[null,408,{"$f":"IF(ISBLANK(AX23),\"\",AX23)","v":""}]
[null,409,{"$f":"IF(ISBLANK(BA23),\"\",BA23)","v":""}]
["事業年度",null,false]
[null,410,{"$f":"IF(ISBLANK(K8),\"\",K8)","v":""}]
[null,411,{"$f":"IF(ISBLANK(K10),\"\",K10)","v":""}]
[null,412,{"$f":"IF(ISBLANK(K12),\"\",K12)","v":""}]
[null,413,{"$f":"IF(ISBLANK(Z10),\"\",Z10)","v":""}]
[null,414,{"$f":"IF(ISBLANK(Z12),\"\",Z12)","v":""}]
[null,415,{"$f":"IF(ISBLANK(AQ10),\"\",AQ10)","v":""}]
["その他",415,{"$f":"IF(ISBLANK(AU11),\"\",AU11)","v":""}]

{"sheet":"J","index":14,"n_rows":76,"n_cols":31,"rows_kept":76,"cut":false,"hidden":true,"merged":[[17,3,17,7],[20,3,20,7],[20,8,20,13],[9,17,10,39],[15,17,16,39],[17,8,17,13],[18,3,18,7],[18,8,18,13],[19,3,19,7],[19,8,19,13],[19,1,19,2],[20,1,20,2],[10,3,10,7],[10,8,10,13],[11,3,11,7],[11,8,11,13],[12,3,12,7],[12,8,12,13],[13,3,13,7],[13,8,13,13],[14,3,14,7],[14,8,14,13],[15,3,15,7],[15,8,15,13],[16,3,16,7],[16,8,16,13],[14,1,14,2],[15,1,15,2],[16,1,16,2],[17,1,17,2],[18,1,18,2],[2,21,2,31],[1,21,1,31],[11,17,11,22],[12,18,12,22],[13,17,13,22],[11,24,11,28],[12,24,12,28],[13,24,13,28],[4,0,4,41],[5,0,5,41],[10,1,10,2],[11,1,11,2],[12,1,12,2],[13,1,13,2],[21,17,21,22],[21,24,21,29],[22,17,22,22],[22,24,22,29],[17,17,17,22],[19,17,19,22],[19,24,19,29],[20,17,20,22],[20,24,20,29],[17,23,17,27],[18,17,18,22],[18,24,18,29]]}
[]
["令和６年調査 酒類業実態調査表Ｇ",null,null,null,null,null,null,null,null,null,null,null,null,"個別項目（果実酒）",null,null,null,null,null,null,null,"調査対象期間"]
[null,null,null,null,null,null,null,null,null,null,null,null,null,null,null,null,null,null,null,null,null,"事業年度（個人は令和５年分）"]
[]
["　個別項目（調査表Ｇ及びＨ①～Ｈ④)は、果実酒のうち、ぶどうを原料としたものについて記入してください。"]
["　※　果実酒のうち、ぶどう以外の果実のみを用いたもの（例えば、りんごを100％使用したシードル）は、調査対象に含まれません。"]
["　日本ワインとは、「果実酒の製法品質表示基準」に規定する、原料の果実として国内で収穫されたぶどうのみを使用し、国内で製造された果実酒をいいます。"]
[]
[]
[null,"○全ての果実酒製造場（果実酒の蔵置場）を記入してください。",null,null,null,null,null,null,null,null,null,null,null,null,null,null,null,"１　日本ワイン及び日本ワイン以外のものに係る、令和６年１月１日の直前に終了した事業年度（個人は令和５年分）における確定した決算の額を記入してください。"]
[null,"番号",null,"製造場名",null,null,null,null,"製造場のある都道府県名"]
[null,1,null,null,null,null,null,null,null,null,null,null,null,null,null,null,null,"売上原価",null,null,null,null,null,501,null,null,null,null,null,"千円"]
[null,2,null,null,null,null,null,null,null,null,null,null,null,null,null,null,null,null,"内　原料費",null,null,null,null,502,null,null,null,null,null,"千円"]
[null,3,null,null,null,null,null,null,null,null,null,null,null,null,null,null,null,"販売費及び一般管理費",null,null,null,null,null,503,null,null,null,null,null,"千円"]
[null,4]
[null,5,null,null,null,null,null,null,null,null,null,null,null,null,null,null,null,"２　日本ワイン及び日本ワイン以外のものの販売数量について容量別に記入してください（調査対象期間は上記１と同様です。）。"]
[null,6]
[null,7,null,null,null,null,null,null,null,null,null,null,null,null,null,null,null,"容量別",null,null,null,null,null,"販売数量",null,null,null,null,null,"(ﾘｯﾄﾙ)"]
[null,8,null,null,null,null,null,null,null,null,null,null,null,null,null,null,null,"375ml",null,null,null,null,null,504]
[null,9,null,null,null,null,null,null,null,null,null,null,null,null,null,null,null,"720ml",null,null,null,null,null,505]
[null,10,null,null,null,null,null,null,null,null,null,null,null,null,null,null,null,"750ml",null,null,null,null,null,506]
[null,null,null,null,null,null,null,null,null,null,null,null,null,null,null,null,null,"1.8L",null,null,null,null,null,507]
[null,null,null,null,null,null,null,null,null,null,null,null,null,null,null,null,null,"その他",null,null,null,null,null,508]
[]
[]
[]
[]
["入力判定",{"$f":"IF(AND(D12<>\"\",Y12<>\"\"),TRUE,FALSE)","v":false}]
[1,{"$f":"IF(ISBLANK(D12),\"\",D12)","v":""}]
[1,{"$f":"IF(ISBLANK(I12),\"\",I12)","v":""},null,null,null,null,null,null,null,null,null,null,null,null,null,null,null,null,null,null,null,null,null,null,null,null,null,null,null,null,"北海道"]
[2,{"$f":"IF(ISBLANK(D13),\"\",D13)","v":""},null,null,null,null,null,null,null,null,null,null,null,null,null,null,null,null,null,null,null,null,null,null,null,null,null,null,null,null,"青森"]
[2,{"$f":"IF(ISBLANK(I13),\"\",I13)","v":""},null,null,null,null,null,null,null,null,null,null,null,null,null,null,null,null,null,null,null,null,null,null,null,null,null,null,null,null,"岩手"]
[3,{"$f":"IF(ISBLANK(D14),\"\",D14)","v":""},null,null,null,null,null,null,null,null,null,null,null,null,null,null,null,null,null,null,null,null,null,null,null,null,null,null,null,null,"宮城"]
[3,{"$f":"IF(ISBLANK(I14),\"\",I14)","v":""},null,null,null,null,null,null,null,null,null,null,null,null,null,null,null,null,null,null,null,null,null,null,null,null,null,null,null,null,"秋田"]
[4,{"$f":"IF(ISBLANK(D15),\"\",D15)","v":""},null,null,null,null,null,null,null,null,null,null,null,null,null,null,null,null,null,null,null,null,null,null,null,null,null,null,null,null,"山形"]
[4,{"$f":"IF(ISBLANK(I15),\"\",I15)","v":""},null,null,null,null,null,null,null,null,null,null,null,null,null,null,null,null,null,null,null,null,null,null,null,null,null,null,null,null,"福島"]
[5,{"$f":"IF(ISBLANK(D16),\"\",D16)","v":""},null,null,null,null,null,null,null,null,null,null,null,null,null,null,null,null,null,null,null,null,null,null,null,null,null,null,null,null,"茨城"]
[5,{"$f":"IF(ISBLANK(I16),\"\",I16)","v":""},null,null,null,null,null,null,null,null,null,null,null,null,null,null,null,null,null,null,null,null,null,null,null,null,null,null,null,null,"栃木"]
[6,{"$f":"IF(ISBLANK(D17),\"\",D17)","v":""},null,null,null,null,null,null,null,null,null,null,null,null,null,null,null,null,null,null,null,null,null,null,null,null,null,null,null,null,"群馬"]
[6,{"$f":"IF(ISBLANK(I17),\"\",I17)","v":""},null,null,null,null,null,null,null,null,null,null,null,null,null,null,null,null,null,null,null,null,null,null,null,null,null,null,null,null,"埼玉"]
[7,{"$f":"IF(ISBLANK(D18),\"\",D18)","v":""},null,null,null,null,null,null,null,null,null,null,null,null,null,null,null,null,null,null,null,null,null,null,null,null,null,null,null,null,"新潟"]
[7,{"$f":"IF(ISBLANK(I18),\"\",I18)","v":""},null,null,null,null,null,null,null,null,null,null,null,null,null,null,null,null,null,null,null,null,null,null,null,null,null,null,null,null,"長野"]
[8,{"$f":"IF(ISBLANK(D19),\"\",D19)","v":""},null,null,null,null,null,null,null,null,null,null,null,null,null,null,null,null,null,null,null,null,null,null,null,null,null,null,null,null,"千葉"]
[8,{"$f":"IF(ISBLANK(I19),\"\",I19)","v":""},null,null,null,null,null,null,null,null,null,null,null,null,null,null,null,null,null,null,null,null,null,null,null,null,null,null,null,null,"東京"]
[9,{"$f":"IF(ISBLANK(D20),\"\",D20)","v":""},null,null,null,null,null,null,null,null,null,null,null,null,null,null,null,null,null,null,null,null,null,null,null,null,null,null,null,null,"神奈川"]
[9,{"$f":"IF(ISBLANK(I20),\"\",I20)","v":""},null,null,null,null,null,null,null,null,null,null,null,null,null,null,null,null,null,null,null,null,null,null,null,null,null,null,null,null,"山梨"]
[10,{"$f":"IF(ISBLANK(D21),\"\",D21)","v":""},null,null,null,null,null,null,null,null,null,null,null,null,null,null,null,null,null,null,null,null,null,null,null,null,null,null,null,null,"富山"]
[10,{"$f":"IF(ISBLANK(I21),\"\",I21)","v":""},null,null,null,null,null,null,null,null,null,null,null,null,null,null,null,null,null,null,null,null,null,null,null,null,null,null,null,null,"石川"]
[501,{"$f":"IF(ISBLANK(Y12),\"\",Y12)","v":""},null,null,null,null,null,null,null,null,null,null,null,null,null,null,null,null,null,null,null,null,null,null,null,null,null,null,null,null,"福井"]
[502,{"$f":"IF(ISBLANK(Y13),\"\",Y13)","v":""},null,null,null,null,null,null,null,null,null,null,null,null,null,null,null,null,null,null,null,null,null,null,null,null,null,null,null,null,"岐阜"]
[503,{"$f":"IF(ISBLANK(Y14),\"\",Y14)","v":""},null,null,null,null,null,null,null,null,null,null,null,null,null,null,null,null,null,null,null,null,null,null,null,null,null,null,null,null,"静岡"]
[504,{"$f":"IF(ISBLANK(Y19),\"\",Y19)","v":""},null,null,null,null,null,null,null,null,null,null,null,null,null,null,null,null,null,null,null,null,null,null,null,null,null,null,null,null,"愛知"]
[505,{"$f":"IF(ISBLANK(Y20),\"\",Y20)","v":""},null,null,null,null,null,null,null,null,null,null,null,null,null,null,null,null,null,null,null,null,null,null,null,null,null,null,null,null,"三重"]
[506,{"$f":"IF(ISBLANK(Y21),\"\",Y21)","v":""},null,null,null,null,null,null,null,null,null,null,null,null,null,null,null,null,null,null,null,null,null,null,null,null,null,null,null,null,"滋賀"]
[507,{"$f":"IF(ISBLANK(Y22),\"\",Y22)","v":""},null,null,null,null,null,null,null,null,null,null,null,null,null,null,null,null,null,null,null,null,null,null,null,null,null,null,null,null,"京都"]
[508,{"$f":"IF(ISBLANK(Y23),\"\",Y23)","v":""},null,null,null,null,null,null,null,null,null,null,null,null,null,null,null,null,null,null,null,null,null,null,null,null,null,null,null,null,"大阪"]
[null,null,null,null,null,null,null,null,null,null,null,null,null,null,null,null,null,null,null,null,null,null,null,null,null,null,null,null,null,null,"兵庫"]
[null,null,null,null,null,null,null,null,null,null,null,null,null,null,null,null,null,null,null,null,null,null,null,null,null,null,null,null,null,null,"奈良"]
[null,null,null,null,null,null,null,null,null,null,null,null,null,null,null,null,null,null,null,null,null,null,null,null,null,null,null,null,null,null,"和歌山"]
[null,null,null,null,null,null,null,null,null,null,null,null,null,null,null,null,null,null,null,null,null,null,null,null,null,null,null,null,null,null,"鳥取"]
[null,null,null,null,null,null,null,null,null,null,null,null,null,null,null,null,null,null,null,null,null,null,null,null,null,null,null,null,null,null,"島根"]
[null,null,null,null,null,null,null,null,null,null,null,null,null,null,null,null,null,null,null,null,null,null,null,null,null,null,null,null,null,null,"岡山"]
[null,null,null,null,null,null,null,null,null,null,null,null,null,null,null,null,null,null,null,null,null,null,null,null,null,null,null,null,null,null,"広島"]
[null,null,null,null,null,null,null,null,null,null,null,null,null,null,null,null,null,null,null,null,null,null,null,null,null,null,null,null,null,null,"山口"]
[null,null,null,null,null,null,null,null,null,null,null,null,null,null,null,null,null,null,null,null,null,null,null,null,null,null,null,null,null,null,"徳島"]
[null,null,null,null,null,null,null,null,null,null,null,null,null,null,null,null,null,null,null,null,null,null,null,null,null,null,null,null,null,null,"香川"]
[null,null,null,null,null,null,null,null,null,null,null,null,null,null,null,null,null,null,null,null,null,null,null,null,null,null,null,null,null,null,"愛媛"]
[null,null,null,null,null,null,null,null,null,null,null,null,null,null,null,null,null,null,null,null,null,null,null,null,null,null,null,null,null,null,"高知"]
[null,null,null,null,null,null,null,null,null,null,null,null,null,null,null,null,null,null,null,null,null,null,null,null,null,null,null,null,null,null,"福岡"]
[null,null,null,null,null,null,null,null,null,null,null,null,null,null,null,null,null,null,null,null,null,null,null,null,null,null,null,null,null,null,"佐賀"]
[null,null,null,null,null,null,null,null,null,null,null,null,null,null,null,null,null,null,null,null,null,null,null,null,null,null,null,null,null,null,"長崎"]
[null,null,null,null,null,null,null,null,null,null,null,null,null,null,null,null,null,null,null,null,null,null,null,null,null,null,null,null,null,null,"熊本"]
[null,null,null,null,null,null,null,null,null,null,null,null,null,null,null,null,null,null,null,null,null,null,null,null,null,null,null,null,null,null,"大分"]
[null,null,null,null,null,null,null,null,null,null,null,null,null,null,null,null,null,null,null,null,null,null,null,null,null,null,null,null,null,null,"宮崎"]
[null,null,null,null,null,null,null,null,null,null,null,null,null,null,null,null,null,null,null,null,null,null,null,null,null,null,null,null,null,null,"鹿児島"]
[null,null,null,null,null,null,null,null,null,null,null,null,null,null,null,null,null,null,null,null,null,null,null,null,null,null,null,null,null,null,"沖縄"]

{"sheet":"K","index":15,"n_rows":30,"n_cols":24,"rows_kept":30,"cut":false,"hidden":true,"merged":[[7,13,8,27],[2,13,2,26],[1,13,1,26],[5,13,5,21],[6,13,6,21],[17,0,17,4],[18,0,18,4],[14,0,16,4],[8,0,9,11],[10,12,10,20],[10,0,10,9],[11,1,11,11],[11,13,11,23],[17,6,17,14],[18,6,18,14],[18,16,18,23],[17,16,17,23],[16,15,16,23],[15,5,16,14],[14,5,14,21],[15,15,15,23]]}
[]
["令和６年調査 酒類業実態調査表Ｈ１",null,null,null,null,null,null,null,null,null,null,null,null,"調査対象期間"]
[null,null,null,null,null,null,null,null,null,null,null,null,null,"令和５年４月１日から令和６年３月31日"]
[null,"☆　入力する製造場を選択してください。"]
[null,null,1,2,3,4,5,6,7,8,9,10,null,"選択した製造場名"]
[null,null,null,null,null,null,null,null,null,null,null,null,null,{"$f":"IF(ISBLANK(VLOOKUP(A22,J!B12:N21,3,FALSE)),\"\",VLOOKUP(A22,J!B12:N21,3,FALSE))","v":""}]
[null,null,null,null,null,null,null,null,null,null,null,null,null,{"$f":"\"【　\"&VLOOKUP(A22,J!B12:N21,8,FALSE)&\"　】\"","v":"【　　】"}]
[null,null,null,null,null,null,null,null,null,null,null,null,null,"この調査表は製造場ごとに記載してください。"]
["１　外国産ワインの輸入数量"]
[]
["原料用",null,null,null,null,null,null,null,null,null,null,"(ﾘｯﾄﾙ)","販売用\n（そのまま販売容器に充填して移出するために輸入したワイン）",null,null,null,null,null,null,null,null,null,null,"(ﾘｯﾄﾙ)"]
[509,null,null,null,null,null,null,null,null,null,null,null,510]
[]
["２　日本ワイン及び日本ワイン以外のものの課税移出数量及び未納税移出数量"]
["区　　分",null,null,null,null,"数　　量",null,null,null,null,null,null,null,null,null,null,null,null,null,null,null,null,null,"(ﾘｯﾄﾙ)"]
[null,null,null,null,null,"合計"]
[null,null,null,null,null,null,null,null,null,null,null,null,null,null,null,"内　日本ワイン"]
["課税移出数量",null,null,null,null,511,null,null,null,null,null,null,null,null,null,512]
["未納税移出数量",null,null,null,null,513,null,null,null,null,null,null,null,null,null,514]
[]
[]
[1]
[]
["入力判定",{"$f":"IF(SUM(E25:E30)<>0,TRUE,FALSE)","v":false},null,null,1,2,3,4,5,6,7,8,9,10]
[509,{"$f":"IF(ISBLANK(B12),\"\",B12)","v":""}]
[510,{"$f":"IF(ISBLANK(N12),\"\",N12)","v":""}]
[511,{"$f":"IF(ISBLANK(G18),\"\",G18)","v":""}]
[512,{"$f":"IF(ISBLANK(Q18),\"\",Q18)","v":""}]
[513,{"$f":"IF(ISBLANK(G19),\"\",G19)","v":""}]
[514,{"$f":"IF(ISBLANK(Q19),\"\",Q19)","v":""}]

{"sheet":"L","index":16,"n_rows":49,"n_cols":45,"rows_kept":49,"cut":false,"hidden":true,"merged":[[19,40,19,42],[21,40,21,42],[24,40,24,42],[15,32,15,35],[16,32,16,35],[17,32,17,35],[18,32,18,35],[15,39,15,42],[16,39,16,42],[17,39,17,42],[18,39,18,42],[20,39,20,42],[22,39,22,42],[23,39,23,42],[24,4,24,6],[20,3,20,6],[22,3,22,6],[23,3,23,6],[19,33,19,35],[1,23,1,36],[2,23,2,36],[5,13,5,21],[6,13,6,21],[5,23,6,35],[11,0,14,6],[20,31,24,37],[16,7,24,30],[15,8,15,10],[15,14,15,16],[15,20,15,22],[15,26,15,28],[19,4,19,6],[15,0,15,6],[18,3,18,6],[16,3,16,6],[17,3,17,6],[16,2,19,2],[16,0,24,1],[20,2,24,2],[21,4,21,6],[11,38,11,44],[12,7,12,37],[12,39,12,44],[13,7,14,12],[13,13,14,18],[13,19,14,24],[13,25,14,30],[13,31,14,37],[13,39,14,44],[11,7,11,37]]}
[]
["令和６年調査　酒類業実態調査表Ｈ２",null,null,null,null,null,null,null,null,null,null,null,null,null,null,null,null,null,null,null,null,null,null,"調査対象期間"]
[null,null,null,null,null,null,null,null,null,null,null,null,null,null,null,null,null,null,null,null,null,null,null,"令和５年４月１日から令和６年３月31日"]
[null,"☆　入力する製造場を選択してください。"]
[null,null,1,2,3,4,5,6,7,8,9,10,null,"選択した製造場名"]
[null,null,null,null,null,null,null,null,null,null,null,null,null,{"$f":"IF(ISBLANK(VLOOKUP(A28,J!B12:N21,3,FALSE)),\"\",VLOOKUP(A28,J!B12:N21,3,FALSE))","v":""},null,null,null,null,null,null,null,null,null,"この調査表は製造場ごとに記載してください。"]
[null,null,null,null,null,null,null,null,null,null,null,null,null,{"$f":"\"【　\"&VLOOKUP(A28,J!B12:N21,8,FALSE)&\"　】\"","v":"【　　】"}]
[]
[null,"日本ワイン及び日本ワイン以外のものの自社製造状況"]
[null,"※　この表には、令和５年４月１日から令和６年３月31日の間、①自社において生ぶどう等を発酵させて最初に製成した日本ワインの数量"]
[null,"  及び②自社において原料を発酵させて最初に製成した日本ワイン以外のものの数量を記入してください。"]
["区　　分",null,null,null,null,null,null,"①日本ワイン",null,null,null,null,null,null,null,null,null,null,null,null,null,null,null,null,null,null,null,null,null,null,null,null,null,null,null,null,null,null,"②日本ワイン以外のもの"]
[null,null,null,null,null,null,null,"数量",null,null,null,null,null,null,null,null,null,null,null,null,null,null,null,null,null,null,null,null,null,null,null,null,null,null,null,null,null,null,null,"数　　　　　量"]
[null,null,null,null,null,null,null,"赤ワイン",null,null,null,null,null,"白ワイン",null,null,null,null,null,"スパークリングワイン",null,null,null,null,null,"その他ワイン\n(ロゼワインを含む。)",null,null,null,null,null,"合計",null,null,null,null,null,null,null,"合計"]
[]
["製成数量",null,null,null,null,null,null,515,null,null,null,null,"(ﾘｯﾄﾙ)",516,null,null,null,null,"(ﾘｯﾄﾙ)",517,null,null,null,null,"(ﾘｯﾄﾙ)",518,null,null,null,null,"(ﾘｯﾄﾙ）",519,{"$f":"IF(SUM(I16,O16,U16,AA16)=0,\"\",SUM(I16,O16,U16,AA16))","v":""},null,null,null,null,"(ﾘｯﾄﾙ)",524,null,null,null,null,null,"(ﾘｯﾄﾙ)"]
["使用原料",null,"国産","生ぶどう",null,null,null,null,null,null,null,null,null,null,null,null,null,null,null,null,null,null,null,null,null,null,null,null,null,null,null,520,null,null,null,null,null,"(ｷﾛｸﾞﾗﾑ)",525,null,null,null,null,null,"(ｷﾛｸﾞﾗﾑ)"]
[null,null,null,"ぶどう果汁",null,null,null,null,null,null,null,null,null,null,null,null,null,null,null,null,null,null,null,null,null,null,null,null,null,null,null,521,null,null,null,null,null,"(ﾘｯﾄﾙ)",526,null,null,null,null,null,"(ﾘｯﾄﾙ)"]
[null,null,null,"その他",null,null,null,null,null,null,null,null,null,null,null,null,null,null,null,null,null,null,null,null,null,null,null,null,null,null,null,522,null,null,null,null,null,"(ｷﾛｸﾞﾗﾑ)",527,null,null,null,null,null,"(ｷﾛｸﾞﾗﾑ)"]
[null,null,null,null,"糖度20度換算",null,null,null,null,null,null,null,null,null,null,null,null,null,null,null,null,null,null,null,null,null,null,null,null,null,null,523,null,null,null,null,null,"(ｷﾛｸﾞﾗﾑ)",528,null,null,null,null,null,"(ｷﾛｸﾞﾗﾑ)"]
[null,null,"輸入","濃縮果汁",null,null,null,null,null,null,null,null,null,null,null,null,null,null,null,null,null,null,null,null,null,null,null,null,null,null,null,null,null,null,null,null,null,null,529,null,null,null,null,null,"(ﾘｯﾄﾙ)"]
[null,null,null,null,"糖度20度換算",null,null,null,null,null,null,null,null,null,null,null,null,null,null,null,null,null,null,null,null,null,null,null,null,null,null,null,null,null,null,null,null,null,530,null,null,null,null,null,"(ｷﾛｸﾞﾗﾑ)"]
[1,null,null,"生ぶどう",null,null,null,null,null,null,null,null,null,null,null,null,null,null,null,null,null,null,null,null,null,null,null,null,null,null,null,null,null,null,null,null,null,null,531,null,null,null,null,null,"(ｷﾛｸﾞﾗﾑ)"]
[null,null,null,"その他",null,null,null,null,null,null,null,null,null,null,null,null,null,null,null,null,null,null,null,null,null,null,null,null,null,null,null,null,null,null,null,null,null,null,532,null,null,null,null,null,"(ｷﾛｸﾞﾗﾑ)"]
[null,null,null,null,"糖度20度換算",null,null,null,null,null,null,null,null,null,null,null,null,null,null,null,null,null,null,null,null,null,null,null,null,null,null,null,null,null,null,null,null,null,533,null,null,null,null,null,"(ｷﾛｸﾞﾗﾑ)"]
[]
[]
[2]
[]
["入力判定",{"$f":"IF(SUM(E31:E49)<>0,TRUE,FALSE)","v":false},null,null,1,2,3,4,5,6,7,8,9,10]
[515,{"$f":"IF(ISBLANK(I16),\"\",I16)","v":""}]
[516,{"$f":"IF(ISBLANK(O16),\"\",O16)","v":""}]
[517,{"$f":"IF(ISBLANK(U16),\"\",U16)","v":""}]
[518,{"$f":"IF(ISBLANK(AA16),\"\",AA16)","v":""}]
[519,{"$f":"IF(ISBLANK(AG16),\"\",AG16)","v":""}]
[520,{"$f":"IF(ISBLANK(AG17),\"\",AG17)","v":""}]
[521,{"$f":"IF(ISBLANK(AG18),\"\",AG18)","v":""}]
[522,{"$f":"IF(ISBLANK(AG19),\"\",AG19)","v":""}]
[523,{"$f":"IF(ISBLANK(AH20),\"\",AH20)","v":""}]
[524,{"$f":"IF(ISBLANK(AN16),\"\",AN16)","v":""}]
[525,{"$f":"IF(ISBLANK(AN17),\"\",AN17)","v":""}]
[526,{"$f":"IF(ISBLANK(AN18),\"\",AN18)","v":""}]
[527,{"$f":"IF(ISBLANK(AN19),\"\",AN19)","v":""}]
[528,{"$f":"IF(ISBLANK(AO20),\"\",AO20)","v":""}]
[529,{"$f":"IF(ISBLANK(AN21),\"\",AN21)","v":""}]
[530,{"$f":"IF(ISBLANK(AO22),\"\",AO22)","v":""}]
[531,{"$f":"IF(ISBLANK(AN23),\"\",AN23)","v":""}]
[532,{"$f":"IF(ISBLANK(AN24),\"\",AN24)","v":""}]
[533,{"$f":"IF(ISBLANK(AO25),\"\",AO25)","v":""}]

{"sheet":"M","index":17,"n_rows":221,"n_cols":37,"rows_kept":221,"cut":false,"hidden":true,"merged":[[129,0,220,0],[129,1,133,1],[134,1,138,1],[139,1,143,1],[144,1,148,1],[149,1,153,1],[154,1,158,1],[159,1,163,1],[164,1,168,1],[169,1,173,1],[174,1,178,1],[179,1,183,1],[184,1,188,1],[189,1,193,1],[194,1,198,1],[199,1,203,1],[204,1,208,1],[209,1,213,1],[214,1,218,1],[87,1,91,1],[92,1,96,1],[97,1,101,1],[102,1,106,1],[107,1,111,1],[112,1,116,1],[117,1,121,1],[122,1,126,1],[37,0,128,0],[42,1,46,1],[47,1,51,1],[52,1,56,1],[57,1,61,1],[62,1,66,1],[67,1,71,1],[72,1,76,1],[77,1,81,1],[82,1,86,1],[2,19,2,30],[1,19,1,30],[5,19,6,31],[5,13,5,18],[6,13,6,18],[37,1,41,1],[11,9,12,12],[11,29,12,30],[8,0,9,18],[8,20,9,36],[10,0,11,8],[10,9,10,12],[10,13,10,15],[10,16,10,18],[10,20,11,28],[10,29,10,30],[10,31,10,33],[10,34,10,36],[12,0,12,1],[12,2,12,8],[12,20,12,21],[12,22,12,28],[11,13,11,15],[12,13,12,15],[14,0,14,1],[14,2,14,8],[14,9,14,12],[14,13,14,15],[14,16,14,18],[14,20,14,21],[14,22,14,28],[14,29,14,30],[13,0,13,1],[13,2,13,8],[13,9,13,12],[13,13,13,15],[13,16,13,18],[13,20,13,21],[13,22,13,28],[15,0,15,1],[15,2,15,8],[15,9,15,12],[15,13,15,15],[15,16,15,18],[15,20,15,21],[15,22,15,28],[15,29,15,30],[16,0,16,1],[16,2,16,8],[16,9,16,12],[16,13,16,15],[16,16,16,18],[16,20,16,21],[16,22,16,28],[18,0,18,1],[18,2,18,8],[18,9,18,12],[18,16,18,18],[18,20,18,21],[18,22,18,28],[18,29,18,30],[17,0,17,1],[17,2,17,8],[17,9,17,12],[17,13,17,15],[17,16,17,18],[17,20,17,21],[17,22,17,28],[17,29,17,30],[18,13,18,15],[21,0,21,1],[21,2,21,8],[21,9,21,12],[21,13,21,15],[21,16,21,18],[21,20,21,21],[21,22,21,28],[21,29,21,30],[19,0,19,1],[19,2,19,8],[19,9,19,12],[19,13,19,15],[19,16,19,18],[19,20,19,21],[19,22,19,28],[19,29,19,30],[23,0,23,1],[23,2,23,8],[23,9,23,12],[23,13,23,15],[23,16,23,18],[23,20,23,21],[23,22,23,28],[23,29,23,30],[20,0,20,1],[20,2,20,8],[20,9,20,12],[20,13,20,15],[20,16,20,18],[20,20,20,21],[20,22,20,28],[20,29,20,30],[22,0,22,1],[22,2,22,8],[22,9,22,12],[22,13,22,15],[22,16,22,18],[22,20,22,21],[22,22,22,28],[22,29,22,30],[25,0,25,1],[25,2,25,8],[25,9,25,12],[25,13,25,15],[25,16,25,18],[25,20,25,21],[25,22,25,28],[25,29,25,30],[24,0,24,1],[24,2,24,8],[24,9,24,12],[24,13,24,15],[24,16,24,18],[24,20,24,21],[24,22,24,28],[24,29,24,30],[27,0,27,1],[27,2,27,8],[27,9,27,12],[27,13,27,15],[27,16,27,18],[27,20,27,21],[27,22,27,28],[27,29,27,30],[26,0,26,1],[26,2,26,8],[26,9,26,12],[26,13,26,15],[26,16,26,18],[26,20,26,21],[26,22,26,28],[26,29,26,30],[29,29,29,30],[31,0,31,12],[30,29,30,30],[31,14,31,15],[31,17,31,18],[31,20,31,30],[28,0,28,1],[28,2,28,8],[28,9,28,12],[28,13,28,15],[28,16,28,18],[28,20,28,21],[28,22,28,28],[28,29,28,30],[30,0,30,1],[30,2,30,8],[30,9,30,12],[30,13,30,15],[30,16,30,18],[30,20,30,21],[30,22,30,28],[29,0,29,1],[29,2,29,8],[29,9,29,12],[29,13,29,15],[29,16,29,18],[29,20,29,21],[29,22,29,28],[14,31,14,33],[14,34,14,36],[15,31,15,33],[15,34,15,36],[29,31,29,33],[29,34,29,36],[19,31,19,33],[19,34,19,36],[20,31,20,33],[20,34,20,36],[21,31,21,33],[21,34,21,36],[22,31,22,33],[22,34,22,36],[23,31,23,33],[23,34,23,36],[24,31,24,33],[24,34,24,36],[18,31,18,33],[18,34,18,36],[31,32,31,33],[31,35,31,36],[30,31,30,33],[30,34,30,36],[25,31,25,33],[25,34,25,36],[26,31,26,33],[26,34,26,36],[27,31,27,33],[27,34,27,36],[28,31,28,33],[28,34,28,36],[17,31,17,33],[17,34,17,36],[16,29,16,30],[13,29,13,30],[13,31,13,33],[13,34,13,36],[11,16,11,18],[12,16,12,18],[11,31,11,33],[12,31,12,33],[11,34,11,36],[12,34,12,36],[16,31,16,33],[16,34,16,36]]}
[]
["令和６年調査　酒類業実態調査表Ｈ３",null,null,null,null,null,null,null,null,null,null,null,null,null,null,null,null,null,null,"調査対象期間"]
[null,null,null,null,null,null,null,null,null,null,null,null,null,null,null,null,null,null,null,"令和５年４月１日から令和６年３月31日"]
[null,"☆　入力する製造場を選択してください。"]
[null,null,1,2,3,4,5,6,7,8,9,10,null,"選択した製造場名"]
[null,null,null,null,null,null,null,null,null,null,null,null,null,{"$f":"IF(ISBLANK(VLOOKUP(A36,J!B12:N21,3,FALSE)),\"\",VLOOKUP(A36,J!B12:N21,3,FALSE))","v":""},null,null,null,null,null,"この調査表は製造場ごとに記載してください。"]
[null,null,null,null,null,null,null,null,null,null,null,null,null,{"$f":"\"【　\"&VLOOKUP(A36,J!B12:N21,8,FALSE)&\"　】\"","v":"【　　】"}]
[]
["①自営農園による国産ぶどうの受入状況等",null,null,null,null,null,null,null,null,null,null,null,null,null,null,null,null,null,null,null,"②契約栽培による国産ぶどうの受入状況等"]
[]
["品　　種　　名",null,null,null,null,null,null,null,null,"ぶどうの産地",null,null,null,"棚栽培",null,null,"垣根栽培",null,null,null,"品　　種　　名",null,null,null,null,null,null,null,null,"ぶどうの産地",null,"棚栽培",null,null,"垣根栽培"]
[null,null,null,null,null,null,null,null,null,"都道府県名",null,null,null,"収穫量",null,null,"収穫量",null,null,null,null,null,null,null,null,null,null,null,null,"都道府県名",null,"収穫量",null,null,"収穫量"]
["番号",null,null,null,null,null,null,null,null,null,null,null,null,"(ｷﾛｸﾞﾗﾑ)",null,null,"(ｷﾛｸﾞﾗﾑ)",null,null,null,"番号",null,null,null,null,null,null,null,null,null,null,"(ｷﾛｸﾞﾗﾑ)",null,null,"(ｷﾛｸﾞﾗﾑ)"]
[]
[]
[]
[]
[]
[]
[]
[]
[]
[]
[]
[]
[]
[]
[]
[]
[]
[]
["計",null,null,null,null,null,null,null,null,null,null,null,null,534,{"$f":"IF(SUM(N14:P31)=0,\"\",SUM(N14:P31))","v":""},null,535,{"$f":"IF(SUM(Q14:S31)=0,\"\",SUM(Q14:S31))","v":""},null,null,"計",null,null,null,null,null,null,null,null,null,null,536,{"$f":"IF(SUM(AF14:AH31)=0,\"\",SUM(AF14:AH31))","v":""},null,537,{"$f":"IF(SUM(AI14:AK31)=0,\"\",SUM(AI14:AK31))","v":""}]
[]
[]
[]
[2]
["入力判定",{"$f":"IF(OR(J14<>\"\",AD14<>\"\"),TRUE,FALSE)","v":false},null,null,1,2,3,4,5,6,7,8,9,10]
["①",1,"A",{"$f":"IF(ISBLANK(A14),\"\",A14)","v":""},null,null,null,null,null,null,null,null,null,null,null,null,null,null,"A14",null,null,null,null,null,null,null,null,null,null,null,null,null,null,null,null,null,1001]
[null,null,"B",{"$f":"IF(ISBLANK(C14),\"\",C14)","v":""},null,null,null,null,null,null,null,null,null,null,null,null,null,null,"C14",null,null,null,null,null,null,null,null,null,null,null,null,null,null,null,null,null,1002]
[null,null,"C",{"$f":"IF(ISBLANK(J14),\"\",J14)","v":""},null,null,null,null,null,null,null,null,null,null,null,null,null,null,"J14",null,null,null,null,null,null,null,null,null,null,null,null,null,null,null,null,null,1003]
[null,null,"D",{"$f":"IF(ISBLANK(N14),\"\",N14)","v":""},null,null,null,null,null,null,null,null,null,null,null,null,null,null,"N14",null,null,null,null,null,null,null,null,null,null,null,null,null,null,null,null,null,1004]
[null,null,"E",{"$f":"IF(ISBLANK(Q14),\"\",Q14)","v":""},null,null,null,null,null,null,null,null,null,null,null,null,null,null,"Q14",null,null,null,null,null,null,null,null,null,null,null,null,null,null,null,null,null,1005]
[null,2,"A",{"$f":"IF(ISBLANK(A15),\"\",A15)","v":""},null,null,null,null,null,null,null,null,null,null,null,null,null,null,"A15",null,null,null,null,null,null,null,null,null,null,null,null,null,null,null,null,null,1006]
[null,null,"B",{"$f":"IF(ISBLANK(C15),\"\",C15)","v":""},null,null,null,null,null,null,null,null,null,null,null,null,null,null,"C15",null,null,null,null,null,null,null,null,null,null,null,null,null,null,null,null,null,1007]
[null,null,"C",{"$f":"IF(ISBLANK(J15),\"\",J15)","v":""},null,null,null,null,null,null,null,null,null,null,null,null,null,null,"J15",null,null,null,null,null,null,null,null,null,null,null,null,null,null,null,null,null,1008]
[null,null,"D",{"$f":"IF(ISBLANK(N15),\"\",N15)","v":""},null,null,null,null,null,null,null,null,null,null,null,null,null,null,"N15",null,null,null,null,null,null,null,null,null,null,null,null,null,null,null,null,null,1009]
[null,null,"E",{"$f":"IF(ISBLANK(Q15),\"\",Q15)","v":""},null,null,null,null,null,null,null,null,null,null,null,null,null,null,"Q15",null,null,null,null,null,null,null,null,null,null,null,null,null,null,null,null,null,1010]
[null,3,"A",{"$f":"IF(ISBLANK(A16),\"\",A16)","v":""},null,null,null,null,null,null,null,null,null,null,null,null,null,null,"A16",null,null,null,null,null,null,null,null,null,null,null,null,null,null,null,null,null,1011]
[null,null,"B",{"$f":"IF(ISBLANK(C16),\"\",C16)","v":""},null,null,null,null,null,null,null,null,null,null,null,null,null,null,"C16",null,null,null,null,null,null,null,null,null,null,null,null,null,null,null,null,null,1012]
[null,null,"C",{"$f":"IF(ISBLANK(J16),\"\",J16)","v":""},null,null,null,null,null,null,null,null,null,null,null,null,null,null,"J16",null,null,null,null,null,null,null,null,null,null,null,null,null,null,null,null,null,1013]
[null,null,"D",{"$f":"IF(ISBLANK(N16),\"\",N16)","v":""},null,null,null,null,null,null,null,null,null,null,null,null,null,null,"N16",null,null,null,null,null,null,null,null,null,null,null,null,null,null,null,null,null,1014]
[null,null,"E",{"$f":"IF(ISBLANK(Q16),\"\",Q16)","v":""},null,null,null,null,null,null,null,null,null,null,null,null,null,null,"Q16",null,null,null,null,null,null,null,null,null,null,null,null,null,null,null,null,null,1015]
[null,4,"A",{"$f":"IF(ISBLANK(A17),\"\",A17)","v":""},null,null,null,null,null,null,null,null,null,null,null,null,null,null,"A17",null,null,null,null,null,null,null,null,null,null,null,null,null,null,null,null,null,1016]
[null,null,"B",{"$f":"IF(ISBLANK(C17),\"\",C17)","v":""},null,null,null,null,null,null,null,null,null,null,null,null,null,null,"C17",null,null,null,null,null,null,null,null,null,null,null,null,null,null,null,null,null,2001]
[null,null,"C",{"$f":"IF(ISBLANK(J17),\"\",J17)","v":""},null,null,null,null,null,null,null,null,null,null,null,null,null,null,"J17",null,null,null,null,null,null,null,null,null,null,null,null,null,null,null,null,null,2002]
[null,null,"D",{"$f":"IF(ISBLANK(N17),\"\",N17)","v":""},null,null,null,null,null,null,null,null,null,null,null,null,null,null,"N17",null,null,null,null,null,null,null,null,null,null,null,null,null,null,null,null,null,2003]
[null,null,"E",{"$f":"IF(ISBLANK(Q17),\"\",Q17)","v":""},null,null,null,null,null,null,null,null,null,null,null,null,null,null,"Q17",null,null,null,null,null,null,null,null,null,null,null,null,null,null,null,null,null,2004]
[null,5,"A",{"$f":"IF(ISBLANK(A18),\"\",A18)","v":""},null,null,null,null,null,null,null,null,null,null,null,null,null,null,"A18",null,null,null,null,null,null,null,null,null,null,null,null,null,null,null,null,null,2005]
[null,null,"B",{"$f":"IF(ISBLANK(C18),\"\",C18)","v":""},null,null,null,null,null,null,null,null,null,null,null,null,null,null,"C18",null,null,null,null,null,null,null,null,null,null,null,null,null,null,null,null,null,2006]
[null,null,"C",{"$f":"IF(ISBLANK(J18),\"\",J18)","v":""},null,null,null,null,null,null,null,null,null,null,null,null,null,null,"J18",null,null,null,null,null,null,null,null,null,null,null,null,null,null,null,null,null,2007]
[null,null,"D",{"$f":"IF(ISBLANK(N18),\"\",N18)","v":""},null,null,null,null,null,null,null,null,null,null,null,null,null,null,"N18",null,null,null,null,null,null,null,null,null,null,null,null,null,null,null,null,null,2008]
[null,null,"E",{"$f":"IF(ISBLANK(Q18),\"\",Q18)","v":""},null,null,null,null,null,null,null,null,null,null,null,null,null,null,"Q18",null,null,null,null,null,null,null,null,null,null,null,null,null,null,null,null,null,2009]
[null,6,"A",{"$f":"IF(ISBLANK(A19),\"\",A19)","v":""},null,null,null,null,null,null,null,null,null,null,null,null,null,null,"A19",null,null,null,null,null,null,null,null,null,null,null,null,null,null,null,null,null,2010]
[null,null,"B",{"$f":"IF(ISBLANK(C19),\"\",C19)","v":""},null,null,null,null,null,null,null,null,null,null,null,null,null,null,"C19",null,null,null,null,null,null,null,null,null,null,null,null,null,null,null,null,null,2011]
[null,null,"C",{"$f":"IF(ISBLANK(J19),\"\",J19)","v":""},null,null,null,null,null,null,null,null,null,null,null,null,null,null,"J19",null,null,null,null,null,null,null,null,null,null,null,null,null,null,null,null,null,2012]
[null,null,"D",{"$f":"IF(ISBLANK(N19),\"\",N19)","v":""},null,null,null,null,null,null,null,null,null,null,null,null,null,null,"N19",null,null,null,null,null,null,null,null,null,null,null,null,null,null,null,null,null,2013]
[null,null,"E",{"$f":"IF(ISBLANK(Q19),\"\",Q19)","v":""},null,null,null,null,null,null,null,null,null,null,null,null,null,null,"Q19",null,null,null,null,null,null,null,null,null,null,null,null,null,null,null,null,null,2014]
[null,7,"A",{"$f":"IF(ISBLANK(A20),\"\",A20)","v":""},null,null,null,null,null,null,null,null,null,null,null,null,null,null,"A20",null,null,null,null,null,null,null,null,null,null,null,null,null,null,null,null,null,2015]
[null,null,"B",{"$f":"IF(ISBLANK(C20),\"\",C20)","v":""},null,null,null,null,null,null,null,null,null,null,null,null,null,null,"C20",null,null,null,null,null,null,null,null,null,null,null,null,null,null,null,null,null,2016]
[null,null,"C",{"$f":"IF(ISBLANK(J20),\"\",J20)","v":""},null,null,null,null,null,null,null,null,null,null,null,null,null,null,"J20",null,null,null,null,null,null,null,null,null,null,null,null,null,null,null,null,null,2017]
[null,null,"D",{"$f":"IF(ISBLANK(N20),\"\",N20)","v":""},null,null,null,null,null,null,null,null,null,null,null,null,null,null,"N20",null,null,null,null,null,null,null,null,null,null,null,null,null,null,null,null,null,2018]
[null,null,"E",{"$f":"IF(ISBLANK(Q20),\"\",Q20)","v":""},null,null,null,null,null,null,null,null,null,null,null,null,null,null,"Q20"]
[null,8,"A",{"$f":"IF(ISBLANK(A21),\"\",A21)","v":""},null,null,null,null,null,null,null,null,null,null,null,null,null,null,"A21"]
[null,null,"B",{"$f":"IF(ISBLANK(C21),\"\",C21)","v":""},null,null,null,null,null,null,null,null,null,null,null,null,null,null,"C21"]
[null,null,"C",{"$f":"IF(ISBLANK(J21),\"\",J21)","v":""},null,null,null,null,null,null,null,null,null,null,null,null,null,null,"J21"]
[null,null,"D",{"$f":"IF(ISBLANK(N21),\"\",N21)","v":""},null,null,null,null,null,null,null,null,null,null,null,null,null,null,"N21"]
[null,null,"E",{"$f":"IF(ISBLANK(Q21),\"\",Q21)","v":""},null,null,null,null,null,null,null,null,null,null,null,null,null,null,"Q21"]
[null,9,"A",{"$f":"IF(ISBLANK(A22),\"\",A22)","v":""},null,null,null,null,null,null,null,null,null,null,null,null,null,null,"A22"]
[null,null,"B",{"$f":"IF(ISBLANK(C22),\"\",C22)","v":""},null,null,null,null,null,null,null,null,null,null,null,null,null,null,"C22"]
[null,null,"C",{"$f":"IF(ISBLANK(J22),\"\",J22)","v":""},null,null,null,null,null,null,null,null,null,null,null,null,null,null,"J22"]
[null,null,"D",{"$f":"IF(ISBLANK(N22),\"\",N22)","v":""},null,null,null,null,null,null,null,null,null,null,null,null,null,null,"N22"]
[null,null,"E",{"$f":"IF(ISBLANK(Q22),\"\",Q22)","v":""},null,null,null,null,null,null,null,null,null,null,null,null,null,null,"Q22"]
[null,10,"A",{"$f":"IF(ISBLANK(A23),\"\",A23)","v":""},null,null,null,null,null,null,null,null,null,null,null,null,null,null,"A23"]
[null,null,"B",{"$f":"IF(ISBLANK(C23),\"\",C23)","v":""},null,null,null,null,null,null,null,null,null,null,null,null,null,null,"C23"]
[null,null,"C",{"$f":"IF(ISBLANK(J23),\"\",J23)","v":""},null,null,null,null,null,null,null,null,null,null,null,null,null,null,"J23"]
[null,null,"D",{"$f":"IF(ISBLANK(N23),\"\",N23)","v":""},null,null,null,null,null,null,null,null,null,null,null,null,null,null,"N23"]
[null,null,"E",{"$f":"IF(ISBLANK(Q23),\"\",Q23)","v":""},null,null,null,null,null,null,null,null,null,null,null,null,null,null,"Q23"]
[null,11,"A",{"$f":"IF(ISBLANK(A24),\"\",A24)","v":""},null,null,null,null,null,null,null,null,null,null,null,null,null,null,"A24"]
[null,null,"B",{"$f":"IF(ISBLANK(C24),\"\",C24)","v":""},null,null,null,null,null,null,null,null,null,null,null,null,null,null,"C24"]
[null,null,"C",{"$f":"IF(ISBLANK(J24),\"\",J24)","v":""},null,null,null,null,null,null,null,null,null,null,null,null,null,null,"J24"]
[null,null,"D",{"$f":"IF(ISBLANK(N24),\"\",N24)","v":""},null,null,null,null,null,null,null,null,null,null,null,null,null,null,"N24"]
[null,null,"E",{"$f":"IF(ISBLANK(Q24),\"\",Q24)","v":""},null,null,null,null,null,null,null,null,null,null,null,null,null,null,"Q24"]
[null,12,"A",{"$f":"IF(ISBLANK(A25),\"\",A25)","v":""},null,null,null,null,null,null,null,null,null,null,null,null,null,null,"A25"]
[null,null,"B",{"$f":"IF(ISBLANK(C25),\"\",C25)","v":""},null,null,null,null,null,null,null,null,null,null,null,null,null,null,"C25"]
[null,null,"C",{"$f":"IF(ISBLANK(J25),\"\",J25)","v":""},null,null,null,null,null,null,null,null,null,null,null,null,null,null,"J25"]
[null,null,"D",{"$f":"IF(ISBLANK(N25),\"\",N25)","v":""},null,null,null,null,null,null,null,null,null,null,null,null,null,null,"N25"]
[null,null,"E",{"$f":"IF(ISBLANK(Q25),\"\",Q25)","v":""},null,null,null,null,null,null,null,null,null,null,null,null,null,null,"Q25"]
[null,13,"A",{"$f":"IF(ISBLANK(A26),\"\",A26)","v":""},null,null,null,null,null,null,null,null,null,null,null,null,null,null,"A26"]
[null,null,"B",{"$f":"IF(ISBLANK(C26),\"\",C26)","v":""},null,null,null,null,null,null,null,null,null,null,null,null,null,null,"C26"]
[null,null,"C",{"$f":"IF(ISBLANK(J26),\"\",J26)","v":""},null,null,null,null,null,null,null,null,null,null,null,null,null,null,"J26"]
[null,null,"D",{"$f":"IF(ISBLANK(N26),\"\",N26)","v":""},null,null,null,null,null,null,null,null,null,null,null,null,null,null,"N26"]
[null,null,"E",{"$f":"IF(ISBLANK(Q26),\"\",Q26)","v":""},null,null,null,null,null,null,null,null,null,null,null,null,null,null,"Q26"]
[null,14,"A",{"$f":"IF(ISBLANK(A27),\"\",A27)","v":""},null,null,null,null,null,null,null,null,null,null,null,null,null,null,"A27"]
[null,null,"B",{"$f":"IF(ISBLANK(C27),\"\",C27)","v":""},null,null,null,null,null,null,null,null,null,null,null,null,null,null,"C27"]
[null,null,"C",{"$f":"IF(ISBLANK(J27),\"\",J27)","v":""},null,null,null,null,null,null,null,null,null,null,null,null,null,null,"J27"]
[null,null,"D",{"$f":"IF(ISBLANK(N27),\"\",N27)","v":""},null,null,null,null,null,null,null,null,null,null,null,null,null,null,"N27"]
[null,null,"E",{"$f":"IF(ISBLANK(Q27),\"\",Q27)","v":""},null,null,null,null,null,null,null,null,null,null,null,null,null,null,"Q27"]
[null,15,"A",{"$f":"IF(ISBLANK(A28),\"\",A28)","v":""},null,null,null,null,null,null,null,null,null,null,null,null,null,null,"A28"]
[null,null,"B",{"$f":"IF(ISBLANK(C28),\"\",C28)","v":""},null,null,null,null,null,null,null,null,null,null,null,null,null,null,"C28"]
[null,null,"C",{"$f":"IF(ISBLANK(J28),\"\",J28)","v":""},null,null,null,null,null,null,null,null,null,null,null,null,null,null,"J28"]
[null,null,"D",{"$f":"IF(ISBLANK(N28),\"\",N28)","v":""},null,null,null,null,null,null,null,null,null,null,null,null,null,null,"N28"]
[null,null,"E",{"$f":"IF(ISBLANK(Q28),\"\",Q28)","v":""},null,null,null,null,null,null,null,null,null,null,null,null,null,null,"Q28"]
[null,16,"A",{"$f":"IF(ISBLANK(A29),\"\",A29)","v":""},null,null,null,null,null,null,null,null,null,null,null,null,null,null,"A29"]
[null,null,"B",{"$f":"IF(ISBLANK(C29),\"\",C29)","v":""},null,null,null,null,null,null,null,null,null,null,null,null,null,null,"C29"]
[null,null,"C",{"$f":"IF(ISBLANK(J29),\"\",J29)","v":""},null,null,null,null,null,null,null,null,null,null,null,null,null,null,"J29"]
[null,null,"D",{"$f":"IF(ISBLANK(N29),\"\",N29)","v":""},null,null,null,null,null,null,null,null,null,null,null,null,null,null,"N29"]
[null,null,"E",{"$f":"IF(ISBLANK(Q29),\"\",Q29)","v":""},null,null,null,null,null,null,null,null,null,null,null,null,null,null,"Q29"]
[null,17,"A",{"$f":"IF(ISBLANK(A30),\"\",A30)","v":""},null,null,null,null,null,null,null,null,null,null,null,null,null,null,"A30"]
[null,null,"B",{"$f":"IF(ISBLANK(C30),\"\",C30)","v":""},null,null,null,null,null,null,null,null,null,null,null,null,null,null,"C30"]
[null,null,"C",{"$f":"IF(ISBLANK(J30),\"\",J30)","v":""},null,null,null,null,null,null,null,null,null,null,null,null,null,null,"J30"]
[null,null,"D",{"$f":"IF(ISBLANK(N30),\"\",N30)","v":""},null,null,null,null,null,null,null,null,null,null,null,null,null,null,"N30"]
[null,null,"E",{"$f":"IF(ISBLANK(Q30),\"\",Q30)","v":""},null,null,null,null,null,null,null,null,null,null,null,null,null,null,"Q30"]
[null,18,"A",{"$f":"IF(ISBLANK(A31),\"\",A31)","v":""},null,null,null,null,null,null,null,null,null,null,null,null,null,null,"A31"]
[null,null,"B",{"$f":"IF(ISBLANK(C31),\"\",C31)","v":""},null,null,null,null,null,null,null,null,null,null,null,null,null,null,"C31"]
[null,null,"C",{"$f":"IF(ISBLANK(J31),\"\",J31)","v":""},null,null,null,null,null,null,null,null,null,null,null,null,null,null,"J31"]
[null,null,"D",{"$f":"IF(ISBLANK(N31),\"\",N31)","v":""},null,null,null,null,null,null,null,null,null,null,null,null,null,null,"N31"]
[null,null,"E",{"$f":"IF(ISBLANK(Q31),\"\",Q31)","v":""},null,null,null,null,null,null,null,null,null,null,null,null,null,null,"Q31"]
[null,534,null,{"$f":"IF(ISBLANK(O32),\"\",O32)","v":""},null,null,null,null,null,null,null,null,null,null,null,null,null,null,"O32"]
[null,535,null,{"$f":"IF(ISBLANK(R32),\"\",R32)","v":""},null,null,null,null,null,null,null,null,null,null,null,null,null,null,"R32"]
["②",1,"A",{"$f":"IF(ISBLANK(U14),\"\",U14)","v":""},null,null,null,null,null,null,null,null,null,null,null,null,null,null,"U14"]
[null,null,"B",{"$f":"IF(ISBLANK(W14),\"\",W14)","v":""},null,null,null,null,null,null,null,null,null,null,null,null,null,null,"W14"]
[null,null,"C",{"$f":"IF(ISBLANK(AD14),\"\",AD14)","v":""},null,null,null,null,null,null,null,null,null,null,null,null,null,null,"AD14"]
[null,null,"D",{"$f":"IF(ISBLANK(AF14),\"\",AF14)","v":""},null,null,null,null,null,null,null,null,null,null,null,null,null,null,"AF14"]
[null,null,"E",{"$f":"IF(ISBLANK(AI14),\"\",AI14)","v":""},null,null,null,null,null,null,null,null,null,null,null,null,null,null,"AI14"]
[null,2,"A",{"$f":"IF(ISBLANK(U15),\"\",U15)","v":""},null,null,null,null,null,null,null,null,null,null,null,null,null,null,"U15"]
[null,null,"B",{"$f":"IF(ISBLANK(W15),\"\",W15)","v":""},null,null,null,null,null,null,null,null,null,null,null,null,null,null,"W15"]
[null,null,"C",{"$f":"IF(ISBLANK(AD15),\"\",AD15)","v":""},null,null,null,null,null,null,null,null,null,null,null,null,null,null,"AD15"]
[null,null,"D",{"$f":"IF(ISBLANK(AF15),\"\",AF15)","v":""},null,null,null,null,null,null,null,null,null,null,null,null,null,null,"AF15"]
[null,null,"E",{"$f":"IF(ISBLANK(AI15),\"\",AI15)","v":""},null,null,null,null,null,null,null,null,null,null,null,null,null,null,"AI15"]
[null,3,"A",{"$f":"IF(ISBLANK(U16),\"\",U16)","v":""},null,null,null,null,null,null,null,null,null,null,null,null,null,null,"U16"]
[null,null,"B",{"$f":"IF(ISBLANK(W16),\"\",W16)","v":""},null,null,null,null,null,null,null,null,null,null,null,null,null,null,"W16"]
[null,null,"C",{"$f":"IF(ISBLANK(AD16),\"\",AD16)","v":""},null,null,null,null,null,null,null,null,null,null,null,null,null,null,"AD16"]
[null,null,"D",{"$f":"IF(ISBLANK(AF16),\"\",AF16)","v":""},null,null,null,null,null,null,null,null,null,null,null,null,null,null,"AF16"]
[null,null,"E",{"$f":"IF(ISBLANK(AI16),\"\",AI16)","v":""},null,null,null,null,null,null,null,null,null,null,null,null,null,null,"AI16"]
[null,4,"A",{"$f":"IF(ISBLANK(U17),\"\",U17)","v":""},null,null,null,null,null,null,null,null,null,null,null,null,null,null,"U17"]
[null,null,"B",{"$f":"IF(ISBLANK(W17),\"\",W17)","v":""},null,null,null,null,null,null,null,null,null,null,null,null,null,null,"W17"]
[null,null,"C",{"$f":"IF(ISBLANK(AD17),\"\",AD17)","v":""},null,null,null,null,null,null,null,null,null,null,null,null,null,null,"AD17"]
[null,null,"D",{"$f":"IF(ISBLANK(AF17),\"\",AF17)","v":""},null,null,null,null,null,null,null,null,null,null,null,null,null,null,"AF17"]
[null,null,"E",{"$f":"IF(ISBLANK(AI17),\"\",AI17)","v":""},null,null,null,null,null,null,null,null,null,null,null,null,null,null,"AI17"]
[null,5,"A",{"$f":"IF(ISBLANK(U18),\"\",U18)","v":""},null,null,null,null,null,null,null,null,null,null,null,null,null,null,"U18"]
[null,null,"B",{"$f":"IF(ISBLANK(W18),\"\",W18)","v":""},null,null,null,null,null,null,null,null,null,null,null,null,null,null,"W18"]
[null,null,"C",{"$f":"IF(ISBLANK(AD18),\"\",AD18)","v":""},null,null,null,null,null,null,null,null,null,null,null,null,null,null,"AD18"]
[null,null,"D",{"$f":"IF(ISBLANK(AF18),\"\",AF18)","v":""},null,null,null,null,null,null,null,null,null,null,null,null,null,null,"AF18"]
[null,null,"E",{"$f":"IF(ISBLANK(AI18),\"\",AI18)","v":""},null,null,null,null,null,null,null,null,null,null,null,null,null,null,"AI18"]
[null,6,"A",{"$f":"IF(ISBLANK(U19),\"\",U19)","v":""},null,null,null,null,null,null,null,null,null,null,null,null,null,null,"U19"]
[null,null,"B",{"$f":"IF(ISBLANK(W19),\"\",W19)","v":""},null,null,null,null,null,null,null,null,null,null,null,null,null,null,"W19"]
[null,null,"C",{"$f":"IF(ISBLANK(AD19),\"\",AD19)","v":""},null,null,null,null,null,null,null,null,null,null,null,null,null,null,"AD19"]
[null,null,"D",{"$f":"IF(ISBLANK(AF19),\"\",AF19)","v":""},null,null,null,null,null,null,null,null,null,null,null,null,null,null,"AF19"]
[null,null,"E",{"$f":"IF(ISBLANK(AI19),\"\",AI19)","v":""},null,null,null,null,null,null,null,null,null,null,null,null,null,null,"AI19"]
[null,7,"A",{"$f":"IF(ISBLANK(U20),\"\",U20)","v":""},null,null,null,null,null,null,null,null,null,null,null,null,null,null,"U20"]
[null,null,"B",{"$f":"IF(ISBLANK(W20),\"\",W20)","v":""},null,null,null,null,null,null,null,null,null,null,null,null,null,null,"W20"]
[null,null,"C",{"$f":"IF(ISBLANK(AD20),\"\",AD20)","v":""},null,null,null,null,null,null,null,null,null,null,null,null,null,null,"AD20"]
[null,null,"D",{"$f":"IF(ISBLANK(AF20),\"\",AF20)","v":""},null,null,null,null,null,null,null,null,null,null,null,null,null,null,"AF20"]
[null,null,"E",{"$f":"IF(ISBLANK(AI20),\"\",AI20)","v":""},null,null,null,null,null,null,null,null,null,null,null,null,null,null,"AI20"]
[null,8,"A",{"$f":"IF(ISBLANK(U21),\"\",U21)","v":""},null,null,null,null,null,null,null,null,null,null,null,null,null,null,"U21"]
[null,null,"B",{"$f":"IF(ISBLANK(W21),\"\",W21)","v":""},null,null,null,null,null,null,null,null,null,null,null,null,null,null,"W21"]
[null,null,"C",{"$f":"IF(ISBLANK(AD21),\"\",AD21)","v":""},null,null,null,null,null,null,null,null,null,null,null,null,null,null,"AD21"]
[null,null,"D",{"$f":"IF(ISBLANK(AF21),\"\",AF21)","v":""},null,null,null,null,null,null,null,null,null,null,null,null,null,null,"AF21"]
[null,null,"E",{"$f":"IF(ISBLANK(AI21),\"\",AI21)","v":""},null,null,null,null,null,null,null,null,null,null,null,null,null,null,"AI21"]
[null,9,"A",{"$f":"IF(ISBLANK(U22),\"\",U22)","v":""},null,null,null,null,null,null,null,null,null,null,null,null,null,null,"U22"]
[null,null,"B",{"$f":"IF(ISBLANK(W22),\"\",W22)","v":""},null,null,null,null,null,null,null,null,null,null,null,null,null,null,"W22"]
[null,null,"C",{"$f":"IF(ISBLANK(AD22),\"\",AD22)","v":""},null,null,null,null,null,null,null,null,null,null,null,null,null,null,"AD22"]
[null,null,"D",{"$f":"IF(ISBLANK(AF22),\"\",AF22)","v":""},null,null,null,null,null,null,null,null,null,null,null,null,null,null,"AF22"]
[null,null,"E",{"$f":"IF(ISBLANK(AI22),\"\",AI22)","v":""},null,null,null,null,null,null,null,null,null,null,null,null,null,null,"AI22"]
[null,10,"A",{"$f":"IF(ISBLANK(U23),\"\",U23)","v":""},null,null,null,null,null,null,null,null,null,null,null,null,null,null,"U23"]
[null,null,"B",{"$f":"IF(ISBLANK(W23),\"\",W23)","v":""},null,null,null,null,null,null,null,null,null,null,null,null,null,null,"W23"]
[null,null,"C",{"$f":"IF(ISBLANK(AD23),\"\",AD23)","v":""},null,null,null,null,null,null,null,null,null,null,null,null,null,null,"AD23"]
[null,null,"D",{"$f":"IF(ISBLANK(AF23),\"\",AF23)","v":""},null,null,null,null,null,null,null,null,null,null,null,null,null,null,"AF23"]
[null,null,"E",{"$f":"IF(ISBLANK(AI23),\"\",AI23)","v":""},null,null,null,null,null,null,null,null,null,null,null,null,null,null,"AI23"]
[null,11,"A",{"$f":"IF(ISBLANK(U24),\"\",U24)","v":""},null,null,null,null,null,null,null,null,null,null,null,null,null,null,"U24"]
[null,null,"B",{"$f":"IF(ISBLANK(W24),\"\",W24)","v":""},null,null,null,null,null,null,null,null,null,null,null,null,null,null,"W24"]
[null,null,"C",{"$f":"IF(ISBLANK(AD24),\"\",AD24)","v":""},null,null,null,null,null,null,null,null,null,null,null,null,null,null,"AD24"]
[null,null,"D",{"$f":"IF(ISBLANK(AF24),\"\",AF24)","v":""},null,null,null,null,null,null,null,null,null,null,null,null,null,null,"AF24"]
[null,null,"E",{"$f":"IF(ISBLANK(AI24),\"\",AI24)","v":""},null,null,null,null,null,null,null,null,null,null,null,null,null,null,"AI24"]
[null,12,"A",{"$f":"IF(ISBLANK(U25),\"\",U25)","v":""},null,null,null,null,null,null,null,null,null,null,null,null,null,null,"U25"]
[null,null,"B",{"$f":"IF(ISBLANK(W25),\"\",W25)","v":""},null,null,null,null,null,null,null,null,null,null,null,null,null,null,"W25"]
[null,null,"C",{"$f":"IF(ISBLANK(AD25),\"\",AD25)","v":""},null,null,null,null,null,null,null,null,null,null,null,null,null,null,"AD25"]
[null,null,"D",{"$f":"IF(ISBLANK(AF25),\"\",AF25)","v":""},null,null,null,null,null,null,null,null,null,null,null,null,null,null,"AF25"]
[null,null,"E",{"$f":"IF(ISBLANK(AI25),\"\",AI25)","v":""},null,null,null,null,null,null,null,null,null,null,null,null,null,null,"AI25"]
[null,13,"A",{"$f":"IF(ISBLANK(U26),\"\",U26)","v":""},null,null,null,null,null,null,null,null,null,null,null,null,null,null,"U26"]
[null,null,"B",{"$f":"IF(ISBLANK(W26),\"\",W26)","v":""},null,null,null,null,null,null,null,null,null,null,null,null,null,null,"W26"]
[null,null,"C",{"$f":"IF(ISBLANK(AD26),\"\",AD26)","v":""},null,null,null,null,null,null,null,null,null,null,null,null,null,null,"AD26"]
[null,null,"D",{"$f":"IF(ISBLANK(AF26),\"\",AF26)","v":""},null,null,null,null,null,null,null,null,null,null,null,null,null,null,"AF26"]
[null,null,"E",{"$f":"IF(ISBLANK(AI26),\"\",AI26)","v":""},null,null,null,null,null,null,null,null,null,null,null,null,null,null,"AI26"]
[null,14,"A",{"$f":"IF(ISBLANK(U27),\"\",U27)","v":""},null,null,null,null,null,null,null,null,null,null,null,null,null,null,"U27"]
[null,null,"B",{"$f":"IF(ISBLANK(W27),\"\",W27)","v":""},null,null,null,null,null,null,null,null,null,null,null,null,null,null,"W27"]
[null,null,"C",{"$f":"IF(ISBLANK(AD27),\"\",AD27)","v":""},null,null,null,null,null,null,null,null,null,null,null,null,null,null,"AD27"]
[null,null,"D",{"$f":"IF(ISBLANK(AF27),\"\",AF27)","v":""},null,null,null,null,null,null,null,null,null,null,null,null,null,null,"AF27"]
[null,null,"E",{"$f":"IF(ISBLANK(AI27),\"\",AI27)","v":""},null,null,null,null,null,null,null,null,null,null,null,null,null,null,"AI27"]
[null,15,"A",{"$f":"IF(ISBLANK(U28),\"\",U28)","v":""},null,null,null,null,null,null,null,null,null,null,null,null,null,null,"U28"]
[null,null,"B",{"$f":"IF(ISBLANK(W28),\"\",W28)","v":""},null,null,null,null,null,null,null,null,null,null,null,null,null,null,"W28"]
[null,null,"C",{"$f":"IF(ISBLANK(AD28),\"\",AD28)","v":""},null,null,null,null,null,null,null,null,null,null,null,null,null,null,"AD28"]
[null,null,"D",{"$f":"IF(ISBLANK(AF28),\"\",AF28)","v":""},null,null,null,null,null,null,null,null,null,null,null,null,null,null,"AF28"]
[null,null,"E",{"$f":"IF(ISBLANK(AI28),\"\",AI28)","v":""},null,null,null,null,null,null,null,null,null,null,null,null,null,null,"AI28"]
[null,16,"A",{"$f":"IF(ISBLANK(U29),\"\",U29)","v":""},null,null,null,null,null,null,null,null,null,null,null,null,null,null,"U29"]
[null,null,"B",{"$f":"IF(ISBLANK(W29),\"\",W29)","v":""},null,null,null,null,null,null,null,null,null,null,null,null,null,null,"W29"]
[null,null,"C",{"$f":"IF(ISBLANK(AD29),\"\",AD29)","v":""},null,null,null,null,null,null,null,null,null,null,null,null,null,null,"AD29"]
[null,null,"D",{"$f":"IF(ISBLANK(AF29),\"\",AF29)","v":""},null,null,null,null,null,null,null,null,null,null,null,null,null,null,"AF29"]
[null,null,"E",{"$f":"IF(ISBLANK(AI29),\"\",AI29)","v":""},null,null,null,null,null,null,null,null,null,null,null,null,null,null,"AI29"]
[null,17,"A",{"$f":"IF(ISBLANK(U30),\"\",U30)","v":""},null,null,null,null,null,null,null,null,null,null,null,null,null,null,"U30"]
[null,null,"B",{"$f":"IF(ISBLANK(W30),\"\",W30)","v":""},null,null,null,null,null,null,null,null,null,null,null,null,null,null,"W30"]
[null,null,"C",{"$f":"IF(ISBLANK(AD30),\"\",AD30)","v":""},null,null,null,null,null,null,null,null,null,null,null,null,null,null,"AD30"]
[null,null,"D",{"$f":"IF(ISBLANK(AF30),\"\",AF30)","v":""},null,null,null,null,null,null,null,null,null,null,null,null,null,null,"AF30"]
[null,null,"E",{"$f":"IF(ISBLANK(AI30),\"\",AI30)","v":""},null,null,null,null,null,null,null,null,null,null,null,null,null,null,"AI30"]
[null,18,"A",{"$f":"IF(ISBLANK(U31),\"\",U31)","v":""},null,null,null,null,null,null,null,null,null,null,null,null,null,null,"U31"]
[null,null,"B",{"$f":"IF(ISBLANK(W31),\"\",W31)","v":""},null,null,null,null,null,null,null,null,null,null,null,null,null,null,"W31"]
[null,null,"C",{"$f":"IF(ISBLANK(AD31),\"\",AD31)","v":""},null,null,null,null,null,null,null,null,null,null,null,null,null,null,"AD31"]
[null,null,"D",{"$f":"IF(ISBLANK(AF31),\"\",AF31)","v":""},null,null,null,null,null,null,null,null,null,null,null,null,null,null,"AF31"]
[null,null,"E",{"$f":"IF(ISBLANK(AI31),\"\",AI31)","v":""},null,null,null,null,null,null,null,null,null,null,null,null,null,null,"AI31"]
[null,536,null,{"$f":"IF(ISBLANK(AG32),\"\",AG32)","v":""},null,null,null,null,null,null,null,null,null,null,null,null,null,null,"AG32"]
[null,537,null,{"$f":"IF(ISBLANK(AJ32),\"\",AJ32)","v":""},null,null,null,null,null,null,null,null,null,null,null,null,null,null,"AJ32"]

{"sheet":"N","index":18,"n_rows":183,"n_cols":39,"rows_kept":183,"cut":false,"hidden":true,"merged":[[178,1,181,1],[89,1,92,1],[93,1,96,1],[97,1,100,1],[101,1,104,1],[105,1,108,1],[37,0,108,0],[110,0,181,0],[110,1,113,1],[114,1,117,1],[118,1,121,1],[122,1,125,1],[126,1,129,1],[130,1,133,1],[134,1,137,1],[138,1,141,1],[142,1,145,1],[146,1,149,1],[150,1,153,1],[154,1,157,1],[158,1,161,1],[162,1,165,1],[166,1,169,1],[170,1,173,1],[174,1,177,1],[53,1,56,1],[57,1,60,1],[61,1,64,1],[65,1,68,1],[69,1,72,1],[73,1,76,1],[77,1,80,1],[81,1,84,1],[85,1,88,1],[2,17,2,29],[1,17,1,29],[37,1,40,1],[41,1,44,1],[45,1,48,1],[49,1,52,1],[12,0,12,1],[12,20,12,21],[10,15,11,18],[12,15,12,18],[10,10,10,14],[11,10,12,14],[10,0,11,9],[12,2,12,9],[5,20,6,32],[5,13,5,19],[6,13,6,19],[8,0,9,19],[8,20,9,36],[13,0,13,1],[13,2,13,9],[13,10,13,14],[13,15,13,18],[13,20,13,21],[13,22,13,29],[13,30,13,32],[13,33,13,36],[12,33,12,36],[10,20,11,29],[12,22,12,29],[10,30,10,32],[10,33,11,36],[11,30,12,32],[14,0,14,1],[14,2,14,9],[14,10,14,14],[14,15,14,18],[14,20,14,21],[14,22,14,29],[14,30,14,32],[14,33,14,36],[15,0,15,1],[15,2,15,9],[15,10,15,14],[15,15,15,18],[15,20,15,21],[15,22,15,29],[15,30,15,32],[15,33,15,36],[16,30,16,32],[16,33,16,36],[17,0,17,1],[17,2,17,9],[17,10,17,14],[17,15,17,18],[17,20,17,21],[17,22,17,29],[17,30,17,32],[17,33,17,36],[16,0,16,1],[16,2,16,9],[16,10,16,14],[16,15,16,18],[16,20,16,21],[16,22,16,29],[18,30,18,32],[18,33,18,36],[19,0,19,1],[19,2,19,9],[19,10,19,14],[19,15,19,18],[19,20,19,21],[19,22,19,29],[19,30,19,32],[19,33,19,36],[18,0,18,1],[18,2,18,9],[18,10,18,14],[18,15,18,18],[18,20,18,21],[18,22,18,29],[20,30,20,32],[20,33,20,36],[21,0,21,1],[21,2,21,9],[21,10,21,14],[21,15,21,18],[21,20,21,21],[21,22,21,29],[21,30,21,32],[21,33,21,36],[20,0,20,1],[20,2,20,9],[20,10,20,14],[20,15,20,18],[20,20,20,21],[20,22,20,29],[22,30,22,32],[22,33,22,36],[23,0,23,1],[23,2,23,9],[23,10,23,14],[23,15,23,18],[23,20,23,21],[23,22,23,29],[23,30,23,32],[23,33,23,36],[22,0,22,1],[22,2,22,9],[22,10,22,14],[22,15,22,18],[22,20,22,21],[22,22,22,29],[24,30,24,32],[24,33,24,36],[25,0,25,1],[25,2,25,9],[25,10,25,14],[25,15,25,18],[25,20,25,21],[25,22,25,29],[25,30,25,32],[25,33,25,36],[24,0,24,1],[24,2,24,9],[24,10,24,14],[24,15,24,18],[24,20,24,21],[24,22,24,29],[26,30,26,32],[26,33,26,36],[27,0,27,1],[27,2,27,9],[27,10,27,14],[27,15,27,18],[27,20,27,21],[27,22,27,29],[27,30,27,32],[27,33,27,36],[26,0,26,1],[26,2,26,9],[26,10,26,14],[26,15,26,18],[26,20,26,21],[26,22,26,29],[28,30,28,32],[28,33,28,36],[29,0,29,1],[29,2,29,9],[29,10,29,14],[29,15,29,18],[29,20,29,21],[29,22,29,29],[29,30,29,32],[29,33,29,36],[28,0,28,1],[28,2,28,9],[28,10,28,14],[28,15,28,18],[28,20,28,21],[28,22,28,29],[31,39,31,41],[31,42,31,44],[39,43,39,50],[30,30,30,32],[30,33,30,36],[31,0,31,14],[31,16,31,18],[31,20,31,32],[31,34,31,36],[30,0,30,1],[30,2,30,9],[30,10,30,14],[30,15,30,18],[30,20,30,21],[30,22,30,29]]}
[]
["令和６年調査　酒類業実態調査表Ｈ４",null,null,null,null,null,null,null,null,null,null,null,null,null,null,null,null,"調査対象期間"]
[null,null,null,null,null,null,null,null,null,null,null,null,null,null,null,null,null,"令和５年４月１日から令和６年３月31日"]
[null,"☆　入力する製造場を選択してください。"]
[null,null,1,2,3,4,5,6,7,8,9,10,null,"選択した製造場名"]
[null,null,null,null,null,null,null,null,null,null,null,null,null,{"$f":"IF(ISBLANK(VLOOKUP(A36,J!B12:N21,3,FALSE)),\"\",VLOOKUP(A36,J!B12:N21,3,FALSE))","v":""},null,null,null,null,null,null,"この調査表は製造場ごとに記載してください。"]
[null,null,null,null,null,null,null,null,null,null,null,null,null,{"$f":"\"【　\"&VLOOKUP(A36,J!B12:N21,8,FALSE)&\"　】\"","v":"【　　】"}]
[]
["①受託醸造による国産ぶどうの受入状況等",null,null,null,null,null,null,null,null,null,null,null,null,null,null,null,null,null,null,null,"②購入による国産ぶどうの受入状況等"]
[]
["品　　種　　名",null,null,null,null,null,null,null,null,null,"ぶどうの産地",null,null,null,null,"受入数量",null,null,null,null,"品　　種　　名",null,null,null,null,null,null,null,null,null,"ぶどうの産地",null,null,"受入数量"]
[null,null,null,null,null,null,null,null,null,null,"都道府県名",null,null,null,null,null,null,null,null,null,null,null,null,null,null,null,null,null,null,null,"都道府県名"]
["番号",null,null,null,null,null,null,null,null,null,null,null,null,null,null,"（ｷﾛｸﾞﾗﾑ）",null,null,null,null,"番号",null,null,null,null,null,null,null,null,null,null,null,null,"（ｷﾛｸﾞﾗﾑ）"]
[null,null,null,null,null,null,null,null,null,null,null,null,null,null,null,null,null,null,null,null,null,null,null,null,null,null,null,null,null,null,null,null,null,null,null,null,null,null,{"$f":"IF(SUM(V14+AF14)=0,\"\",SUM(V14+AF14))","v":""}]
[null,null,null,null,null,null,null,null,null,null,null,null,null,null,null,null,null,null,null,null,null,null,null,null,null,null,null,null,null,null,null,null,null,null,null,null,null,null,""]
[null,null,null,null,null,null,null,null,null,null,null,null,null,null,null,null,null,null,null,null,null,null,null,null,null,null,null,null,null,null,null,null,null,null,null,null,null,null,""]
[null,null,null,null,null,null,null,null,null,null,null,null,null,null,null,null,null,null,null,null,null,null,null,null,null,null,null,null,null,null,null,null,null,null,null,null,null,null,""]
[null,null,null,null,null,null,null,null,null,null,null,null,null,null,null,null,null,null,null,null,null,null,null,null,null,null,null,null,null,null,null,null,null,null,null,null,null,null,""]
[null,null,null,null,null,null,null,null,null,null,null,null,null,null,null,null,null,null,null,null,null,null,null,null,null,null,null,null,null,null,null,null,null,null,null,null,null,null,""]
[null,null,null,null,null,null,null,null,null,null,null,null,null,null,null,null,null,null,null,null,null,null,null,null,null,null,null,null,null,null,null,null,null,null,null,null,null,null,""]
[null,null,null,null,null,null,null,null,null,null,null,null,null,null,null,null,null,null,null,null,null,null,null,null,null,null,null,null,null,null,null,null,null,null,null,null,null,null,""]
[null,null,null,null,null,null,null,null,null,null,null,null,null,null,null,null,null,null,null,null,null,null,null,null,null,null,null,null,null,null,null,null,null,null,null,null,null,null,""]
[null,null,null,null,null,null,null,null,null,null,null,null,null,null,null,null,null,null,null,null,null,null,null,null,null,null,null,null,null,null,null,null,null,null,null,null,null,null,""]
[null,null,null,null,null,null,null,null,null,null,null,null,null,null,null,null,null,null,null,null,null,null,null,null,null,null,null,null,null,null,null,null,null,null,null,null,null,null,""]
[null,null,null,null,null,null,null,null,null,null,null,null,null,null,null,null,null,null,null,null,null,null,null,null,null,null,null,null,null,null,null,null,null,null,null,null,null,null,""]
[null,null,null,null,null,null,null,null,null,null,null,null,null,null,null,null,null,null,null,null,null,null,null,null,null,null,null,null,null,null,null,null,null,null,null,null,null,null,""]
[null,null,null,null,null,null,null,null,null,null,null,null,null,null,null,null,null,null,null,null,null,null,null,null,null,null,null,null,null,null,null,null,null,null,null,null,null,null,""]
[null,null,null,null,null,null,null,null,null,null,null,null,null,null,null,null,null,null,null,null,null,null,null,null,null,null,null,null,null,null,null,null,null,null,null,null,null,null,""]
[null,null,null,null,null,null,null,null,null,null,null,null,null,null,null,null,null,null,null,null,null,null,null,null,null,null,null,null,null,null,null,null,null,null,null,null,null,null,""]
[null,null,null,null,null,null,null,null,null,null,null,null,null,null,null,null,null,null,null,null,null,null,null,null,null,null,null,null,null,null,null,null,null,null,null,null,null,null,""]
[null,null,null,null,null,null,null,null,null,null,null,null,null,null,null,null,null,null,null,null,null,null,null,null,null,null,null,null,null,null,null,null,null,null,null,null,null,null,""]
["計",null,null,null,null,null,null,null,null,null,null,null,null,null,null,538,{"$f":"IF(SUM(P14:S31)=0,\"\",SUM(P14:S31))","v":""},null,null,null,"計",null,null,null,null,null,null,null,null,null,null,null,null,539,{"$f":"IF(SUM(AH14:AK31)=0,\"\",SUM(AH14:AK31))","v":""}]
[]
[]
[]
[2]
["入力判定",{"$f":"IF(OR(K14<>\"\",AE14<>\"\"),TRUE,FALSE)","v":false},null,null,1,2,3,4,5,6,7,8,9,10,null,null,null,null,null,null,null,null,null,null,null,null,null,null,null,null,null,null,null,null,1001]
["①",1,"a",{"$f":"IF(ISBLANK(A14),\"\",A14)","v":""},null,null,null,null,null,null,null,null,null,null,null,null,null,null,"A14",null,null,null,null,null,null,null,null,null,null,null,null,null,null,null,1002]
[null,null,"b",{"$f":"IF(ISBLANK(C14),\"\",C14)","v":""},null,null,null,null,null,null,null,null,null,null,null,null,null,null,"C14",null,null,null,null,null,null,null,null,null,null,null,null,null,null,null,1003]
[null,null,"c",{"$f":"IF(ISBLANK(K14),\"\",K14)","v":""},null,null,null,null,null,null,null,null,null,null,null,null,null,null,"K14",null,null,null,null,null,null,null,null,null,null,null,null,null,null,null,1004]
[null,null,"d",{"$f":"IF(ISBLANK(P14),\"\",P14)","v":""},null,null,null,null,null,null,null,null,null,null,null,null,null,null,"P14",null,null,null,null,null,null,null,null,null,null,null,null,null,null,null,1005]
[null,2,"a",{"$f":"IF(ISBLANK(A15),\"\",A15)","v":""},null,null,null,null,null,null,null,null,null,null,null,null,null,null,"A15",null,null,null,null,null,null,null,null,null,null,null,null,null,null,null,1006]
[null,null,"b",{"$f":"IF(ISBLANK(C15),\"\",C15)","v":""},null,null,null,null,null,null,null,null,null,null,null,null,null,null,"C15",null,null,null,null,null,null,null,null,null,null,null,null,null,null,null,1007]
[null,null,"c",{"$f":"IF(ISBLANK(K15),\"\",K15)","v":""},null,null,null,null,null,null,null,null,null,null,null,null,null,null,"K15",null,null,null,null,null,null,null,null,null,null,null,null,null,null,null,1008]
[null,null,"d",{"$f":"IF(ISBLANK(P15),\"\",P15)","v":""},null,null,null,null,null,null,null,null,null,null,null,null,null,null,"P15",null,null,null,null,null,null,null,null,null,null,null,null,null,null,null,1009]
[null,3,"a",{"$f":"IF(ISBLANK(A16),\"\",A16)","v":""},null,null,null,null,null,null,null,null,null,null,null,null,null,null,"A16",null,null,null,null,null,null,null,null,null,null,null,null,null,null,null,1010]
[null,null,"b",{"$f":"IF(ISBLANK(C16),\"\",C16)","v":""},null,null,null,null,null,null,null,null,null,null,null,null,null,null,"C16",null,null,null,null,null,null,null,null,null,null,null,null,null,null,null,1011]
[null,null,"c",{"$f":"IF(ISBLANK(K16),\"\",K16)","v":""},null,null,null,null,null,null,null,null,null,null,null,null,null,null,"K16",null,null,null,null,null,null,null,null,null,null,null,null,null,null,null,1012]
[null,null,"d",{"$f":"IF(ISBLANK(P16),\"\",P16)","v":""},null,null,null,null,null,null,null,null,null,null,null,null,null,null,"P16",null,null,null,null,null,null,null,null,null,null,null,null,null,null,null,1013]
[null,4,"a",{"$f":"IF(ISBLANK(A17),\"\",A17)","v":""},null,null,null,null,null,null,null,null,null,null,null,null,null,null,"A17",null,null,null,null,null,null,null,null,null,null,null,null,null,null,null,1014]
[null,null,"b",{"$f":"IF(ISBLANK(C17),\"\",C17)","v":""},null,null,null,null,null,null,null,null,null,null,null,null,null,null,"C17",null,null,null,null,null,null,null,null,null,null,null,null,null,null,null,1015]
[null,null,"c",{"$f":"IF(ISBLANK(K17),\"\",K17)","v":""},null,null,null,null,null,null,null,null,null,null,null,null,null,null,"K17",null,null,null,null,null,null,null,null,null,null,null,null,null,null,null,1016]
[null,null,"d",{"$f":"IF(ISBLANK(P17),\"\",P17)","v":""},null,null,null,null,null,null,null,null,null,null,null,null,null,null,"P17",null,null,null,null,null,null,null,null,null,null,null,null,null,null,null,2001]
[null,5,"a",{"$f":"IF(ISBLANK(A18),\"\",A18)","v":""},null,null,null,null,null,null,null,null,null,null,null,null,null,null,"A18",null,null,null,null,null,null,null,null,null,null,null,null,null,null,null,2002]
[null,null,"b",{"$f":"IF(ISBLANK(C18),\"\",C18)","v":""},null,null,null,null,null,null,null,null,null,null,null,null,null,null,"C18",null,null,null,null,null,null,null,null,null,null,null,null,null,null,null,2003]
[null,null,"c",{"$f":"IF(ISBLANK(K18),\"\",K18)","v":""},null,null,null,null,null,null,null,null,null,null,null,null,null,null,"K18",null,null,null,null,null,null,null,null,null,null,null,null,null,null,null,2004]
[null,null,"d",{"$f":"IF(ISBLANK(P18),\"\",P18)","v":""},null,null,null,null,null,null,null,null,null,null,null,null,null,null,"P18",null,null,null,null,null,null,null,null,null,null,null,null,null,null,null,2005]
[null,6,"a",{"$f":"IF(ISBLANK(A19),\"\",A19)","v":""},null,null,null,null,null,null,null,null,null,null,null,null,null,null,"A19",null,null,null,null,null,null,null,null,null,null,null,null,null,null,null,2006]
[null,null,"b",{"$f":"IF(ISBLANK(C19),\"\",C19)","v":""},null,null,null,null,null,null,null,null,null,null,null,null,null,null,"C19",null,null,null,null,null,null,null,null,null,null,null,null,null,null,null,2007]
[null,null,"c",{"$f":"IF(ISBLANK(K19),\"\",K19)","v":""},null,null,null,null,null,null,null,null,null,null,null,null,null,null,"K19",null,null,null,null,null,null,null,null,null,null,null,null,null,null,null,2008]
[null,null,"d",{"$f":"IF(ISBLANK(P19),\"\",P19)","v":""},null,null,null,null,null,null,null,null,null,null,null,null,null,null,"P19",null,null,null,null,null,null,null,null,null,null,null,null,null,null,null,2009]
[null,7,"a",{"$f":"IF(ISBLANK(A20),\"\",A20)","v":""},null,null,null,null,null,null,null,null,null,null,null,null,null,null,"A20",null,null,null,null,null,null,null,null,null,null,null,null,null,null,null,2010]
[null,null,"b",{"$f":"IF(ISBLANK(C20),\"\",C20)","v":""},null,null,null,null,null,null,null,null,null,null,null,null,null,null,"C20",null,null,null,null,null,null,null,null,null,null,null,null,null,null,null,2011]
[null,null,"c",{"$f":"IF(ISBLANK(K20),\"\",K20)","v":""},null,null,null,null,null,null,null,null,null,null,null,null,null,null,"K20",null,null,null,null,null,null,null,null,null,null,null,null,null,null,null,2012]
[null,null,"d",{"$f":"IF(ISBLANK(P20),\"\",P20)","v":""},null,null,null,null,null,null,null,null,null,null,null,null,null,null,"P20",null,null,null,null,null,null,null,null,null,null,null,null,null,null,null,2013]
[null,8,"a",{"$f":"IF(ISBLANK(A21),\"\",A21)","v":""},null,null,null,null,null,null,null,null,null,null,null,null,null,null,"A21",null,null,null,null,null,null,null,null,null,null,null,null,null,null,null,2014]
[null,null,"b",{"$f":"IF(ISBLANK(C21),\"\",C21)","v":""},null,null,null,null,null,null,null,null,null,null,null,null,null,null,"C21",null,null,null,null,null,null,null,null,null,null,null,null,null,null,null,2015]
[null,null,"c",{"$f":"IF(ISBLANK(K21),\"\",K21)","v":""},null,null,null,null,null,null,null,null,null,null,null,null,null,null,"K21",null,null,null,null,null,null,null,null,null,null,null,null,null,null,null,2016]
[null,null,"d",{"$f":"IF(ISBLANK(P21),\"\",P21)","v":""},null,null,null,null,null,null,null,null,null,null,null,null,null,null,"P21",null,null,null,null,null,null,null,null,null,null,null,null,null,null,null,2017]
[null,9,"a",{"$f":"IF(ISBLANK(A22),\"\",A22)","v":""},null,null,null,null,null,null,null,null,null,null,null,null,null,null,"A22",null,null,null,null,null,null,null,null,null,null,null,null,null,null,null,2018]
[null,null,"b",{"$f":"IF(ISBLANK(C22),\"\",C22)","v":""},null,null,null,null,null,null,null,null,null,null,null,null,null,null,"C22"]
[null,null,"c",{"$f":"IF(ISBLANK(K22),\"\",K22)","v":""},null,null,null,null,null,null,null,null,null,null,null,null,null,null,"K22"]
[null,null,"d",{"$f":"IF(ISBLANK(P22),\"\",P22)","v":""},null,null,null,null,null,null,null,null,null,null,null,null,null,null,"P22"]
[null,10,"a",{"$f":"IF(ISBLANK(A23),\"\",A23)","v":""},null,null,null,null,null,null,null,null,null,null,null,null,null,null,"A23"]
[null,null,"b",{"$f":"IF(ISBLANK(C23),\"\",C23)","v":""},null,null,null,null,null,null,null,null,null,null,null,null,null,null,"C23"]
[null,null,"c",{"$f":"IF(ISBLANK(K23),\"\",K23)","v":""},null,null,null,null,null,null,null,null,null,null,null,null,null,null,"K23"]
[null,null,"d",{"$f":"IF(ISBLANK(P23),\"\",P23)","v":""},null,null,null,null,null,null,null,null,null,null,null,null,null,null,"P23"]
[null,11,"a",{"$f":"IF(ISBLANK(A24),\"\",A24)","v":""},null,null,null,null,null,null,null,null,null,null,null,null,null,null,"A24"]
[null,null,"b",{"$f":"IF(ISBLANK(C24),\"\",C24)","v":""},null,null,null,null,null,null,null,null,null,null,null,null,null,null,"C24"]
[null,null,"c",{"$f":"IF(ISBLANK(K24),\"\",K24)","v":""},null,null,null,null,null,null,null,null,null,null,null,null,null,null,"K24"]
[null,null,"d",{"$f":"IF(ISBLANK(P24),\"\",P24)","v":""},null,null,null,null,null,null,null,null,null,null,null,null,null,null,"P24"]
[null,12,"a",{"$f":"IF(ISBLANK(A25),\"\",A25)","v":""},null,null,null,null,null,null,null,null,null,null,null,null,null,null,"A25"]
[null,null,"b",{"$f":"IF(ISBLANK(C25),\"\",C25)","v":""},null,null,null,null,null,null,null,null,null,null,null,null,null,null,"C25"]
[null,null,"c",{"$f":"IF(ISBLANK(K25),\"\",K25)","v":""},null,null,null,null,null,null,null,null,null,null,null,null,null,null,"K25"]
[null,null,"d",{"$f":"IF(ISBLANK(P25),\"\",P25)","v":""},null,null,null,null,null,null,null,null,null,null,null,null,null,null,"P25"]
[null,13,"a",{"$f":"IF(ISBLANK(A26),\"\",A26)","v":""},null,null,null,null,null,null,null,null,null,null,null,null,null,null,"A26"]
[null,null,"b",{"$f":"IF(ISBLANK(C26),\"\",C26)","v":""},null,null,null,null,null,null,null,null,null,null,null,null,null,null,"C26"]
[null,null,"c",{"$f":"IF(ISBLANK(K26),\"\",K26)","v":""},null,null,null,null,null,null,null,null,null,null,null,null,null,null,"K26"]
[null,null,"d",{"$f":"IF(ISBLANK(P26),\"\",P26)","v":""},null,null,null,null,null,null,null,null,null,null,null,null,null,null,"P26"]
[null,14,"a",{"$f":"IF(ISBLANK(A27),\"\",A27)","v":""},null,null,null,null,null,null,null,null,null,null,null,null,null,null,"A27"]
[null,null,"b",{"$f":"IF(ISBLANK(C27),\"\",C27)","v":""},null,null,null,null,null,null,null,null,null,null,null,null,null,null,"C27"]
[null,null,"c",{"$f":"IF(ISBLANK(K27),\"\",K27)","v":""},null,null,null,null,null,null,null,null,null,null,null,null,null,null,"K27"]
[null,null,"d",{"$f":"IF(ISBLANK(P27),\"\",P27)","v":""},null,null,null,null,null,null,null,null,null,null,null,null,null,null,"P27"]
[null,15,"a",{"$f":"IF(ISBLANK(A28),\"\",A28)","v":""},null,null,null,null,null,null,null,null,null,null,null,null,null,null,"A28"]
[null,null,"b",{"$f":"IF(ISBLANK(C28),\"\",C28)","v":""},null,null,null,null,null,null,null,null,null,null,null,null,null,null,"C28"]
[null,null,"c",{"$f":"IF(ISBLANK(K28),\"\",K28)","v":""},null,null,null,null,null,null,null,null,null,null,null,null,null,null,"K28"]
[null,null,"d",{"$f":"IF(ISBLANK(P28),\"\",P28)","v":""},null,null,null,null,null,null,null,null,null,null,null,null,null,null,"P28"]
[null,16,"a",{"$f":"IF(ISBLANK(A29),\"\",A29)","v":""},null,null,null,null,null,null,null,null,null,null,null,null,null,null,"A29"]
[null,null,"b",{"$f":"IF(ISBLANK(C29),\"\",C29)","v":""},null,null,null,null,null,null,null,null,null,null,null,null,null,null,"C29"]
[null,null,"c",{"$f":"IF(ISBLANK(K29),\"\",K29)","v":""},null,null,null,null,null,null,null,null,null,null,null,null,null,null,"K29"]
[null,null,"d",{"$f":"IF(ISBLANK(P29),\"\",P29)","v":""},null,null,null,null,null,null,null,null,null,null,null,null,null,null,"P29"]
[null,17,"a",{"$f":"IF(ISBLANK(A30),\"\",A30)","v":""},null,null,null,null,null,null,null,null,null,null,null,null,null,null,"A30"]
[null,null,"b",{"$f":"IF(ISBLANK(C30),\"\",C30)","v":""},null,null,null,null,null,null,null,null,null,null,null,null,null,null,"C30"]
[null,null,"c",{"$f":"IF(ISBLANK(K30),\"\",K30)","v":""},null,null,null,null,null,null,null,null,null,null,null,null,null,null,"K30"]
[null,null,"d",{"$f":"IF(ISBLANK(P30),\"\",P30)","v":""},null,null,null,null,null,null,null,null,null,null,null,null,null,null,"P30"]
[null,18,"a",{"$f":"IF(ISBLANK(A31),\"\",A31)","v":""},null,null,null,null,null,null,null,null,null,null,null,null,null,null,"A31"]
[null,null,"b",{"$f":"IF(ISBLANK(C31),\"\",C31)","v":""},null,null,null,null,null,null,null,null,null,null,null,null,null,null,"C31"]
[null,null,"c",{"$f":"IF(ISBLANK(K31),\"\",K31)","v":""},null,null,null,null,null,null,null,null,null,null,null,null,null,null,"K31"]
[null,null,"d",{"$f":"IF(ISBLANK(P31),\"\",P31)","v":""},null,null,null,null,null,null,null,null,null,null,null,null,null,null,"P31"]
[null,538,null,{"$f":"IF(ISBLANK(Q32),\"\",Q32)","v":""},null,null,null,null,null,null,null,null,null,null,null,null,null,null,"Q32"]
["①",1,"a",{"$f":"IF(ISBLANK(U14),\"\",U14)","v":""},null,null,null,null,null,null,null,null,null,null,null,null,null,null,"U14"]
[null,null,"b",{"$f":"IF(ISBLANK(W14),\"\",W14)","v":""},null,null,null,null,null,null,null,null,null,null,null,null,null,null,"W14"]
[null,null,"c",{"$f":"IF(ISBLANK(AE14),\"\",AE14)","v":""},null,null,null,null,null,null,null,null,null,null,null,null,null,null,"AE14"]
[null,null,"d",{"$f":"IF(ISBLANK(AH14),\"\",AH14)","v":""},null,null,null,null,null,null,null,null,null,null,null,null,null,null,"AH14"]
[null,2,"a",{"$f":"IF(ISBLANK(U15),\"\",U15)","v":""},null,null,null,null,null,null,null,null,null,null,null,null,null,null,"U15"]
[null,null,"b",{"$f":"IF(ISBLANK(W15),\"\",W15)","v":""},null,null,null,null,null,null,null,null,null,null,null,null,null,null,"W15"]
[null,null,"c",{"$f":"IF(ISBLANK(AE15),\"\",AE15)","v":""},null,null,null,null,null,null,null,null,null,null,null,null,null,null,"AE15"]
[null,null,"d",{"$f":"IF(ISBLANK(AH15),\"\",AH15)","v":""},null,null,null,null,null,null,null,null,null,null,null,null,null,null,"AH15"]
[null,3,"a",{"$f":"IF(ISBLANK(U16),\"\",U16)","v":""},null,null,null,null,null,null,null,null,null,null,null,null,null,null,"U16"]
[null,null,"b",{"$f":"IF(ISBLANK(W16),\"\",W16)","v":""},null,null,null,null,null,null,null,null,null,null,null,null,null,null,"W16"]
[null,null,"c",{"$f":"IF(ISBLANK(AE16),\"\",AE16)","v":""},null,null,null,null,null,null,null,null,null,null,null,null,null,null,"AE16"]
[null,null,"d",{"$f":"IF(ISBLANK(AH16),\"\",AH16)","v":""},null,null,null,null,null,null,null,null,null,null,null,null,null,null,"AH16"]
[null,4,"a",{"$f":"IF(ISBLANK(U17),\"\",U17)","v":""},null,null,null,null,null,null,null,null,null,null,null,null,null,null,"U17"]
[null,null,"b",{"$f":"IF(ISBLANK(W17),\"\",W17)","v":""},null,null,null,null,null,null,null,null,null,null,null,null,null,null,"W17"]
[null,null,"c",{"$f":"IF(ISBLANK(AE17),\"\",AE17)","v":""},null,null,null,null,null,null,null,null,null,null,null,null,null,null,"AE17"]
[null,null,"d",{"$f":"IF(ISBLANK(AH17),\"\",AH17)","v":""},null,null,null,null,null,null,null,null,null,null,null,null,null,null,"AH17"]
[null,5,"a",{"$f":"IF(ISBLANK(U18),\"\",U18)","v":""},null,null,null,null,null,null,null,null,null,null,null,null,null,null,"U18"]
[null,null,"b",{"$f":"IF(ISBLANK(W18),\"\",W18)","v":""},null,null,null,null,null,null,null,null,null,null,null,null,null,null,"W18"]
[null,null,"c",{"$f":"IF(ISBLANK(AE18),\"\",AE18)","v":""},null,null,null,null,null,null,null,null,null,null,null,null,null,null,"AE18"]
[null,null,"d",{"$f":"IF(ISBLANK(AH18),\"\",AH18)","v":""},null,null,null,null,null,null,null,null,null,null,null,null,null,null,"AH18"]
[null,6,"a",{"$f":"IF(ISBLANK(U19),\"\",U19)","v":""},null,null,null,null,null,null,null,null,null,null,null,null,null,null,"U19"]
[null,null,"b",{"$f":"IF(ISBLANK(W19),\"\",W19)","v":""},null,null,null,null,null,null,null,null,null,null,null,null,null,null,"W19"]
[null,null,"c",{"$f":"IF(ISBLANK(AE19),\"\",AE19)","v":""},null,null,null,null,null,null,null,null,null,null,null,null,null,null,"AE19"]
[null,null,"d",{"$f":"IF(ISBLANK(AH19),\"\",AH19)","v":""},null,null,null,null,null,null,null,null,null,null,null,null,null,null,"AH19"]
[null,7,"a",{"$f":"IF(ISBLANK(U20),\"\",U20)","v":""},null,null,null,null,null,null,null,null,null,null,null,null,null,null,"U20"]
[null,null,"b",{"$f":"IF(ISBLANK(W20),\"\",W20)","v":""},null,null,null,null,null,null,null,null,null,null,null,null,null,null,"W20"]
[null,null,"c",{"$f":"IF(ISBLANK(AE20),\"\",AE20)","v":""},null,null,null,null,null,null,null,null,null,null,null,null,null,null,"AE20"]
[null,null,"d",{"$f":"IF(ISBLANK(AH20),\"\",AH20)","v":""},null,null,null,null,null,null,null,null,null,null,null,null,null,null,"AH20"]
[null,8,"a",{"$f":"IF(ISBLANK(U21),\"\",U21)","v":""},null,null,null,null,null,null,null,null,null,null,null,null,null,null,"U21"]
[null,null,"b",{"$f":"IF(ISBLANK(W21),\"\",W21)","v":""},null,null,null,null,null,null,null,null,null,null,null,null,null,null,"W21"]
[null,null,"c",{"$f":"IF(ISBLANK(AE21),\"\",AE21)","v":""},null,null,null,null,null,null,null,null,null,null,null,null,null,null,"AE21"]
[null,null,"d",{"$f":"IF(ISBLANK(AH21),\"\",AH21)","v":""},null,null,null,null,null,null,null,null,null,null,null,null,null,null,"AH21"]
[null,9,"a",{"$f":"IF(ISBLANK(U22),\"\",U22)","v":""},null,null,null,null,null,null,null,null,null,null,null,null,null,null,"U22"]
[null,null,"b",{"$f":"IF(ISBLANK(W22),\"\",W22)","v":""},null,null,null,null,null,null,null,null,null,null,null,null,null,null,"W22"]
[null,null,"c",{"$f":"IF(ISBLANK(AE22),\"\",AE22)","v":""},null,null,null,null,null,null,null,null,null,null,null,null,null,null,"AE22"]
[null,null,"d",{"$f":"IF(ISBLANK(AH22),\"\",AH22)","v":""},null,null,null,null,null,null,null,null,null,null,null,null,null,null,"AH22"]
[null,10,"a",{"$f":"IF(ISBLANK(U23),\"\",U23)","v":""},null,null,null,null,null,null,null,null,null,null,null,null,null,null,"U23"]
[null,null,"b",{"$f":"IF(ISBLANK(W23),\"\",W23)","v":""},null,null,null,null,null,null,null,null,null,null,null,null,null,null,"W23"]
[null,null,"c",{"$f":"IF(ISBLANK(AE23),\"\",AE23)","v":""},null,null,null,null,null,null,null,null,null,null,null,null,null,null,"AE23"]
[null,null,"d",{"$f":"IF(ISBLANK(AH23),\"\",AH23)","v":""},null,null,null,null,null,null,null,null,null,null,null,null,null,null,"AH23"]
[null,11,"a",{"$f":"IF(ISBLANK(U24),\"\",U24)","v":""},null,null,null,null,null,null,null,null,null,null,null,null,null,null,"U24"]
[null,null,"b",{"$f":"IF(ISBLANK(W24),\"\",W24)","v":""},null,null,null,null,null,null,null,null,null,null,null,null,null,null,"W24"]
[null,null,"c",{"$f":"IF(ISBLANK(AE24),\"\",AE24)","v":""},null,null,null,null,null,null,null,null,null,null,null,null,null,null,"AE24"]
[null,null,"d",{"$f":"IF(ISBLANK(AH24),\"\",AH24)","v":""},null,null,null,null,null,null,null,null,null,null,null,null,null,null,"AH24"]
[null,12,"a",{"$f":"IF(ISBLANK(U25),\"\",U25)","v":""},null,null,null,null,null,null,null,null,null,null,null,null,null,null,"U25"]
[null,null,"b",{"$f":"IF(ISBLANK(W25),\"\",W25)","v":""},null,null,null,null,null,null,null,null,null,null,null,null,null,null,"W25"]
[null,null,"c",{"$f":"IF(ISBLANK(AE25),\"\",AE25)","v":""},null,null,null,null,null,null,null,null,null,null,null,null,null,null,"AE25"]
[null,null,"d",{"$f":"IF(ISBLANK(AH25),\"\",AH25)","v":""},null,null,null,null,null,null,null,null,null,null,null,null,null,null,"AH25"]
[null,13,"a",{"$f":"IF(ISBLANK(U26),\"\",U26)","v":""},null,null,null,null,null,null,null,null,null,null,null,null,null,null,"U26"]
[null,null,"b",{"$f":"IF(ISBLANK(W26),\"\",W26)","v":""},null,null,null,null,null,null,null,null,null,null,null,null,null,null,"W26"]
[null,null,"c",{"$f":"IF(ISBLANK(AE26),\"\",AE26)","v":""},null,null,null,null,null,null,null,null,null,null,null,null,null,null,"AE26"]
[null,null,"d",{"$f":"IF(ISBLANK(AH26),\"\",AH26)","v":""},null,null,null,null,null,null,null,null,null,null,null,null,null,null,"AH26"]
[null,14,"a",{"$f":"IF(ISBLANK(U27),\"\",U27)","v":""},null,null,null,null,null,null,null,null,null,null,null,null,null,null,"U27"]
[null,null,"b",{"$f":"IF(ISBLANK(W27),\"\",W27)","v":""},null,null,null,null,null,null,null,null,null,null,null,null,null,null,"W27"]
[null,null,"c",{"$f":"IF(ISBLANK(AE27),\"\",AE27)","v":""},null,null,null,null,null,null,null,null,null,null,null,null,null,null,"AE27"]
[null,null,"d",{"$f":"IF(ISBLANK(AH27),\"\",AH27)","v":""},null,null,null,null,null,null,null,null,null,null,null,null,null,null,"AH27"]
[null,15,"a",{"$f":"IF(ISBLANK(U28),\"\",U28)","v":""},null,null,null,null,null,null,null,null,null,null,null,null,null,null,"U28"]
[null,null,"b",{"$f":"IF(ISBLANK(W28),\"\",W28)","v":""},null,null,null,null,null,null,null,null,null,null,null,null,null,null,"W28"]
[null,null,"c",{"$f":"IF(ISBLANK(AE28),\"\",AE28)","v":""},null,null,null,null,null,null,null,null,null,null,null,null,null,null,"AE28"]
[null,null,"d",{"$f":"IF(ISBLANK(AH28),\"\",AH28)","v":""},null,null,null,null,null,null,null,null,null,null,null,null,null,null,"AH28"]
[null,16,"a",{"$f":"IF(ISBLANK(U29),\"\",U29)","v":""},null,null,null,null,null,null,null,null,null,null,null,null,null,null,"U29"]
[null,null,"b",{"$f":"IF(ISBLANK(W29),\"\",W29)","v":""},null,null,null,null,null,null,null,null,null,null,null,null,null,null,"W29"]
[null,null,"c",{"$f":"IF(ISBLANK(AE29),\"\",AE29)","v":""},null,null,null,null,null,null,null,null,null,null,null,null,null,null,"AE29"]
[null,null,"d",{"$f":"IF(ISBLANK(AH29),\"\",AH29)","v":""},null,null,null,null,null,null,null,null,null,null,null,null,null,null,"AH29"]
[null,17,"a",{"$f":"IF(ISBLANK(U30),\"\",U30)","v":""},null,null,null,null,null,null,null,null,null,null,null,null,null,null,"U30"]
[null,null,"b",{"$f":"IF(ISBLANK(W30),\"\",W30)","v":""},null,null,null,null,null,null,null,null,null,null,null,null,null,null,"W30"]
[null,null,"c",{"$f":"IF(ISBLANK(AE30),\"\",AE30)","v":""},null,null,null,null,null,null,null,null,null,null,null,null,null,null,"AE30"]
[null,null,"d",{"$f":"IF(ISBLANK(AH30),\"\",AH30)","v":""},null,null,null,null,null,null,null,null,null,null,null,null,null,null,"AH30"]
[null,18,"a",{"$f":"IF(ISBLANK(U31),\"\",U31)","v":""},null,null,null,null,null,null,null,null,null,null,null,null,null,null,"U31"]
[null,null,"b",{"$f":"IF(ISBLANK(W31),\"\",W31)","v":""},null,null,null,null,null,null,null,null,null,null,null,null,null,null,"W31"]
[null,null,"c",{"$f":"IF(ISBLANK(AE31),\"\",AE31)","v":""},null,null,null,null,null,null,null,null,null,null,null,null,null,null,"AE31"]
[null,null,"d",{"$f":"IF(ISBLANK(AH31),\"\",AH31)","v":""},null,null,null,null,null,null,null,null,null,null,null,null,null,null,"AH31"]
[null,538,null,{"$f":"IF(ISBLANK(AI32),\"\",AI32)","v":""},null,null,null,null,null,null,null,null,null,null,null,null,null,null,"AI32"]

{"sheet":"O","index":19,"n_rows":71,"n_cols":56,"rows_kept":71,"cut":false,"hidden":true,"merged":[[36,7,36,15],[36,16,36,46],[37,16,37,46],[15,3,15,6],[0,0,0,17],[2,2,4,38],[7,0,7,50],[8,0,8,50],[25,3,25,6],[32,3,32,6],[37,3,37,6],[37,7,37,15],[36,3,36,6],[46,3,48,6],[39,3,39,6],[38,3,38,6],[38,7,38,15],[38,16,38,46],[39,7,39,15],[39,16,39,46],[46,7,46,46],[47,7,48,46]]}
["輸出に関するアンケート表Ｉ"]
[]
[null,null,"※　同一の者が酒類製造者等と卸売業者の両方に該当する場合は、１者としての回答を酒類製造者等のアンケート表に記入してください。"]
[]
[]
[]
[]
["〇　現在、輸出を行っている方（卸売業者等を通じて輸出を行っている方も含みます。）にお尋ねします。"]
["　（Ｑ１～７にご回答ください。）"]
["　Ｑ１　　令和４年から令和５年にかけて、輸出数量が増加した方にお尋ねします。増加した理由として、"]
["　　　　最も近いものを以下から選択してください。"]
[null,null,null,"１：すでに取引のある販売先の受注量が増加した "]
[null,null,null,"２：輸出している国・地域において、新たな販売先を拡大した"]
[null,null,null,"３：今まで輸出していない国・地域で新たな取引を開始した"]
[null,null,null,"４：不明　"]
[]
[]
["　Ｑ２　　今後（５年後程度）の輸出数量又は輸出金額の目標として、最も近いものを以下から選択してください。"]
[null,null,null,"１：拡大（現状より1.2倍程度増加）　"]
[null,null,null,"２：拡大（現状より1.5倍程度増加）　"]
[null,null,null,"３：拡大（現状より２倍程度増加）　"]
[null,null,null,"４：拡大（現状より３倍以上増加）　"]
[null,null,null,"５：現状維持　"]
[null,null,null,"６：縮小"]
[null,null,null,"７：撤退"]
[]
[]
["　Ｑ３　　Ｑ２で「１」、「２」、「３」又は「４」を選択した方にお尋ねします。輸出数量等の拡大について、"]
["　　　　どのような方法をお考えですか。最も近いものを以下から選択してください。"]
[null,null,null,"１：すでに取引のある販売先での受注量を増加させたい　"]
[null,null,null,"２：輸出している国・地域において、新たな販売先を拡大したい"]
[null,null,null,"３：今まで輸出していない国・地域で新たな取引を開始したい"]
[]
[]
[null,null,null,"「３」を選択した方は、具体的な国名を最大３か国、別紙７「国一覧」から選択してください。"]
[null,null,null,"また、その理由を記載してください。"]
[null,null,null,"国番号",null,null,null,"国名",null,null,null,null,null,null,null,null,"理由"]
[]
[]
[]
[]
["　Ｑ４　Ｑ２で「１」、「２」、「３」又は「４」を選択した方にお尋ねします。輸出数量を増加するための"]
["    　　課題は何ですか。最も近いものを以下から選択してください。"]
[null,"　",null,"１：現地での知名度向上や需要拡大　２：現地の市場動向などの情報収集　３：代理店・パートナー探し"]
[null,null,null,"４：海外営業のための経費負担　５：人材の確保　６：資金の確保　"]
[null,null,null,"７：製造規模　８：その他"]
[null,null,null,null,null,null,null,"（８：その他を選択した場合、具体的な内容を記入してください。）"]
[]
[]
[]
[]
[]
["入力判定",{"$f":"IF(COUNTBLANK(B54:B67)<14,TRUE,FALSE)","v":false}]
[1,{"$f":"IF(ISBLANK(D16),\"\",D16)","v":""}]
[2,{"$f":"IF(ISBLANK(D26),\"\",D26)","v":""}]
[3,{"$f":"IF(ISBLANK(D33),\"\",D33)","v":""},null,null,null,null,null,null,null,null,null,null,null,null,null,null,null,null,null,null,null,null,null,null,null,null,null,null,null,null,null,null,null,null,null,null,null,null,null,null,null,null,null,null,null,null,null,null,null,null,null,1,1,1,1,1]
[4,{"$f":"IF(ISBLANK(D38),\"\",D38)","v":""},null,null,null,null,null,null,null,null,null,null,null,null,null,null,null,null,null,null,null,null,null,null,null,null,null,null,null,null,null,null,null,null,null,null,null,null,null,null,null,null,null,null,null,null,null,null,null,null,null,2,2,2,2,2]
[5,{"$f":"IF(ISBLANK(H38),\"\",H38)","v":""},null,null,null,null,null,null,null,null,null,null,null,null,null,null,null,null,null,null,null,null,null,null,null,null,null,null,null,null,null,null,null,null,null,null,null,null,null,null,null,null,null,null,null,null,null,null,null,null,null,3,null,3,3,3]
[6,{"$f":"IF(ISBLANK(Q38),\"\",Q38)","v":""},null,null,null,null,null,null,null,null,null,null,null,null,null,null,null,null,null,null,null,null,null,null,null,null,null,null,null,null,null,null,null,null,null,null,null,null,null,null,null,null,null,null,null,null,null,null,null,null,null,4,null,4,null,4]
[7,{"$f":"IF(ISBLANK(D39),\"\",D39)","v":""},null,null,null,null,null,null,null,null,null,null,null,null,null,null,null,null,null,null,null,null,null,null,null,null,null,null,null,null,null,null,null,null,null,null,null,null,null,null,null,null,null,null,null,null,null,null,null,null,null,null,null,5,null,5]
[8,{"$f":"IF(ISBLANK(H39),\"\",H39)","v":""},null,null,null,null,null,null,null,null,null,null,null,null,null,null,null,null,null,null,null,null,null,null,null,null,null,null,null,null,null,null,null,null,null,null,null,null,null,null,null,null,null,null,null,null,null,null,null,null,null,null,null,6,null,6]
[9,{"$f":"IF(ISBLANK(Q39),\"\",Q39)","v":""},null,null,null,null,null,null,null,null,null,null,null,null,null,null,null,null,null,null,null,null,null,null,null,null,null,null,null,null,null,null,null,null,null,null,null,null,null,null,null,null,null,null,null,null,null,null,null,null,null,null,null,7,null,7]
[10,{"$f":"IF(ISBLANK(D40),\"\",D40)","v":""},null,null,null,null,null,null,null,null,null,null,null,null,null,null,null,null,null,null,null,null,null,null,null,null,null,null,null,null,null,null,null,null,null,null,null,null,null,null,null,null,null,null,null,null,null,null,null,null,null,null,null,null,null,8]
[11,{"$f":"IF(ISBLANK(H40),\"\",H40)","v":""},null,null,null,null,null,null,null,null,null,null,null,null,null,null,null,null,null,null,null,null,null,null,null,null,null,null,null,null,null,null,null,null,null,null,null,null,null,null,null,null,null,null,null,null,null,null,null,null,null,null,null,null,null,9]
[12,{"$f":"IF(ISBLANK(Q40),\"\",Q40)","v":""},null,null,null,null,null,null,null,null,null,null,null,null,null,null,null,null,null,null,null,null,null,null,null,null,null,null,null,null,null,null,null,null,null,null,null,null,null,null,null,null,null,null,null,null,null,null,null,null,null,null,null,null,null,10]
[13,{"$f":"IF(ISBLANK(D47),\"\",D47)","v":""},null,null,null,null,null,null,null,null,null,null,null,null,null,null,null,null,null,null,null,null,null,null,null,null,null,null,null,null,null,null,null,null,null,null,null,null,null,null,null,null,null,null,null,null,null,null,null,null,null,null,null,null,null,11]
[14,{"$f":"IF(ISBLANK(H48),\"\",H48)","v":""},null,null,null,null,null,null,null,null,null,null,null,null,null,null,null,null,null,null,null,null,null,null,null,null,null,null,null,null,null,null,null,null,null,null,null,null,null,null,null,null,null,null,null,null,null,null,null,null,null,null,null,null,null,12]
[null,null,null,null,null,null,null,null,null,null,null,null,null,null,null,null,null,null,null,null,null,null,null,null,null,null,null,null,null,null,null,null,null,null,null,null,null,null,null,null,null,null,null,null,null,null,null,null,null,null,null,null,null,null,null,13]
[null,null,null,null,null,null,null,null,null,null,null,null,null,null,null,null,null,null,null,null,null,null,null,null,null,null,null,null,null,null,null,null,null,null,null,null,null,null,null,null,null,null,null,null,null,null,null,null,null,null,null,null,null,null,null,14]
[null,null,null,null,null,null,null,null,null,null,null,null,null,null,null,null,null,null,null,null,null,null,null,null,null,null,null,null,null,null,null,null,null,null,null,null,null,null,null,null,null,null,null,null,null,null,null,null,null,null,null,null,null,null,null,15]
[null,null,null,null,null,null,null,null,null,null,null,null,null,null,null,null,null,null,null,null,null,null,null,null,null,null,null,null,null,null,null,null,null,null,null,null,null,null,null,null,null,null,null,null,null,null,null,null,null,null,null,null,null,null,null,16]

{"sheet":"P","index":20,"n_rows":67,"n_cols":49,"rows_kept":67,"cut":false,"hidden":true,"merged":[[0,0,0,17],[31,3,31,6],[2,2,4,51],[9,3,10,6],[16,3,16,6],[19,3,19,52],[31,7,31,15],[39,3,41,6],[39,7,39,52],[40,7,41,52],[27,3,27,6],[34,3,34,6],[34,7,34,15],[33,3,33,6],[33,7,33,15],[32,3,32,6],[32,7,32,15]]}
["輸出に関するアンケート表Ｊ"]
[]
[null,null,"※　同一の者が酒類製造者等と卸売業者の双方に該当する場合は、１者としての回答を酒類製造者等のアンケート表に記入してください。"]
[]
[]
[]
["　Ｑ５　酒類製造者の方のみにお尋ねします。輸出の取引形態について、主なものを以下から選択してください。"]
[null,null,null,"１：自社から円建てにより国内の卸・商社へ出荷　２：自社から外貨建てにより国内の卸・商社へ出荷"]
[null,null,null,"３：自社から円建てにより現地輸入業者・小売へ出荷　４：自社から外貨建てにより現地輸入業者・小売へ出荷"]
[]
[]
[]
["　Ｑ６　酒類製造者の方のみにお尋ねします。海外における販促活動の方法は次のうちどれですか。"]
["　　　　最も近いものを以下から選択してください。"]
[null,null,null,"１：卸・商社に任せている　２：卸・商社と一緒に海外に行って実施している"]
[null,null,null,"３：自社で海外へ行って実施している　４：販促活動は行っていない"]
[]
[]
["　Ｑ７　今後の輸出拡大に向けて、政府に期待する取組・施策があれば、ご自由に記入してください。"]
[]
[]
["〇　現在、輸出を行っていない方（過去に輸出を行ったことがある方を含みます。）にお尋ねします。"]
[null,"（Ｑ８～10にご回答ください。）"]
[]
["　Ｑ８　今後、輸出を検討していますか。　"]
[null,null,null,"１：１年以内に開始（再開）予定　２：将来的には開始（再開）することを検討中　３：今後も行わない"]
[]
[]
[]
["　Ｑ９　Ｑ８で「１」又は「２」を選択した方にお尋ねします。今後、輸出を検討している国はどこですか。"]
["　　　　最大３か国まで選択してください。"]
[null,null,null,"国番号",null,null,null,"国名"]
[]
[]
[]
[]
["　Ｑ10　Ｑ８で「３」を選択した方にお尋ねします。その理由について、最も近いものを以下から選択してください。"]
[null,null,null,"１：人手が足りない　２：資金がない　３：輸出に関する知識がない"]
[null,null,null,"４：将来的にも国内販売で経営が成り立つ　５：その他"]
[null,null,null,null,null,null,null,"（５：その他を選択した場合、具体的な内容を記入してください。）"]
[]
[]
[]
[]
[]
[]
[]
[]
[]
["入力判定",{"$f":"IF(COUNTBLANK(B51:B62)<12,TRUE,FALSE)","v":false}]
[1,{"$f":"IF(ISBLANK(D10),\"\",D10)","v":""}]
[2,{"$f":"IF(ISBLANK(D17),\"\",D17)","v":""}]
[3,{"$f":"IF(ISBLANK(D20),\"\",D20)","v":""}]
[4,{"$f":"IF(ISBLANK(D28),\"\",D28)","v":""}]
[5,{"$f":"IF(ISBLANK(D33),\"\",D33)","v":""},null,null,null,null,null,null,null,null,null,null,null,null,null,null,null,null,null,null,null,null,null,null,null,null,null,null,null,null,null,null,null,null,null,null,null,null,null,null,null,null,null,1,1,1,1,"有","１社"]
[6,{"$f":"IF(ISBLANK(H33),\"\",H33)","v":""},null,null,null,null,null,null,null,null,null,null,null,null,null,null,null,null,null,null,null,null,null,null,null,null,null,null,null,null,null,null,null,null,null,null,null,null,null,null,null,null,null,2,2,2,2,"無","複数社"]
[7,{"$f":"IF(ISBLANK(D34),\"\",D34)","v":""},null,null,null,null,null,null,null,null,null,null,null,null,null,null,null,null,null,null,null,null,null,null,null,null,null,null,null,null,null,null,null,null,null,null,null,null,null,null,null,null,null,3,3,3,3]
[8,{"$f":"IF(ISBLANK(H34),\"\",H34)","v":""},null,null,null,null,null,null,null,null,null,null,null,null,null,null,null,null,null,null,null,null,null,null,null,null,null,null,null,null,null,null,null,null,null,null,null,null,null,null,null,null,null,4,4,4,4]
[9,{"$f":"IF(ISBLANK(D35),\"\",D35)","v":""},null,null,null,null,null,null,null,null,null,null,null,null,null,null,null,null,null,null,null,null,null,null,null,null,null,null,null,null,null,null,null,null,null,null,null,null,null,null,null,null,null,5,5,null,5]
[10,{"$f":"IF(ISBLANK(H35),\"\",H35)","v":""},null,null,null,null,null,null,null,null,null,null,null,null,null,null,null,null,null,null,null,null,null,null,null,null,null,null,null,null,null,null,null,null,null,null,null,null,null,null,null,null,null,6,6]
[11,{"$f":"IF(ISBLANK(D40),\"\",D40)","v":""},null,null,null,null,null,null,null,null,null,null,null,null,null,null,null,null,null,null,null,null,null,null,null,null,null,null,null,null,null,null,null,null,null,null,null,null,null,null,null,null,null,null,7]
[12,{"$f":"IF(ISBLANK(H41),\"\",H41)","v":""},null,null,null,null,null,null,null,null,null,null,null,null,null,null,null,null,null,null,null,null,null,null,null,null,null,null,null,null,null,null,null,null,null,null,null,null,null,null,null,null,null,null,8]
[null,null,null,null,null,null,null,null,null,null,null,null,null,null,null,null,null,null,null,null,null,null,null,null,null,null,null,null,null,null,null,null,null,null,null,null,null,null,null,null,null,null,null,null,9]
[null,null,null,null,null,null,null,null,null,null,null,null,null,null,null,null,null,null,null,null,null,null,null,null,null,null,null,null,null,null,null,null,null,null,null,null,null,null,null,null,null,null,null,null,10]
[null,null,null,null,null,null,null,null,null,null,null,null,null,null,null,null,null,null,null,null,null,null,null,null,null,null,null,null,null,null,null,null,null,null,null,null,null,null,null,null,null,null,null,null,11]
[null,null,null,null,null,null,null,null,null,null,null,null,null,null,null,null,null,null,null,null,null,null,null,null,null,null,null,null,null,null,null,null,null,null,null,null,null,null,null,null,null,null,null,null,12]
[null,null,null,null,null,null,null,null,null,null,null,null,null,null,null,null,null,null,null,null,null,null,null,null,null,null,null,null,null,null,null,null,null,null,null,null,null,null,null,null,null,null,null,null,13]

{"sheet":"Q","index":21,"n_rows":72,"n_cols":11,"rows_kept":72,"cut":false,"hidden":true,"merged":[[0,0,1,10],[9,1,9,8],[11,1,11,8],[10,1,10,8],[12,1,12,8],[7,9,7,10],[7,1,8,8],[3,1,5,10],[20,1,20,8],[21,1,21,8],[22,1,22,8],[13,1,13,8],[14,1,14,8],[15,1,15,8],[16,1,16,8],[17,1,17,8],[18,1,18,8],[19,1,19,8],[30,1,30,10],[23,1,23,8],[24,1,24,8],[26,1,26,8],[25,1,25,8]]}
["酒類の製造に関するアンケート表Ｋ"]
[]
[]
[null,"Ｑ１　（酒類製造者のみご回答ください。）「有機加工食品の日本農林規格」（令和４年９月１日財務省・農林水産省告示第18号）又は「酒類における有機の表示基準」（平成12年12月26日国税庁告示第７号）に基づき「有機」又は「オーガニック」の表示をする酒類の数量を記入してください（対象期間は暦年です。）。"]
[]
[]
[]
[null,"品　目",null,null,null,null,null,null,null,"有機酒類の状況（ﾘｯﾄﾙ）"]
[null,null,null,null,null,null,null,null,null,"輸出免税数量","課税移出数量"]
[null,"清酒"]
[null,"合成清酒"]
[null,"連続式蒸留焼酎"]
[null,"単式蒸留焼酎"]
[null,"みりん"]
[null,"ビール"]
[null,"果実酒"]
[null,"甘味果実酒"]
[null,"ウイスキー"]
[null,"ブランデー"]
[null,"原料用アルコール"]
[null,"発泡酒"]
[null,"その他の醸造酒"]
[null,"スピリッツ"]
[null,"リキュール"]
[null,"粉末酒"]
[null,"雑酒"]
[null,"合　計",null,null,null,null,null,null,null,{"$f":"IF(SUM(J10:J26)=0,\"\",SUM(J10:J26))","v":""},{"$f":"IF(SUM(K10:K26)=0,\"\",SUM(K10:K26))","v":""}]
[]
[]
[null,"Ｑ２　酒類行政に関するご意見等があれば記入してください。"]
[]
[]
[]
[]
["入力判定",{"$f":"IF(COUNTBLANK(B36:B72)<37,TRUE,FALSE)","v":false}]
[1,{"$f":"IF(ISBLANK(J10),\"\",J10)","v":""}]
[2,""]
[3,""]
[4,""]
[5,""]
[6,""]
[7,""]
[8,""]
[9,""]
[10,""]
[11,""]
[12,""]
[13,""]
[14,""]
[15,""]
[16,""]
[17,""]
[18,""]
[19,{"$f":"IF(ISBLANK(K10),\"\",K10)","v":""}]
[20,""]
[21,""]
[22,""]
[23,""]
[24,""]
[25,""]
[26,""]
[27,""]
[28,""]
[29,""]
[30,""]
[31,""]
[32,""]
[33,""]
[34,""]
[35,""]
[36,""]
[38,{"$f":"IF(ISBLANK(B31),\"\",B31)","v":""}]

{"sheet":"send","index":22,"n_rows":436,"n_cols":58,"rows_kept":436,"cut":false,"hidden":true,"merged":[]}
[null,"common","A","B","C","Ｄ","Ｅ","F","G1","G2","H1","H2","I","J","K_1","K_2","K_3","K_4","K_5","K_6","K_7","K_8","K_9","K_10","L_1","L_2","L_3","L_4","L_5","L_6","L_7","L_8","L_9","L_10","M_1","M_2","M_3","M_4","M_5","M_6","M_7","M_8","M_9","M_10","N_1","N_2","N_3","N_4","N_5","N_6","N_7","N_8","N_9","N_10","O","P","Q","F2"]
[1,{"$f":"common!C42","v":0},{"$f":"A!C35","v":false},{"$f":"B!B37","v":""},{"$f":"IF('C'!D48=\"\",\"\",'C'!D48)","v":""},{"$f":"IF(D!D48=\"\",\"\",D!D48)","v":""},{"$f":"IF(E!D48=\"\",\"\",E!D48)","v":""},{"$f":"IF(F!D48=\"\",\"\",F!D48)","v":""},{"$f":"'G1'!C19","v":""},{"$f":"'G2'!B29","v":""},{"$f":"'H1'!C24","v":""},{"$f":"'H2'!C36","v":""},{"$f":"I!C28","v":""},{"$f":"J!B29","v":""},{"$f":"IF(ISBLANK(K!E25),\"\",K!E25)","v":""},{"$f":"IF(ISBLANK(K!F25),\"\",K!F25)","v":""},{"$f":"IF(ISBLANK(K!G25),\"\",K!G25)","v":""},{"$f":"IF(ISBLANK(K!H25),\"\",K!H25)","v":""},{"$f":"IF(ISBLANK(K!I25),\"\",K!I25)","v":""},{"$f":"IF(ISBLANK(K!J25),\"\",K!J25)","v":""},{"$f":"IF(ISBLANK(K!K25),\"\",K!K25)","v":""},{"$f":"IF(ISBLANK(K!L25),\"\",K!L25)","v":""},{"$f":"IF(ISBLANK(K!M25),\"\",K!M25)","v":""},{"$f":"IF(ISBLANK(K!N25),\"\",K!N25)","v":""},{"$f":"IF(ISBLANK(L!E31),\"\",L!E31)","v":""},{"$f":"IF(ISBLANK(L!F31),\"\",L!F31)","v":""},{"$f":"IF(ISBLANK(L!G31),\"\",L!G31)","v":""},{"$f":"IF(ISBLANK(L!H31),\"\",L!H31)","v":""},{"$f":"IF(ISBLANK(L!I31),\"\",L!I31)","v":""},{"$f":"IF(ISBLANK(L!J31),\"\",L!J31)","v":""},{"$f":"IF(ISBLANK(L!K31),\"\",L!K31)","v":""},{"$f":"IF(ISBLANK(L!L31),\"\",L!L31)","v":""},{"$f":"IF(ISBLANK(L!M31),\"\",L!M31)","v":""},{"$f":"IF(ISBLANK(L!N31),\"\",L!N31)","v":""},{"$f":"IF(ISBLANK(M!E38),\"\",M!E38)","v":""},{"$f":"IF(ISBLANK(M!F38),\"\",M!F38)","v":""},{"$f":"IF(ISBLANK(M!G38),\"\",M!G38)","v":""},{"$f":"IF(ISBLANK(M!H38),\"\",M!H38)","v":""},{"$f":"IF(ISBLANK(M!I38),\"\",M!I38)","v":""},{"$f":"IF(ISBLANK(M!J38),\"\",M!J38)","v":""},{"$f":"IF(ISBLANK(M!K38),\"\",M!K38)","v":""},{"$f":"IF(ISBLANK(M!L38),\"\",M!L38)","v":""},{"$f":"IF(ISBLANK(M!M38),\"\",M!M38)","v":""},{"$f":"IF(ISBLANK(M!N38),\"\",M!N38)","v":""},{"$f":"IF(ISBLANK(N!E38),\"\",N!E38)","v":""},{"$f":"IF(ISBLANK(N!F38),\"\",N!F38)","v":""},{"$f":"IF(ISBLANK(N!G38),\"\",N!G38)","v":""},{"$f":"IF(ISBLANK(N!H38),\"\",N!H38)","v":""},{"$f":"IF(ISBLANK(N!I38),\"\",N!I38)","v":""},{"$f":"IF(ISBLANK(N!J38),\"\",N!J38)","v":""},{"$f":"IF(ISBLANK(N!K38),\"\",N!K38)","v":""},{"$f":"IF(ISBLANK(N!L38),\"\",N!L38)","v":""},{"$f":"IF(ISBLANK(N!M38),\"\",N!M38)","v":""},{"$f":"IF(ISBLANK(N!N38),\"\",N!N38)","v":""},{"$f":"O!B54","v":""},{"$f":"P!B51","v":""},{"$f":"Q!B36","v":""},{"$f":"IF('F2'!D48=\"\",\"\",'F2'!D48)","v":""}]
[2,{"$f":"common!C43","v":""},{"$f":"A!C36","v":""},{"$f":"B!B38","v":""},{"$f":"IF('C'!D49=\"\",\"\",'C'!D49)","v":""},{"$f":"IF(D!D49=\"\",\"\",D!D49)","v":""},{"$f":"IF(E!D49=\"\",\"\",E!D49)","v":""},{"$f":"IF(F!D49=\"\",\"\",F!D49)","v":""},{"$f":"'G1'!C20","v":""},{"$f":"'G2'!B30","v":""},{"$f":"'H1'!C25","v":""},{"$f":"'H2'!C37","v":""},{"$f":"I!C29","v":""},{"$f":"J!B30","v":""},{"$f":"IF(ISBLANK(K!E26),\"\",K!E26)","v":""},{"$f":"IF(ISBLANK(K!F26),\"\",K!F26)","v":""},{"$f":"IF(ISBLANK(K!G26),\"\",K!G26)","v":""},{"$f":"IF(ISBLANK(K!H26),\"\",K!H26)","v":""},{"$f":"IF(ISBLANK(K!I26),\"\",K!I26)","v":""},{"$f":"IF(ISBLANK(K!J26),\"\",K!J26)","v":""},{"$f":"IF(ISBLANK(K!K26),\"\",K!K26)","v":""},{"$f":"IF(ISBLANK(K!L26),\"\",K!L26)","v":""},{"$f":"IF(ISBLANK(K!M26),\"\",K!M26)","v":""},{"$f":"IF(ISBLANK(K!N26),\"\",K!N26)","v":""},{"$f":"IF(ISBLANK(L!E32),\"\",L!E32)","v":""},{"$f":"IF(ISBLANK(L!F32),\"\",L!F32)","v":""},{"$f":"IF(ISBLANK(L!G32),\"\",L!G32)","v":""},{"$f":"IF(ISBLANK(L!H32),\"\",L!H32)","v":""},{"$f":"IF(ISBLANK(L!I32),\"\",L!I32)","v":""},{"$f":"IF(ISBLANK(L!J32),\"\",L!J32)","v":""},{"$f":"IF(ISBLANK(L!K32),\"\",L!K32)","v":""},{"$f":"IF(ISBLANK(L!L32),\"\",L!L32)","v":""},{"$f":"IF(ISBLANK(L!M32),\"\",L!M32)","v":""},{"$f":"IF(ISBLANK(L!N32),\"\",L!N32)","v":""},{"$f":"IF(ISBLANK(M!E39),\"\",M!E39)","v":""},{"$f":"IF(ISBLANK(M!F39),\"\",M!F39)","v":""},{"$f":"IF(ISBLANK(M!G39),\"\",M!G39)","v":""},{"$f":"IF(ISBLANK(M!H39),\"\",M!H39)","v":""},{"$f":"IF(ISBLANK(M!I39),\"\",M!I39)","v":""},{"$f":"IF(ISBLANK(M!J39),\"\",M!J39)","v":""},{"$f":"IF(ISBLANK(M!K39),\"\",M!K39)","v":""},{"$f":"IF(ISBLANK(M!L39),\"\",M!L39)","v":""},{"$f":"IF(ISBLANK(M!M39),\"\",M!M39)","v":""},{"$f":"IF(ISBLANK(M!N39),\"\",M!N39)","v":""},{"$f":"IF(ISBLANK(N!E39),\"\",N!E39)","v":""},{"$f":"IF(ISBLANK(N!F39),\"\",N!F39)","v":""},{"$f":"IF(ISBLANK(N!G39),\"\",N!G39)","v":""},{"$f":"IF(ISBLANK(N!H39),\"\",N!H39)","v":""},{"$f":"IF(ISBLANK(N!I39),\"\",N!I39)","v":""},{"$f":"IF(ISBLANK(N!J39),\"\",N!J39)","v":""},{"$f":"IF(ISBLANK(N!K39),\"\",N!K39)","v":""},{"$f":"IF(ISBLANK(N!L39),\"\",N!L39)","v":""},{"$f":"IF(ISBLANK(N!M39),\"\",N!M39)","v":""},{"$f":"IF(ISBLANK(N!N39),\"\",N!N39)","v":""},{"$f":"O!B55","v":""},{"$f":"P!B52","v":""},{"$f":"Q!B37","v":""},{"$f":"IF('F2'!D49=\"\",\"\",'F2'!D49)","v":""}]
[3,{"$f":"common!C44","v":""},{"$f":"A!C37","v":""},{"$f":"B!B39","v":""},{"$f":"IF('C'!D50=\"\",\"\",'C'!D50)","v":""},{"$f":"IF(D!D50=\"\",\"\",D!D50)","v":""},{"$f":"IF(E!D50=\"\",\"\",E!D50)","v":""},{"$f":"IF(F!D50=\"\",\"\",F!D50)","v":""},{"$f":"'G1'!C21","v":""},{"$f":"'G2'!B31","v":""},{"$f":"'H1'!C26","v":""},{"$f":"'H2'!C38","v":""},{"$f":"I!C30","v":""},{"$f":"J!B31","v":""},{"$f":"IF(ISBLANK(K!E27),\"\",K!E27)","v":""},{"$f":"IF(ISBLANK(K!F27),\"\",K!F27)","v":""},{"$f":"IF(ISBLANK(K!G27),\"\",K!G27)","v":""},{"$f":"IF(ISBLANK(K!H27),\"\",K!H27)","v":""},{"$f":"IF(ISBLANK(K!I27),\"\",K!I27)","v":""},{"$f":"IF(ISBLANK(K!J27),\"\",K!J27)","v":""},{"$f":"IF(ISBLANK(K!K27),\"\",K!K27)","v":""},{"$f":"IF(ISBLANK(K!L27),\"\",K!L27)","v":""},{"$f":"IF(ISBLANK(K!M27),\"\",K!M27)","v":""},{"$f":"IF(ISBLANK(K!N27),\"\",K!N27)","v":""},{"$f":"IF(ISBLANK(L!E33),\"\",L!E33)","v":""},{"$f":"IF(ISBLANK(L!F33),\"\",L!F33)","v":""},{"$f":"IF(ISBLANK(L!G33),\"\",L!G33)","v":""},{"$f":"IF(ISBLANK(L!H33),\"\",L!H33)","v":""},{"$f":"IF(ISBLANK(L!I33),\"\",L!I33)","v":""},{"$f":"IF(ISBLANK(L!J33),\"\",L!J33)","v":""},{"$f":"IF(ISBLANK(L!K33),\"\",L!K33)","v":""},{"$f":"IF(ISBLANK(L!L33),\"\",L!L33)","v":""},{"$f":"IF(ISBLANK(L!M33),\"\",L!M33)","v":""},{"$f":"IF(ISBLANK(L!N33),\"\",L!N33)","v":""},{"$f":"IF(ISBLANK(M!E40),\"\",M!E40)","v":""},{"$f":"IF(ISBLANK(M!F40),\"\",M!F40)","v":""},{"$f":"IF(ISBLANK(M!G40),\"\",M!G40)","v":""},{"$f":"IF(ISBLANK(M!H40),\"\",M!H40)","v":""},{"$f":"IF(ISBLANK(M!I40),\"\",M!I40)","v":""},{"$f":"IF(ISBLANK(M!J40),\"\",M!J40)","v":""},{"$f":"IF(ISBLANK(M!K40),\"\",M!K40)","v":""},{"$f":"IF(ISBLANK(M!L40),\"\",M!L40)","v":""},{"$f":"IF(ISBLANK(M!M40),\"\",M!M40)","v":""},{"$f":"IF(ISBLANK(M!N40),\"\",M!N40)","v":""},{"$f":"IF(ISBLANK(N!E40),\"\",N!E40)","v":""},{"$f":"IF(ISBLANK(N!F40),\"\",N!F40)","v":""},{"$f":"IF(ISBLANK(N!G40),\"\",N!G40)","v":""},{"$f":"IF(ISBLANK(N!H40),\"\",N!H40)","v":""},{"$f":"IF(ISBLANK(N!I40),\"\",N!I40)","v":""},{"$f":"IF(ISBLANK(N!J40),\"\",N!J40)","v":""},{"$f":"IF(ISBLANK(N!K40),\"\",N!K40)","v":""},{"$f":"IF(ISBLANK(N!L40),\"\",N!L40)","v":""},{"$f":"IF(ISBLANK(N!M40),\"\",N!M40)","v":""},{"$f":"IF(ISBLANK(N!N40),\"\",N!N40)","v":""},{"$f":"O!B56","v":""},{"$f":"P!B53","v":""},{"$f":"Q!B38","v":""},{"$f":"IF('F2'!D50=\"\",\"\",'F2'!D50)","v":""}]
[4,{"$f":"common!C45","v":""},{"$f":"A!C38","v":""},{"$f":"B!B40","v":""},{"$f":"IF('C'!D51=\"\",\"\",'C'!D51)","v":""},{"$f":"IF(D!D51=\"\",\"\",D!D51)","v":""},{"$f":"IF(E!D51=\"\",\"\",E!D51)","v":""},{"$f":"IF(F!D51=\"\",\"\",F!D51)","v":""},{"$f":"'G1'!C22","v":""},{"$f":"'G2'!B32","v":""},{"$f":"'H1'!C27","v":""},{"$f":"'H2'!C39","v":""},{"$f":"I!C31","v":""},{"$f":"J!B32","v":""},{"$f":"IF(ISBLANK(K!E28),\"\",K!E28)","v":""},{"$f":"IF(ISBLANK(K!F28),\"\",K!F28)","v":""},{"$f":"IF(ISBLANK(K!G28),\"\",K!G28)","v":""},{"$f":"IF(ISBLANK(K!H28),\"\",K!H28)","v":""},{"$f":"IF(ISBLANK(K!I28),\"\",K!I28)","v":""},{"$f":"IF(ISBLANK(K!J28),\"\",K!J28)","v":""},{"$f":"IF(ISBLANK(K!K28),\"\",K!K28)","v":""},{"$f":"IF(ISBLANK(K!L28),\"\",K!L28)","v":""},{"$f":"IF(ISBLANK(K!M28),\"\",K!M28)","v":""},{"$f":"IF(ISBLANK(K!N28),\"\",K!N28)","v":""},{"$f":"IF(ISBLANK(L!E34),\"\",L!E34)","v":""},{"$f":"IF(ISBLANK(L!F34),\"\",L!F34)","v":""},{"$f":"IF(ISBLANK(L!G34),\"\",L!G34)","v":""},{"$f":"IF(ISBLANK(L!H34),\"\",L!H34)","v":""},{"$f":"IF(ISBLANK(L!I34),\"\",L!I34)","v":""},{"$f":"IF(ISBLANK(L!J34),\"\",L!J34)","v":""},{"$f":"IF(ISBLANK(L!K34),\"\",L!K34)","v":""},{"$f":"IF(ISBLANK(L!L34),\"\",L!L34)","v":""},{"$f":"IF(ISBLANK(L!M34),\"\",L!M34)","v":""},{"$f":"IF(ISBLANK(L!N34),\"\",L!N34)","v":""},{"$f":"IF(ISBLANK(M!E41),\"\",M!E41)","v":""},{"$f":"IF(ISBLANK(M!F41),\"\",M!F41)","v":""},{"$f":"IF(ISBLANK(M!G41),\"\",M!G41)","v":""},{"$f":"IF(ISBLANK(M!H41),\"\",M!H41)","v":""},{"$f":"IF(ISBLANK(M!I41),\"\",M!I41)","v":""},{"$f":"IF(ISBLANK(M!J41),\"\",M!J41)","v":""},{"$f":"IF(ISBLANK(M!K41),\"\",M!K41)","v":""},{"$f":"IF(ISBLANK(M!L41),\"\",M!L41)","v":""},{"$f":"IF(ISBLANK(M!M41),\"\",M!M41)","v":""},{"$f":"IF(ISBLANK(M!N41),\"\",M!N41)","v":""},{"$f":"IF(ISBLANK(N!E41),\"\",N!E41)","v":""},{"$f":"IF(ISBLANK(N!F41),\"\",N!F41)","v":""},{"$f":"IF(ISBLANK(N!G41),\"\",N!G41)","v":""},{"$f":"IF(ISBLANK(N!H41),\"\",N!H41)","v":""},{"$f":"IF(ISBLANK(N!I41),\"\",N!I41)","v":""},{"$f":"IF(ISBLANK(N!J41),\"\",N!J41)","v":""},{"$f":"IF(ISBLANK(N!K41),\"\",N!K41)","v":""},{"$f":"IF(ISBLANK(N!L41),\"\",N!L41)","v":""},{"$f":"IF(ISBLANK(N!M41),\"\",N!M41)","v":""},{"$f":"IF(ISBLANK(N!N41),\"\",N!N41)","v":""},{"$f":"O!B57","v":""},{"$f":"P!B54","v":""},{"$f":"Q!B39","v":""},{"$f":"IF('F2'!D51=\"\",\"\",'F2'!D51)","v":""}]
[5,{"$f":"common!C46","v":0},{"$f":"A!C39","v":""},{"$f":"B!B41","v":""},{"$f":"IF('C'!D52=\"\",\"\",'C'!D52)","v":""},{"$f":"IF(D!D52=\"\",\"\",D!D52)","v":""},{"$f":"IF(E!D52=\"\",\"\",E!D52)","v":""},{"$f":"IF(F!D52=\"\",\"\",F!D52)","v":""},{"$f":"'G1'!C23","v":""},{"$f":"'G2'!B33","v":""},{"$f":"'H1'!C28","v":""},{"$f":"'H2'!C40","v":""},{"$f":"I!C32","v":""},{"$f":"J!B33","v":""},{"$f":"IF(ISBLANK(K!E29),\"\",K!E29)","v":""},{"$f":"IF(ISBLANK(K!F29),\"\",K!F29)","v":""},{"$f":"IF(ISBLANK(K!G29),\"\",K!G29)","v":""},{"$f":"IF(ISBLANK(K!H29),\"\",K!H29)","v":""},{"$f":"IF(ISBLANK(K!I29),\"\",K!I29)","v":""},{"$f":"IF(ISBLANK(K!J29),\"\",K!J29)","v":""},{"$f":"IF(ISBLANK(K!K29),\"\",K!K29)","v":""},{"$f":"IF(ISBLANK(K!L29),\"\",K!L29)","v":""},{"$f":"IF(ISBLANK(K!M29),\"\",K!M29)","v":""},{"$f":"IF(ISBLANK(K!N29),\"\",K!N29)","v":""},{"$f":"IF(ISBLANK(L!E35),\"\",L!E35)","v":""},{"$f":"IF(ISBLANK(L!F35),\"\",L!F35)","v":""},{"$f":"IF(ISBLANK(L!G35),\"\",L!G35)","v":""},{"$f":"IF(ISBLANK(L!H35),\"\",L!H35)","v":""},{"$f":"IF(ISBLANK(L!I35),\"\",L!I35)","v":""},{"$f":"IF(ISBLANK(L!J35),\"\",L!J35)","v":""},{"$f":"IF(ISBLANK(L!K35),\"\",L!K35)","v":""},{"$f":"IF(ISBLANK(L!L35),\"\",L!L35)","v":""},{"$f":"IF(ISBLANK(L!M35),\"\",L!M35)","v":""},{"$f":"IF(ISBLANK(L!N35),\"\",L!N35)","v":""},{"$f":"IF(ISBLANK(M!E42),\"\",M!E42)","v":""},{"$f":"IF(ISBLANK(M!F42),\"\",M!F42)","v":""},{"$f":"IF(ISBLANK(M!G42),\"\",M!G42)","v":""},{"$f":"IF(ISBLANK(M!H42),\"\",M!H42)","v":""},{"$f":"IF(ISBLANK(M!I42),\"\",M!I42)","v":""},{"$f":"IF(ISBLANK(M!J42),\"\",M!J42)","v":""},{"$f":"IF(ISBLANK(M!K42),\"\",M!K42)","v":""},{"$f":"IF(ISBLANK(M!L42),\"\",M!L42)","v":""},{"$f":"IF(ISBLANK(M!M42),\"\",M!M42)","v":""},{"$f":"IF(ISBLANK(M!N42),\"\",M!N42)","v":""},{"$f":"IF(ISBLANK(N!E42),\"\",N!E42)","v":""},{"$f":"IF(ISBLANK(N!F42),\"\",N!F42)","v":""},{"$f":"IF(ISBLANK(N!G42),\"\",N!G42)","v":""},{"$f":"IF(ISBLANK(N!H42),\"\",N!H42)","v":""},{"$f":"IF(ISBLANK(N!I42),\"\",N!I42)","v":""},{"$f":"IF(ISBLANK(N!J42),\"\",N!J42)","v":""},{"$f":"IF(ISBLANK(N!K42),\"\",N!K42)","v":""},{"$f":"IF(ISBLANK(N!L42),\"\",N!L42)","v":""},{"$f":"IF(ISBLANK(N!M42),\"\",N!M42)","v":""},{"$f":"IF(ISBLANK(N!N42),\"\",N!N42)","v":""},{"$f":"O!B58","v":""},{"$f":"P!B55","v":""},{"$f":"Q!B40","v":""},{"$f":"IF('F2'!D52=\"\",\"\",'F2'!D52)","v":""}]
[6,{"$f":"common!C47","v":false},{"$f":"A!C40","v":""},{"$f":"B!B42","v":""},{"$f":"IF('C'!D53=\"\",\"\",'C'!D53)","v":""},{"$f":"IF(D!D53=\"\",\"\",D!D53)","v":""},{"$f":"IF(E!D53=\"\",\"\",E!D53)","v":""},{"$f":"IF(F!D53=\"\",\"\",F!D53)","v":""},{"$f":"'G1'!C24","v":""},{"$f":"'G2'!B34","v":""},{"$f":"'H1'!C29","v":""},{"$f":"'H2'!C41","v":""},{"$f":"I!C33","v":""},{"$f":"J!B34","v":""},{"$f":"IF(ISBLANK(K!E30),\"\",K!E30)","v":""},{"$f":"IF(ISBLANK(K!F30),\"\",K!F30)","v":""},{"$f":"IF(ISBLANK(K!G30),\"\",K!G30)","v":""},{"$f":"IF(ISBLANK(K!H30),\"\",K!H30)","v":""},{"$f":"IF(ISBLANK(K!I30),\"\",K!I30)","v":""},{"$f":"IF(ISBLANK(K!J30),\"\",K!J30)","v":""},{"$f":"IF(ISBLANK(K!K30),\"\",K!K30)","v":""},{"$f":"IF(ISBLANK(K!L30),\"\",K!L30)","v":""},{"$f":"IF(ISBLANK(K!M30),\"\",K!M30)","v":""},{"$f":"IF(ISBLANK(K!N30),\"\",K!N30)","v":""},{"$f":"IF(ISBLANK(L!E36),\"\",L!E36)","v":""},{"$f":"IF(ISBLANK(L!F36),\"\",L!F36)","v":""},{"$f":"IF(ISBLANK(L!G36),\"\",L!G36)","v":""},{"$f":"IF(ISBLANK(L!H36),\"\",L!H36)","v":""},{"$f":"IF(ISBLANK(L!I36),\"\",L!I36)","v":""},{"$f":"IF(ISBLANK(L!J36),\"\",L!J36)","v":""},{"$f":"IF(ISBLANK(L!K36),\"\",L!K36)","v":""},{"$f":"IF(ISBLANK(L!L36),\"\",L!L36)","v":""},{"$f":"IF(ISBLANK(L!M36),\"\",L!M36)","v":""},{"$f":"IF(ISBLANK(L!N36),\"\",L!N36)","v":""},{"$f":"IF(ISBLANK(M!E43),\"\",M!E43)","v":""},{"$f":"IF(ISBLANK(M!F43),\"\",M!F43)","v":""},{"$f":"IF(ISBLANK(M!G43),\"\",M!G43)","v":""},{"$f":"IF(ISBLANK(M!H43),\"\",M!H43)","v":""},{"$f":"IF(ISBLANK(M!I43),\"\",M!I43)","v":""},{"$f":"IF(ISBLANK(M!J43),\"\",M!J43)","v":""},{"$f":"IF(ISBLANK(M!K43),\"\",M!K43)","v":""},{"$f":"IF(ISBLANK(M!L43),\"\",M!L43)","v":""},{"$f":"IF(ISBLANK(M!M43),\"\",M!M43)","v":""},{"$f":"IF(ISBLANK(M!N43),\"\",M!N43)","v":""},{"$f":"IF(ISBLANK(N!E43),\"\",N!E43)","v":""},{"$f":"IF(ISBLANK(N!F43),\"\",N!F43)","v":""},{"$f":"IF(ISBLANK(N!G43),\"\",N!G43)","v":""},{"$f":"IF(ISBLANK(N!H43),\"\",N!H43)","v":""},{"$f":"IF(ISBLANK(N!I43),\"\",N!I43)","v":""},{"$f":"IF(ISBLANK(N!J43),\"\",N!J43)","v":""},{"$f":"IF(ISBLANK(N!K43),\"\",N!K43)","v":""},{"$f":"IF(ISBLANK(N!L43),\"\",N!L43)","v":""},{"$f":"IF(ISBLANK(N!M43),\"\",N!M43)","v":""},{"$f":"IF(ISBLANK(N!N43),\"\",N!N43)","v":""},{"$f":"O!B59","v":""},{"$f":"P!B56","v":""},{"$f":"Q!B41","v":""},{"$f":"IF('F2'!D53=\"\",\"\",'F2'!D53)","v":""}]
[7,{"$f":"common!C48","v":44927},{"$f":"A!C41","v":""},{"$f":"B!B43","v":""},{"$f":"IF('C'!D54=\"\",\"\",'C'!D54)","v":""},{"$f":"IF(D!D54=\"\",\"\",D!D54)","v":""},{"$f":"IF(E!D54=\"\",\"\",E!D54)","v":""},{"$f":"IF(F!D54=\"\",\"\",F!D54)","v":""},{"$f":"'G1'!C25","v":""},{"$f":"'G2'!B35","v":""},{"$f":"'H1'!C30","v":""},{"$f":"'H2'!C42","v":""},{"$f":"I!C34","v":""},{"$f":"J!B35","v":""},null,null,null,null,null,null,null,null,null,null,{"$f":"IF(ISBLANK(L!E37),\"\",L!E37)","v":""},{"$f":"IF(ISBLANK(L!F37),\"\",L!F37)","v":""},{"$f":"IF(ISBLANK(L!G37),\"\",L!G37)","v":""},{"$f":"IF(ISBLANK(L!H37),\"\",L!H37)","v":""},{"$f":"IF(ISBLANK(L!I37),\"\",L!I37)","v":""},{"$f":"IF(ISBLANK(L!J37),\"\",L!J37)","v":""},{"$f":"IF(ISBLANK(L!K37),\"\",L!K37)","v":""},{"$f":"IF(ISBLANK(L!L37),\"\",L!L37)","v":""},{"$f":"IF(ISBLANK(L!M37),\"\",L!M37)","v":""},{"$f":"IF(ISBLANK(L!N37),\"\",L!N37)","v":""},{"$f":"IF(ISBLANK(M!E44),\"\",M!E44)","v":""},{"$f":"IF(ISBLANK(M!F44),\"\",M!F44)","v":""},{"$f":"IF(ISBLANK(M!G44),\"\",M!G44)","v":""},{"$f":"IF(ISBLANK(M!H44),\"\",M!H44)","v":""},{"$f":"IF(ISBLANK(M!I44),\"\",M!I44)","v":""},{"$f":"IF(ISBLANK(M!J44),\"\",M!J44)","v":""},{"$f":"IF(ISBLANK(M!K44),\"\",M!K44)","v":""},{"$f":"IF(ISBLANK(M!L44),\"\",M!L44)","v":""},{"$f":"IF(ISBLANK(M!M44),\"\",M!M44)","v":""},{"$f":"IF(ISBLANK(M!N44),\"\",M!N44)","v":""},{"$f":"IF(ISBLANK(N!E44),\"\",N!E44)","v":""},{"$f":"IF(ISBLANK(N!F44),\"\",N!F44)","v":""},{"$f":"IF(ISBLANK(N!G44),\"\",N!G44)","v":""},{"$f":"IF(ISBLANK(N!H44),\"\",N!H44)","v":""},{"$f":"IF(ISBLANK(N!I44),\"\",N!I44)","v":""},{"$f":"IF(ISBLANK(N!J44),\"\",N!J44)","v":""},{"$f":"IF(ISBLANK(N!K44),\"\",N!K44)","v":""},{"$f":"IF(ISBLANK(N!L44),\"\",N!L44)","v":""},{"$f":"IF(ISBLANK(N!M44),\"\",N!M44)","v":""},{"$f":"IF(ISBLANK(N!N44),\"\",N!N44)","v":""},{"$f":"O!B60","v":""},{"$f":"P!B57","v":""},{"$f":"Q!B42","v":""},{"$f":"IF('F2'!D54=\"\",\"\",'F2'!D54)","v":""}]
[8,{"$f":"common!C49","v":45291},{"$f":"A!C42","v":""},{"$f":"B!B44","v":""},{"$f":"IF('C'!D55=\"\",\"\",'C'!D55)","v":""},{"$f":"IF(D!D55=\"\",\"\",D!D55)","v":""},{"$f":"IF(E!D55=\"\",\"\",E!D55)","v":""},{"$f":"IF(F!D55=\"\",\"\",F!D55)","v":""},{"$f":"'G1'!C26","v":""},{"$f":"'G2'!B36","v":""},{"$f":"'H1'!C31","v":""},{"$f":"'H2'!C43","v":""},{"$f":"I!C35","v":""},{"$f":"J!B36","v":""},null,null,null,null,null,null,null,null,null,null,{"$f":"IF(ISBLANK(L!E38),\"\",L!E38)","v":""},{"$f":"IF(ISBLANK(L!F38),\"\",L!F38)","v":""},{"$f":"IF(ISBLANK(L!G38),\"\",L!G38)","v":""},{"$f":"IF(ISBLANK(L!H38),\"\",L!H38)","v":""},{"$f":"IF(ISBLANK(L!I38),\"\",L!I38)","v":""},{"$f":"IF(ISBLANK(L!J38),\"\",L!J38)","v":""},{"$f":"IF(ISBLANK(L!K38),\"\",L!K38)","v":""},{"$f":"IF(ISBLANK(L!L38),\"\",L!L38)","v":""},{"$f":"IF(ISBLANK(L!M38),\"\",L!M38)","v":""},{"$f":"IF(ISBLANK(L!N38),\"\",L!N38)","v":""},{"$f":"IF(ISBLANK(M!E45),\"\",M!E45)","v":""},{"$f":"IF(ISBLANK(M!F45),\"\",M!F45)","v":""},{"$f":"IF(ISBLANK(M!G45),\"\",M!G45)","v":""},{"$f":"IF(ISBLANK(M!H45),\"\",M!H45)","v":""},{"$f":"IF(ISBLANK(M!I45),\"\",M!I45)","v":""},{"$f":"IF(ISBLANK(M!J45),\"\",M!J45)","v":""},{"$f":"IF(ISBLANK(M!K45),\"\",M!K45)","v":""},{"$f":"IF(ISBLANK(M!L45),\"\",M!L45)","v":""},{"$f":"IF(ISBLANK(M!M45),\"\",M!M45)","v":""},{"$f":"IF(ISBLANK(M!N45),\"\",M!N45)","v":""},{"$f":"IF(ISBLANK(N!E45),\"\",N!E45)","v":""},{"$f":"IF(ISBLANK(N!F45),\"\",N!F45)","v":""},{"$f":"IF(ISBLANK(N!G45),\"\",N!G45)","v":""},{"$f":"IF(ISBLANK(N!H45),\"\",N!H45)","v":""},{"$f":"IF(ISBLANK(N!I45),\"\",N!I45)","v":""},{"$f":"IF(ISBLANK(N!J45),\"\",N!J45)","v":""},{"$f":"IF(ISBLANK(N!K45),\"\",N!K45)","v":""},{"$f":"IF(ISBLANK(N!L45),\"\",N!L45)","v":""},{"$f":"IF(ISBLANK(N!M45),\"\",N!M45)","v":""},{"$f":"IF(ISBLANK(N!N45),\"\",N!N45)","v":""},{"$f":"O!B61","v":""},{"$f":"P!B58","v":""},{"$f":"Q!B43","v":""},{"$f":"IF('F2'!D55=\"\",\"\",'F2'!D55)","v":""}]
[9,{"$f":"common!C50","v":0},{"$f":"A!C43","v":""},{"$f":"B!B45","v":""},{"$f":"IF('C'!D56=\"\",\"\",'C'!D56)","v":""},{"$f":"IF(D!D56=\"\",\"\",D!D56)","v":""},{"$f":"IF(E!D56=\"\",\"\",E!D56)","v":""},{"$f":"IF(F!D56=\"\",\"\",F!D56)","v":""},{"$f":"'G1'!C27","v":""},{"$f":"'G2'!B37","v":""},{"$f":"'H1'!C32","v":""},{"$f":"'H2'!C44","v":""},{"$f":"I!C36","v":""},{"$f":"J!B37","v":""},null,null,null,null,null,null,null,null,null,null,{"$f":"IF(ISBLANK(L!E39),\"\",L!E39)","v":""},{"$f":"IF(ISBLANK(L!F39),\"\",L!F39)","v":""},{"$f":"IF(ISBLANK(L!G39),\"\",L!G39)","v":""},{"$f":"IF(ISBLANK(L!H39),\"\",L!H39)","v":""},{"$f":"IF(ISBLANK(L!I39),\"\",L!I39)","v":""},{"$f":"IF(ISBLANK(L!J39),\"\",L!J39)","v":""},{"$f":"IF(ISBLANK(L!K39),\"\",L!K39)","v":""},{"$f":"IF(ISBLANK(L!L39),\"\",L!L39)","v":""},{"$f":"IF(ISBLANK(L!M39),\"\",L!M39)","v":""},{"$f":"IF(ISBLANK(L!N39),\"\",L!N39)","v":""},{"$f":"IF(ISBLANK(M!E46),\"\",M!E46)","v":""},{"$f":"IF(ISBLANK(M!F46),\"\",M!F46)","v":""},{"$f":"IF(ISBLANK(M!G46),\"\",M!G46)","v":""},{"$f":"IF(ISBLANK(M!H46),\"\",M!H46)","v":""},{"$f":"IF(ISBLANK(M!I46),\"\",M!I46)","v":""},{"$f":"IF(ISBLANK(M!J46),\"\",M!J46)","v":""},{"$f":"IF(ISBLANK(M!K46),\"\",M!K46)","v":""},{"$f":"IF(ISBLANK(M!L46),\"\",M!L46)","v":""},{"$f":"IF(ISBLANK(M!M46),\"\",M!M46)","v":""},{"$f":"IF(ISBLANK(M!N46),\"\",M!N46)","v":""},{"$f":"IF(ISBLANK(N!E46),\"\",N!E46)","v":""},{"$f":"IF(ISBLANK(N!F46),\"\",N!F46)","v":""},{"$f":"IF(ISBLANK(N!G46),\"\",N!G46)","v":""},{"$f":"IF(ISBLANK(N!H46),\"\",N!H46)","v":""},{"$f":"IF(ISBLANK(N!I46),\"\",N!I46)","v":""},{"$f":"IF(ISBLANK(N!J46),\"\",N!J46)","v":""},{"$f":"IF(ISBLANK(N!K46),\"\",N!K46)","v":""},{"$f":"IF(ISBLANK(N!L46),\"\",N!L46)","v":""},{"$f":"IF(ISBLANK(N!M46),\"\",N!M46)","v":""},{"$f":"IF(ISBLANK(N!N46),\"\",N!N46)","v":""},{"$f":"O!B62","v":""},{"$f":"P!B59","v":""},{"$f":"Q!B44","v":""},{"$f":"IF('F2'!D56=\"\",\"\",'F2'!D56)","v":""}]
[10,{"$f":"common!C51","v":0},{"$f":"A!C44","v":""},{"$f":"B!B46","v":""},{"$f":"IF('C'!D57=\"\",\"\",'C'!D57)","v":""},{"$f":"IF(D!D57=\"\",\"\",D!D57)","v":""},{"$f":"IF(E!D57=\"\",\"\",E!D57)","v":""},{"$f":"IF(F!D57=\"\",\"\",F!D57)","v":""},{"$f":"'G1'!C28","v":""},{"$f":"'G2'!B38","v":""},{"$f":"'H1'!C33","v":""},{"$f":"'H2'!C45","v":""},{"$f":"I!C37","v":""},{"$f":"J!B38","v":""},null,null,null,null,null,null,null,null,null,null,{"$f":"IF(ISBLANK(L!E40),\"\",L!E40)","v":""},{"$f":"IF(ISBLANK(L!F40),\"\",L!F40)","v":""},{"$f":"IF(ISBLANK(L!G40),\"\",L!G40)","v":""},{"$f":"IF(ISBLANK(L!H40),\"\",L!H40)","v":""},{"$f":"IF(ISBLANK(L!I40),\"\",L!I40)","v":""},{"$f":"IF(ISBLANK(L!J40),\"\",L!J40)","v":""},{"$f":"IF(ISBLANK(L!K40),\"\",L!K40)","v":""},{"$f":"IF(ISBLANK(L!L40),\"\",L!L40)","v":""},{"$f":"IF(ISBLANK(L!M40),\"\",L!M40)","v":""},{"$f":"IF(ISBLANK(L!N40),\"\",L!N40)","v":""},{"$f":"IF(ISBLANK(M!E47),\"\",M!E47)","v":""},{"$f":"IF(ISBLANK(M!F47),\"\",M!F47)","v":""},{"$f":"IF(ISBLANK(M!G47),\"\",M!G47)","v":""},{"$f":"IF(ISBLANK(M!H47),\"\",M!H47)","v":""},{"$f":"IF(ISBLANK(M!I47),\"\",M!I47)","v":""},{"$f":"IF(ISBLANK(M!J47),\"\",M!J47)","v":""},{"$f":"IF(ISBLANK(M!K47),\"\",M!K47)","v":""},{"$f":"IF(ISBLANK(M!L47),\"\",M!L47)","v":""},{"$f":"IF(ISBLANK(M!M47),\"\",M!M47)","v":""},{"$f":"IF(ISBLANK(M!N47),\"\",M!N47)","v":""},{"$f":"IF(ISBLANK(N!E47),\"\",N!E47)","v":""},{"$f":"IF(ISBLANK(N!F47),\"\",N!F47)","v":""},{"$f":"IF(ISBLANK(N!G47),\"\",N!G47)","v":""},{"$f":"IF(ISBLANK(N!H47),\"\",N!H47)","v":""},{"$f":"IF(ISBLANK(N!I47),\"\",N!I47)","v":""},{"$f":"IF(ISBLANK(N!J47),\"\",N!J47)","v":""},{"$f":"IF(ISBLANK(N!K47),\"\",N!K47)","v":""},{"$f":"IF(ISBLANK(N!L47),\"\",N!L47)","v":""},{"$f":"IF(ISBLANK(N!M47),\"\",N!M47)","v":""},{"$f":"IF(ISBLANK(N!N47),\"\",N!N47)","v":""},{"$f":"O!B63","v":""},{"$f":"P!B60","v":""},{"$f":"Q!B45","v":""},{"$f":"IF('F2'!D57=\"\",\"\",'F2'!D57)","v":""}]
[11,{"$f":"common!C52","v":0},{"$f":"A!C45","v":""},{"$f":"B!B47","v":""},{"$f":"IF('C'!D58=\"\",\"\",'C'!D58)","v":""},{"$f":"IF(D!D58=\"\",\"\",D!D58)","v":""},{"$f":"IF(E!D58=\"\",\"\",E!D58)","v":""},{"$f":"IF(F!D58=\"\",\"\",F!D58)","v":""},{"$f":"'G1'!C29","v":""},{"$f":"'G2'!B39","v":""},{"$f":"'H1'!C34","v":""},{"$f":"'H2'!C46","v":""},{"$f":"I!C38","v":""},{"$f":"J!B39","v":""},null,null,null,null,null,null,null,null,null,null,{"$f":"IF(ISBLANK(L!E41),\"\",L!E41)","v":""},{"$f":"IF(ISBLANK(L!F41),\"\",L!F41)","v":""},{"$f":"IF(ISBLANK(L!G41),\"\",L!G41)","v":""},{"$f":"IF(ISBLANK(L!H41),\"\",L!H41)","v":""},{"$f":"IF(ISBLANK(L!I41),\"\",L!I41)","v":""},{"$f":"IF(ISBLANK(L!J41),\"\",L!J41)","v":""},{"$f":"IF(ISBLANK(L!K41),\"\",L!K41)","v":""},{"$f":"IF(ISBLANK(L!L41),\"\",L!L41)","v":""},{"$f":"IF(ISBLANK(L!M41),\"\",L!M41)","v":""},{"$f":"IF(ISBLANK(L!N41),\"\",L!N41)","v":""},{"$f":"IF(ISBLANK(M!E48),\"\",M!E48)","v":""},{"$f":"IF(ISBLANK(M!F48),\"\",M!F48)","v":""},{"$f":"IF(ISBLANK(M!G48),\"\",M!G48)","v":""},{"$f":"IF(ISBLANK(M!H48),\"\",M!H48)","v":""},{"$f":"IF(ISBLANK(M!I48),\"\",M!I48)","v":""},{"$f":"IF(ISBLANK(M!J48),\"\",M!J48)","v":""},{"$f":"IF(ISBLANK(M!K48),\"\",M!K48)","v":""},{"$f":"IF(ISBLANK(M!L48),\"\",M!L48)","v":""},{"$f":"IF(ISBLANK(M!M48),\"\",M!M48)","v":""},{"$f":"IF(ISBLANK(M!N48),\"\",M!N48)","v":""},{"$f":"IF(ISBLANK(N!E48),\"\",N!E48)","v":""},{"$f":"IF(ISBLANK(N!F48),\"\",N!F48)","v":""},{"$f":"IF(ISBLANK(N!G48),\"\",N!G48)","v":""},{"$f":"IF(ISBLANK(N!H48),\"\",N!H48)","v":""},{"$f":"IF(ISBLANK(N!I48),\"\",N!I48)","v":""},{"$f":"IF(ISBLANK(N!J48),\"\",N!J48)","v":""},{"$f":"IF(ISBLANK(N!K48),\"\",N!K48)","v":""},{"$f":"IF(ISBLANK(N!L48),\"\",N!L48)","v":""},{"$f":"IF(ISBLANK(N!M48),\"\",N!M48)","v":""},{"$f":"IF(ISBLANK(N!N48),\"\",N!N48)","v":""},{"$f":"O!B64","v":""},{"$f":"P!B61","v":""},{"$f":"Q!B46","v":""},{"$f":"IF('F2'!D58=\"\",\"\",'F2'!D58)","v":""}]
[12,{"$f":"common!C53","v":false},{"$f":"A!C46","v":""},{"$f":"B!B48","v":""},{"$f":"IF('C'!D59=\"\",\"\",'C'!D59)","v":""},{"$f":"IF(D!D59=\"\",\"\",D!D59)","v":""},{"$f":"IF(E!D59=\"\",\"\",E!D59)","v":""},{"$f":"IF(F!D59=\"\",\"\",F!D59)","v":""},{"$f":"'G1'!C30","v":""},{"$f":"'G2'!B40","v":""},{"$f":"'H1'!C35","v":""},{"$f":"'H2'!C47","v":""},{"$f":"I!C39","v":""},{"$f":"J!B40","v":""},null,null,null,null,null,null,null,null,null,null,{"$f":"IF(ISBLANK(L!E42),\"\",L!E42)","v":""},{"$f":"IF(ISBLANK(L!F42),\"\",L!F42)","v":""},{"$f":"IF(ISBLANK(L!G42),\"\",L!G42)","v":""},{"$f":"IF(ISBLANK(L!H42),\"\",L!H42)","v":""},{"$f":"IF(ISBLANK(L!I42),\"\",L!I42)","v":""},{"$f":"IF(ISBLANK(L!J42),\"\",L!J42)","v":""},{"$f":"IF(ISBLANK(L!K42),\"\",L!K42)","v":""},{"$f":"IF(ISBLANK(L!L42),\"\",L!L42)","v":""},{"$f":"IF(ISBLANK(L!M42),\"\",L!M42)","v":""},{"$f":"IF(ISBLANK(L!N42),\"\",L!N42)","v":""},{"$f":"IF(ISBLANK(M!E49),\"\",M!E49)","v":""},{"$f":"IF(ISBLANK(M!F49),\"\",M!F49)","v":""},{"$f":"IF(ISBLANK(M!G49),\"\",M!G49)","v":""},{"$f":"IF(ISBLANK(M!H49),\"\",M!H49)","v":""},{"$f":"IF(ISBLANK(M!I49),\"\",M!I49)","v":""},{"$f":"IF(ISBLANK(M!J49),\"\",M!J49)","v":""},{"$f":"IF(ISBLANK(M!K49),\"\",M!K49)","v":""},{"$f":"IF(ISBLANK(M!L49),\"\",M!L49)","v":""},{"$f":"IF(ISBLANK(M!M49),\"\",M!M49)","v":""},{"$f":"IF(ISBLANK(M!N49),\"\",M!N49)","v":""},{"$f":"IF(ISBLANK(N!E49),\"\",N!E49)","v":""},{"$f":"IF(ISBLANK(N!F49),\"\",N!F49)","v":""},{"$f":"IF(ISBLANK(N!G49),\"\",N!G49)","v":""},{"$f":"IF(ISBLANK(N!H49),\"\",N!H49)","v":""},{"$f":"IF(ISBLANK(N!I49),\"\",N!I49)","v":""},{"$f":"IF(ISBLANK(N!J49),\"\",N!J49)","v":""},{"$f":"IF(ISBLANK(N!K49),\"\",N!K49)","v":""},{"$f":"IF(ISBLANK(N!L49),\"\",N!L49)","v":""},{"$f":"IF(ISBLANK(N!M49),\"\",N!M49)","v":""},{"$f":"IF(ISBLANK(N!N49),\"\",N!N49)","v":""},{"$f":"O!B65","v":""},{"$f":"P!B62","v":""},{"$f":"Q!B47","v":""},{"$f":"IF('F2'!D59=\"\",\"\",'F2'!D59)","v":""}]
[13,{"$f":"common!C54","v":false},{"$f":"A!C47","v":""},{"$f":"B!B49","v":""},{"$f":"IF('C'!D60=\"\",\"\",'C'!D60)","v":""},{"$f":"IF(D!D60=\"\",\"\",D!D60)","v":""},{"$f":"IF(E!D60=\"\",\"\",E!D60)","v":""},{"$f":"IF(F!D60=\"\",\"\",F!D60)","v":""},{"$f":"'G1'!C31","v":""},{"$f":"'G2'!B41","v":""},{"$f":"'H1'!C36","v":""},{"$f":"'H2'!C48","v":""},{"$f":"I!C40","v":""},{"$f":"J!B41","v":""},null,null,null,null,null,null,null,null,null,null,{"$f":"IF(ISBLANK(L!E43),\"\",L!E43)","v":""},{"$f":"IF(ISBLANK(L!F43),\"\",L!F43)","v":""},{"$f":"IF(ISBLANK(L!G43),\"\",L!G43)","v":""},{"$f":"IF(ISBLANK(L!H43),\"\",L!H43)","v":""},{"$f":"IF(ISBLANK(L!I43),\"\",L!I43)","v":""},{"$f":"IF(ISBLANK(L!J43),\"\",L!J43)","v":""},{"$f":"IF(ISBLANK(L!K43),\"\",L!K43)","v":""},{"$f":"IF(ISBLANK(L!L43),\"\",L!L43)","v":""},{"$f":"IF(ISBLANK(L!M43),\"\",L!M43)","v":""},{"$f":"IF(ISBLANK(L!N43),\"\",L!N43)","v":""},{"$f":"IF(ISBLANK(M!E50),\"\",M!E50)","v":""},{"$f":"IF(ISBLANK(M!F50),\"\",M!F50)","v":""},{"$f":"IF(ISBLANK(M!G50),\"\",M!G50)","v":""},{"$f":"IF(ISBLANK(M!H50),\"\",M!H50)","v":""},{"$f":"IF(ISBLANK(M!I50),\"\",M!I50)","v":""},{"$f":"IF(ISBLANK(M!J50),\"\",M!J50)","v":""},{"$f":"IF(ISBLANK(M!K50),\"\",M!K50)","v":""},{"$f":"IF(ISBLANK(M!L50),\"\",M!L50)","v":""},{"$f":"IF(ISBLANK(M!M50),\"\",M!M50)","v":""},{"$f":"IF(ISBLANK(M!N50),\"\",M!N50)","v":""},{"$f":"IF(ISBLANK(N!E50),\"\",N!E50)","v":""},{"$f":"IF(ISBLANK(N!F50),\"\",N!F50)","v":""},{"$f":"IF(ISBLANK(N!G50),\"\",N!G50)","v":""},{"$f":"IF(ISBLANK(N!H50),\"\",N!H50)","v":""},{"$f":"IF(ISBLANK(N!I50),\"\",N!I50)","v":""},{"$f":"IF(ISBLANK(N!J50),\"\",N!J50)","v":""},{"$f":"IF(ISBLANK(N!K50),\"\",N!K50)","v":""},{"$f":"IF(ISBLANK(N!L50),\"\",N!L50)","v":""},{"$f":"IF(ISBLANK(N!M50),\"\",N!M50)","v":""},{"$f":"IF(ISBLANK(N!N50),\"\",N!N50)","v":""},{"$f":"O!B66","v":""},null,{"$f":"Q!B48","v":""},{"$f":"IF('F2'!D60=\"\",\"\",'F2'!D60)","v":""}]
[14,{"$f":"common!C55","v":false},{"$f":"A!C48","v":""},{"$f":"B!B50","v":""},{"$f":"IF('C'!D61=\"\",\"\",'C'!D61)","v":""},{"$f":"IF(D!D61=\"\",\"\",D!D61)","v":""},{"$f":"IF(E!D61=\"\",\"\",E!D61)","v":""},{"$f":"IF(F!D61=\"\",\"\",F!D61)","v":""},{"$f":"'G1'!C32","v":""},{"$f":"'G2'!B42","v":""},{"$f":"'H1'!C37","v":""},{"$f":"'H2'!C49","v":""},{"$f":"I!C41","v":""},{"$f":"J!B42","v":""},null,null,null,null,null,null,null,null,null,null,{"$f":"IF(ISBLANK(L!E44),\"\",L!E44)","v":""},{"$f":"IF(ISBLANK(L!F44),\"\",L!F44)","v":""},{"$f":"IF(ISBLANK(L!G44),\"\",L!G44)","v":""},{"$f":"IF(ISBLANK(L!H44),\"\",L!H44)","v":""},{"$f":"IF(ISBLANK(L!I44),\"\",L!I44)","v":""},{"$f":"IF(ISBLANK(L!J44),\"\",L!J44)","v":""},{"$f":"IF(ISBLANK(L!K44),\"\",L!K44)","v":""},{"$f":"IF(ISBLANK(L!L44),\"\",L!L44)","v":""},{"$f":"IF(ISBLANK(L!M44),\"\",L!M44)","v":""},{"$f":"IF(ISBLANK(L!N44),\"\",L!N44)","v":""},{"$f":"IF(ISBLANK(M!E51),\"\",M!E51)","v":""},{"$f":"IF(ISBLANK(M!F51),\"\",M!F51)","v":""},{"$f":"IF(ISBLANK(M!G51),\"\",M!G51)","v":""},{"$f":"IF(ISBLANK(M!H51),\"\",M!H51)","v":""},{"$f":"IF(ISBLANK(M!I51),\"\",M!I51)","v":""},{"$f":"IF(ISBLANK(M!J51),\"\",M!J51)","v":""},{"$f":"IF(ISBLANK(M!K51),\"\",M!K51)","v":""},{"$f":"IF(ISBLANK(M!L51),\"\",M!L51)","v":""},{"$f":"IF(ISBLANK(M!M51),\"\",M!M51)","v":""},{"$f":"IF(ISBLANK(M!N51),\"\",M!N51)","v":""},{"$f":"IF(ISBLANK(N!E51),\"\",N!E51)","v":""},{"$f":"IF(ISBLANK(N!F51),\"\",N!F51)","v":""},{"$f":"IF(ISBLANK(N!G51),\"\",N!G51)","v":""},{"$f":"IF(ISBLANK(N!H51),\"\",N!H51)","v":""},{"$f":"IF(ISBLANK(N!I51),\"\",N!I51)","v":""},{"$f":"IF(ISBLANK(N!J51),\"\",N!J51)","v":""},{"$f":"IF(ISBLANK(N!K51),\"\",N!K51)","v":""},{"$f":"IF(ISBLANK(N!L51),\"\",N!L51)","v":""},{"$f":"IF(ISBLANK(N!M51),\"\",N!M51)","v":""},{"$f":"IF(ISBLANK(N!N51),\"\",N!N51)","v":""},{"$f":"O!B67","v":""},null,{"$f":"Q!B49","v":""},{"$f":"IF('F2'!D61=\"\",\"\",'F2'!D61)","v":""}]
[15,{"$f":"common!C56","v":false},{"$f":"A!C49","v":""},{"$f":"B!B51","v":""},{"$f":"IF('C'!D62=\"\",\"\",'C'!D62)","v":""},{"$f":"IF(D!D62=\"\",\"\",D!D62)","v":""},{"$f":"IF(E!D62=\"\",\"\",E!D62)","v":""},{"$f":"IF(F!D62=\"\",\"\",F!D62)","v":""},{"$f":"'G1'!C33","v":""},{"$f":"'G2'!B43","v":""},{"$f":"'H1'!C38","v":""},{"$f":"'H2'!C50","v":""},{"$f":"I!C42","v":""},{"$f":"J!B43","v":""},null,null,null,null,null,null,null,null,null,null,{"$f":"IF(ISBLANK(L!E45),\"\",L!E45)","v":""},{"$f":"IF(ISBLANK(L!F45),\"\",L!F45)","v":""},{"$f":"IF(ISBLANK(L!G45),\"\",L!G45)","v":""},{"$f":"IF(ISBLANK(L!H45),\"\",L!H45)","v":""},{"$f":"IF(ISBLANK(L!I45),\"\",L!I45)","v":""},{"$f":"IF(ISBLANK(L!J45),\"\",L!J45)","v":""},{"$f":"IF(ISBLANK(L!K45),\"\",L!K45)","v":""},{"$f":"IF(ISBLANK(L!L45),\"\",L!L45)","v":""},{"$f":"IF(ISBLANK(L!M45),\"\",L!M45)","v":""},{"$f":"IF(ISBLANK(L!N45),\"\",L!N45)","v":""},{"$f":"IF(ISBLANK(M!E52),\"\",M!E52)","v":""},{"$f":"IF(ISBLANK(M!F52),\"\",M!F52)","v":""},{"$f":"IF(ISBLANK(M!G52),\"\",M!G52)","v":""},{"$f":"IF(ISBLANK(M!H52),\"\",M!H52)","v":""},{"$f":"IF(ISBLANK(M!I52),\"\",M!I52)","v":""},{"$f":"IF(ISBLANK(M!J52),\"\",M!J52)","v":""},{"$f":"IF(ISBLANK(M!K52),\"\",M!K52)","v":""},{"$f":"IF(ISBLANK(M!L52),\"\",M!L52)","v":""},{"$f":"IF(ISBLANK(M!M52),\"\",M!M52)","v":""},{"$f":"IF(ISBLANK(M!N52),\"\",M!N52)","v":""},{"$f":"IF(ISBLANK(N!E52),\"\",N!E52)","v":""},{"$f":"IF(ISBLANK(N!F52),\"\",N!F52)","v":""},{"$f":"IF(ISBLANK(N!G52),\"\",N!G52)","v":""},{"$f":"IF(ISBLANK(N!H52),\"\",N!H52)","v":""},{"$f":"IF(ISBLANK(N!I52),\"\",N!I52)","v":""},{"$f":"IF(ISBLANK(N!J52),\"\",N!J52)","v":""},{"$f":"IF(ISBLANK(N!K52),\"\",N!K52)","v":""},{"$f":"IF(ISBLANK(N!L52),\"\",N!L52)","v":""},{"$f":"IF(ISBLANK(N!M52),\"\",N!M52)","v":""},{"$f":"IF(ISBLANK(N!N52),\"\",N!N52)","v":""},null,null,{"$f":"Q!B50","v":""},{"$f":"IF('F2'!D62=\"\",\"\",'F2'!D62)","v":""}]
[16,{"$f":"common!C57","v":false},{"$f":"A!C50","v":""},{"$f":"B!B52","v":""},{"$f":"IF('C'!D63=\"\",\"\",'C'!D63)","v":""},{"$f":"IF(D!D63=\"\",\"\",D!D63)","v":""},{"$f":"IF(E!D63=\"\",\"\",E!D63)","v":""},{"$f":"IF(F!D63=\"\",\"\",F!D63)","v":""},{"$f":"'G1'!C34","v":""},{"$f":"'G2'!B44","v":""},{"$f":"'H1'!C39","v":""},{"$f":"'H2'!C51","v":""},{"$f":"I!C43","v":""},{"$f":"J!B44","v":""},null,null,null,null,null,null,null,null,null,null,{"$f":"IF(ISBLANK(L!E46),\"\",L!E46)","v":""},{"$f":"IF(ISBLANK(L!F46),\"\",L!F46)","v":""},{"$f":"IF(ISBLANK(L!G46),\"\",L!G46)","v":""},{"$f":"IF(ISBLANK(L!H46),\"\",L!H46)","v":""},{"$f":"IF(ISBLANK(L!I46),\"\",L!I46)","v":""},{"$f":"IF(ISBLANK(L!J46),\"\",L!J46)","v":""},{"$f":"IF(ISBLANK(L!K46),\"\",L!K46)","v":""},{"$f":"IF(ISBLANK(L!L46),\"\",L!L46)","v":""},{"$f":"IF(ISBLANK(L!M46),\"\",L!M46)","v":""},{"$f":"IF(ISBLANK(L!N46),\"\",L!N46)","v":""},{"$f":"IF(ISBLANK(M!E53),\"\",M!E53)","v":""},{"$f":"IF(ISBLANK(M!F53),\"\",M!F53)","v":""},{"$f":"IF(ISBLANK(M!G53),\"\",M!G53)","v":""},{"$f":"IF(ISBLANK(M!H53),\"\",M!H53)","v":""},{"$f":"IF(ISBLANK(M!I53),\"\",M!I53)","v":""},{"$f":"IF(ISBLANK(M!J53),\"\",M!J53)","v":""},{"$f":"IF(ISBLANK(M!K53),\"\",M!K53)","v":""},{"$f":"IF(ISBLANK(M!L53),\"\",M!L53)","v":""},{"$f":"IF(ISBLANK(M!M53),\"\",M!M53)","v":""},{"$f":"IF(ISBLANK(M!N53),\"\",M!N53)","v":""},{"$f":"IF(ISBLANK(N!E53),\"\",N!E53)","v":""},{"$f":"IF(ISBLANK(N!F53),\"\",N!F53)","v":""},{"$f":"IF(ISBLANK(N!G53),\"\",N!G53)","v":""},{"$f":"IF(ISBLANK(N!H53),\"\",N!H53)","v":""},{"$f":"IF(ISBLANK(N!I53),\"\",N!I53)","v":""},{"$f":"IF(ISBLANK(N!J53),\"\",N!J53)","v":""},{"$f":"IF(ISBLANK(N!K53),\"\",N!K53)","v":""},{"$f":"IF(ISBLANK(N!L53),\"\",N!L53)","v":""},{"$f":"IF(ISBLANK(N!M53),\"\",N!M53)","v":""},{"$f":"IF(ISBLANK(N!N53),\"\",N!N53)","v":""},null,null,{"$f":"Q!B51","v":""},{"$f":"IF('F2'!D63=\"\",\"\",'F2'!D63)","v":""}]
[17,{"$f":"common!C58","v":false},{"$f":"A!C51","v":""},{"$f":"B!B53","v":""},{"$f":"IF('C'!D64=\"\",\"\",'C'!D64)","v":""},{"$f":"IF(D!D64=\"\",\"\",D!D64)","v":""},{"$f":"IF(E!D64=\"\",\"\",E!D64)","v":""},{"$f":"IF(F!D64=\"\",\"\",F!D64)","v":""},{"$f":"'G1'!C35","v":""},{"$f":"'G2'!B45","v":""},{"$f":"'H1'!C40","v":""},{"$f":"'H2'!C52","v":""},{"$f":"I!C44","v":""},{"$f":"J!B45","v":""},null,null,null,null,null,null,null,null,null,null,{"$f":"IF(ISBLANK(L!E47),\"\",L!E47)","v":""},{"$f":"IF(ISBLANK(L!F47),\"\",L!F47)","v":""},{"$f":"IF(ISBLANK(L!G47),\"\",L!G47)","v":""},{"$f":"IF(ISBLANK(L!H47),\"\",L!H47)","v":""},{"$f":"IF(ISBLANK(L!I47),\"\",L!I47)","v":""},{"$f":"IF(ISBLANK(L!J47),\"\",L!J47)","v":""},{"$f":"IF(ISBLANK(L!K47),\"\",L!K47)","v":""},{"$f":"IF(ISBLANK(L!L47),\"\",L!L47)","v":""},{"$f":"IF(ISBLANK(L!M47),\"\",L!M47)","v":""},{"$f":"IF(ISBLANK(L!N47),\"\",L!N47)","v":""},{"$f":"IF(ISBLANK(M!E54),\"\",M!E54)","v":""},{"$f":"IF(ISBLANK(M!F54),\"\",M!F54)","v":""},{"$f":"IF(ISBLANK(M!G54),\"\",M!G54)","v":""},{"$f":"IF(ISBLANK(M!H54),\"\",M!H54)","v":""},{"$f":"IF(ISBLANK(M!I54),\"\",M!I54)","v":""},{"$f":"IF(ISBLANK(M!J54),\"\",M!J54)","v":""},{"$f":"IF(ISBLANK(M!K54),\"\",M!K54)","v":""},{"$f":"IF(ISBLANK(M!L54),\"\",M!L54)","v":""},{"$f":"IF(ISBLANK(M!M54),\"\",M!M54)","v":""},{"$f":"IF(ISBLANK(M!N54),\"\",M!N54)","v":""},{"$f":"IF(ISBLANK(N!E54),\"\",N!E54)","v":""},{"$f":"IF(ISBLANK(N!F54),\"\",N!F54)","v":""},{"$f":"IF(ISBLANK(N!G54),\"\",N!G54)","v":""},{"$f":"IF(ISBLANK(N!H54),\"\",N!H54)","v":""},{"$f":"IF(ISBLANK(N!I54),\"\",N!I54)","v":""},{"$f":"IF(ISBLANK(N!J54),\"\",N!J54)","v":""},{"$f":"IF(ISBLANK(N!K54),\"\",N!K54)","v":""},{"$f":"IF(ISBLANK(N!L54),\"\",N!L54)","v":""},{"$f":"IF(ISBLANK(N!M54),\"\",N!M54)","v":""},{"$f":"IF(ISBLANK(N!N54),\"\",N!N54)","v":""},null,null,{"$f":"Q!B52","v":""},{"$f":"IF('F2'!D64=\"\",\"\",'F2'!D64)","v":""}]
[18,{"$f":"common!C59","v":false},{"$f":"A!C52","v":""},{"$f":"B!B54","v":""},{"$f":"IF('C'!D65=\"\",\"\",'C'!D65)","v":""},{"$f":"IF(D!D65=\"\",\"\",D!D65)","v":""},{"$f":"IF(E!D65=\"\",\"\",E!D65)","v":""},{"$f":"IF(F!D65=\"\",\"\",F!D65)","v":""},{"$f":"'G1'!C36","v":""},{"$f":"'G2'!B46","v":""},{"$f":"'H1'!C41","v":""},{"$f":"'H2'!C53","v":""},{"$f":"I!C45","v":""},{"$f":"J!B46","v":""},null,null,null,null,null,null,null,null,null,null,{"$f":"IF(ISBLANK(L!E48),\"\",L!E48)","v":""},{"$f":"IF(ISBLANK(L!F48),\"\",L!F48)","v":""},{"$f":"IF(ISBLANK(L!G48),\"\",L!G48)","v":""},{"$f":"IF(ISBLANK(L!H48),\"\",L!H48)","v":""},{"$f":"IF(ISBLANK(L!I48),\"\",L!I48)","v":""},{"$f":"IF(ISBLANK(L!J48),\"\",L!J48)","v":""},{"$f":"IF(ISBLANK(L!K48),\"\",L!K48)","v":""},{"$f":"IF(ISBLANK(L!L48),\"\",L!L48)","v":""},{"$f":"IF(ISBLANK(L!M48),\"\",L!M48)","v":""},{"$f":"IF(ISBLANK(L!N48),\"\",L!N48)","v":""},{"$f":"IF(ISBLANK(M!E55),\"\",M!E55)","v":""},{"$f":"IF(ISBLANK(M!F55),\"\",M!F55)","v":""},{"$f":"IF(ISBLANK(M!G55),\"\",M!G55)","v":""},{"$f":"IF(ISBLANK(M!H55),\"\",M!H55)","v":""},{"$f":"IF(ISBLANK(M!I55),\"\",M!I55)","v":""},{"$f":"IF(ISBLANK(M!J55),\"\",M!J55)","v":""},{"$f":"IF(ISBLANK(M!K55),\"\",M!K55)","v":""},{"$f":"IF(ISBLANK(M!L55),\"\",M!L55)","v":""},{"$f":"IF(ISBLANK(M!M55),\"\",M!M55)","v":""},{"$f":"IF(ISBLANK(M!N55),\"\",M!N55)","v":""},{"$f":"IF(ISBLANK(N!E55),\"\",N!E55)","v":""},{"$f":"IF(ISBLANK(N!F55),\"\",N!F55)","v":""},{"$f":"IF(ISBLANK(N!G55),\"\",N!G55)","v":""},{"$f":"IF(ISBLANK(N!H55),\"\",N!H55)","v":""},{"$f":"IF(ISBLANK(N!I55),\"\",N!I55)","v":""},{"$f":"IF(ISBLANK(N!J55),\"\",N!J55)","v":""},{"$f":"IF(ISBLANK(N!K55),\"\",N!K55)","v":""},{"$f":"IF(ISBLANK(N!L55),\"\",N!L55)","v":""},{"$f":"IF(ISBLANK(N!M55),\"\",N!M55)","v":""},{"$f":"IF(ISBLANK(N!N55),\"\",N!N55)","v":""},null,null,{"$f":"Q!B53","v":""},{"$f":"IF('F2'!D65=\"\",\"\",'F2'!D65)","v":""}]
[19,{"$f":"common!C60","v":false},{"$f":"A!C53","v":""},{"$f":"B!B55","v":""},{"$f":"IF('C'!D66=\"\",\"\",'C'!D66)","v":""},{"$f":"IF(D!D66=\"\",\"\",D!D66)","v":""},{"$f":"IF(E!D66=\"\",\"\",E!D66)","v":""},{"$f":"IF(F!D66=\"\",\"\",F!D66)","v":""},{"$f":"'G1'!C37","v":""},{"$f":"'G2'!B47","v":""},{"$f":"'H1'!C42","v":""},{"$f":"'H2'!C54","v":""},{"$f":"I!C46","v":""},{"$f":"J!B47","v":""},null,null,null,null,null,null,null,null,null,null,{"$f":"IF(ISBLANK(L!E49),\"\",L!E49)","v":""},{"$f":"IF(ISBLANK(L!F49),\"\",L!F49)","v":""},{"$f":"IF(ISBLANK(L!G49),\"\",L!G49)","v":""},{"$f":"IF(ISBLANK(L!H49),\"\",L!H49)","v":""},{"$f":"IF(ISBLANK(L!I49),\"\",L!I49)","v":""},{"$f":"IF(ISBLANK(L!J49),\"\",L!J49)","v":""},{"$f":"IF(ISBLANK(L!K49),\"\",L!K49)","v":""},{"$f":"IF(ISBLANK(L!L49),\"\",L!L49)","v":""},{"$f":"IF(ISBLANK(L!M49),\"\",L!M49)","v":""},{"$f":"IF(ISBLANK(L!N49),\"\",L!N49)","v":""},{"$f":"IF(ISBLANK(M!E56),\"\",M!E56)","v":""},{"$f":"IF(ISBLANK(M!F56),\"\",M!F56)","v":""},{"$f":"IF(ISBLANK(M!G56),\"\",M!G56)","v":""},{"$f":"IF(ISBLANK(M!H56),\"\",M!H56)","v":""},{"$f":"IF(ISBLANK(M!I56),\"\",M!I56)","v":""},{"$f":"IF(ISBLANK(M!J56),\"\",M!J56)","v":""},{"$f":"IF(ISBLANK(M!K56),\"\",M!K56)","v":""},{"$f":"IF(ISBLANK(M!L56),\"\",M!L56)","v":""},{"$f":"IF(ISBLANK(M!M56),\"\",M!M56)","v":""},{"$f":"IF(ISBLANK(M!N56),\"\",M!N56)","v":""},{"$f":"IF(ISBLANK(N!E56),\"\",N!E56)","v":""},{"$f":"IF(ISBLANK(N!F56),\"\",N!F56)","v":""},{"$f":"IF(ISBLANK(N!G56),\"\",N!G56)","v":""},{"$f":"IF(ISBLANK(N!H56),\"\",N!H56)","v":""},{"$f":"IF(ISBLANK(N!I56),\"\",N!I56)","v":""},{"$f":"IF(ISBLANK(N!J56),\"\",N!J56)","v":""},{"$f":"IF(ISBLANK(N!K56),\"\",N!K56)","v":""},{"$f":"IF(ISBLANK(N!L56),\"\",N!L56)","v":""},{"$f":"IF(ISBLANK(N!M56),\"\",N!M56)","v":""},{"$f":"IF(ISBLANK(N!N56),\"\",N!N56)","v":""},null,null,{"$f":"Q!B54","v":""},{"$f":"IF('F2'!D66=\"\",\"\",'F2'!D66)","v":""}]
[20,{"$f":"common!C61","v":false},{"$f":"A!C54","v":""},{"$f":"B!B56","v":""},{"$f":"IF('C'!D67=\"\",\"\",'C'!D67)","v":""},{"$f":"IF(D!D67=\"\",\"\",D!D67)","v":""},{"$f":"IF(E!D67=\"\",\"\",E!D67)","v":""},{"$f":"IF(F!D67=\"\",\"\",F!D67)","v":""},{"$f":"'G1'!C38","v":""},{"$f":"'G2'!B48","v":""},{"$f":"'H1'!C43","v":""},{"$f":"'H2'!C55","v":""},{"$f":"I!C47","v":""},{"$f":"J!B48","v":""},null,null,null,null,null,null,null,null,null,null,null,null,null,null,null,null,null,null,null,null,{"$f":"IF(ISBLANK(M!E57),\"\",M!E57)","v":""},{"$f":"IF(ISBLANK(M!F57),\"\",M!F57)","v":""},{"$f":"IF(ISBLANK(M!G57),\"\",M!G57)","v":""},{"$f":"IF(ISBLANK(M!H57),\"\",M!H57)","v":""},{"$f":"IF(ISBLANK(M!I57),\"\",M!I57)","v":""},{"$f":"IF(ISBLANK(M!J57),\"\",M!J57)","v":""},{"$f":"IF(ISBLANK(M!K57),\"\",M!K57)","v":""},{"$f":"IF(ISBLANK(M!L57),\"\",M!L57)","v":""},{"$f":"IF(ISBLANK(M!M57),\"\",M!M57)","v":""},{"$f":"IF(ISBLANK(M!N57),\"\",M!N57)","v":""},{"$f":"IF(ISBLANK(N!E57),\"\",N!E57)","v":""},{"$f":"IF(ISBLANK(N!F57),\"\",N!F57)","v":""},{"$f":"IF(ISBLANK(N!G57),\"\",N!G57)","v":""},{"$f":"IF(ISBLANK(N!H57),\"\",N!H57)","v":""},{"$f":"IF(ISBLANK(N!I57),\"\",N!I57)","v":""},{"$f":"IF(ISBLANK(N!J57),\"\",N!J57)","v":""},{"$f":"IF(ISBLANK(N!K57),\"\",N!K57)","v":""},{"$f":"IF(ISBLANK(N!L57),\"\",N!L57)","v":""},{"$f":"IF(ISBLANK(N!M57),\"\",N!M57)","v":""},{"$f":"IF(ISBLANK(N!N57),\"\",N!N57)","v":""},null,null,{"$f":"Q!B55","v":""},{"$f":"IF('F2'!D67=\"\",\"\",'F2'!D67)","v":""}]
[21,{"$f":"common!C62","v":false},{"$f":"A!C55","v":""},{"$f":"B!B57","v":""},{"$f":"IF('C'!D68=\"\",\"\",'C'!D68)","v":""},{"$f":"IF(D!D68=\"\",\"\",D!D68)","v":""},{"$f":"IF(E!D68=\"\",\"\",E!D68)","v":""},{"$f":"IF(F!D68=\"\",\"\",F!D68)","v":""},{"$f":"'G1'!C39","v":""},{"$f":"'G2'!B49","v":""},{"$f":"'H1'!C44","v":""},{"$f":"'H2'!C56","v":""},{"$f":"I!C48","v":""},{"$f":"J!B49","v":""},null,null,null,null,null,null,null,null,null,null,null,null,null,null,null,null,null,null,null,null,{"$f":"IF(ISBLANK(M!E58),\"\",M!E58)","v":""},{"$f":"IF(ISBLANK(M!F58),\"\",M!F58)","v":""},{"$f":"IF(ISBLANK(M!G58),\"\",M!G58)","v":""},{"$f":"IF(ISBLANK(M!H58),\"\",M!H58)","v":""},{"$f":"IF(ISBLANK(M!I58),\"\",M!I58)","v":""},{"$f":"IF(ISBLANK(M!J58),\"\",M!J58)","v":""},{"$f":"IF(ISBLANK(M!K58),\"\",M!K58)","v":""},{"$f":"IF(ISBLANK(M!L58),\"\",M!L58)","v":""},{"$f":"IF(ISBLANK(M!M58),\"\",M!M58)","v":""},{"$f":"IF(ISBLANK(M!N58),\"\",M!N58)","v":""},{"$f":"IF(ISBLANK(N!E58),\"\",N!E58)","v":""},{"$f":"IF(ISBLANK(N!F58),\"\",N!F58)","v":""},{"$f":"IF(ISBLANK(N!G58),\"\",N!G58)","v":""},{"$f":"IF(ISBLANK(N!H58),\"\",N!H58)","v":""},{"$f":"IF(ISBLANK(N!I58),\"\",N!I58)","v":""},{"$f":"IF(ISBLANK(N!J58),\"\",N!J58)","v":""},{"$f":"IF(ISBLANK(N!K58),\"\",N!K58)","v":""},{"$f":"IF(ISBLANK(N!L58),\"\",N!L58)","v":""},{"$f":"IF(ISBLANK(N!M58),\"\",N!M58)","v":""},{"$f":"IF(ISBLANK(N!N58),\"\",N!N58)","v":""},null,null,{"$f":"Q!B56","v":""},{"$f":"IF('F2'!D68=\"\",\"\",'F2'!D68)","v":""}]
[22,{"$f":"common!C63","v":false},{"$f":"A!C56","v":""},{"$f":"B!B58","v":""},{"$f":"IF('C'!D69=\"\",\"\",'C'!D69)","v":""},{"$f":"IF(D!D69=\"\",\"\",D!D69)","v":""},{"$f":"IF(E!D69=\"\",\"\",E!D69)","v":""},{"$f":"IF(F!D69=\"\",\"\",F!D69)","v":""},{"$f":"'G1'!C40","v":""},{"$f":"'G2'!B50","v":""},{"$f":"'H1'!C45","v":""},{"$f":"'H2'!C57","v":""},{"$f":"I!C49","v":""},{"$f":"J!B50","v":""},null,null,null,null,null,null,null,null,null,null,null,null,null,null,null,null,null,null,null,null,{"$f":"IF(ISBLANK(M!E59),\"\",M!E59)","v":""},{"$f":"IF(ISBLANK(M!F59),\"\",M!F59)","v":""},{"$f":"IF(ISBLANK(M!G59),\"\",M!G59)","v":""},{"$f":"IF(ISBLANK(M!H59),\"\",M!H59)","v":""},{"$f":"IF(ISBLANK(M!I59),\"\",M!I59)","v":""},{"$f":"IF(ISBLANK(M!J59),\"\",M!J59)","v":""},{"$f":"IF(ISBLANK(M!K59),\"\",M!K59)","v":""},{"$f":"IF(ISBLANK(M!L59),\"\",M!L59)","v":""},{"$f":"IF(ISBLANK(M!M59),\"\",M!M59)","v":""},{"$f":"IF(ISBLANK(M!N59),\"\",M!N59)","v":""},{"$f":"IF(ISBLANK(N!E59),\"\",N!E59)","v":""},{"$f":"IF(ISBLANK(N!F59),\"\",N!F59)","v":""},{"$f":"IF(ISBLANK(N!G59),\"\",N!G59)","v":""},{"$f":"IF(ISBLANK(N!H59),\"\",N!H59)","v":""},{"$f":"IF(ISBLANK(N!I59),\"\",N!I59)","v":""},{"$f":"IF(ISBLANK(N!J59),\"\",N!J59)","v":""},{"$f":"IF(ISBLANK(N!K59),\"\",N!K59)","v":""},{"$f":"IF(ISBLANK(N!L59),\"\",N!L59)","v":""},{"$f":"IF(ISBLANK(N!M59),\"\",N!M59)","v":""},{"$f":"IF(ISBLANK(N!N59),\"\",N!N59)","v":""},null,null,{"$f":"Q!B57","v":""},{"$f":"IF('F2'!D69=\"\",\"\",'F2'!D69)","v":""}]
[23,{"$f":"common!C64","v":false},{"$f":"A!C57","v":""},{"$f":"B!B59","v":""},{"$f":"IF('C'!D70=\"\",\"\",'C'!D70)","v":""},{"$f":"IF(D!D70=\"\",\"\",D!D70)","v":""},{"$f":"IF(E!D70=\"\",\"\",E!D70)","v":""},{"$f":"IF(F!D70=\"\",\"\",F!D70)","v":""},{"$f":"'G1'!C41","v":""},{"$f":"'G2'!B51","v":""},{"$f":"'H1'!C46","v":""},{"$f":"'H2'!C58","v":""},{"$f":"I!C50","v":""},{"$f":"J!B51","v":""},null,null,null,null,null,null,null,null,null,null,null,null,null,null,null,null,null,null,null,null,{"$f":"IF(ISBLANK(M!E60),\"\",M!E60)","v":""},{"$f":"IF(ISBLANK(M!F60),\"\",M!F60)","v":""},{"$f":"IF(ISBLANK(M!G60),\"\",M!G60)","v":""},{"$f":"IF(ISBLANK(M!H60),\"\",M!H60)","v":""},{"$f":"IF(ISBLANK(M!I60),\"\",M!I60)","v":""},{"$f":"IF(ISBLANK(M!J60),\"\",M!J60)","v":""},{"$f":"IF(ISBLANK(M!K60),\"\",M!K60)","v":""},{"$f":"IF(ISBLANK(M!L60),\"\",M!L60)","v":""},{"$f":"IF(ISBLANK(M!M60),\"\",M!M60)","v":""},{"$f":"IF(ISBLANK(M!N60),\"\",M!N60)","v":""},{"$f":"IF(ISBLANK(N!E60),\"\",N!E60)","v":""},{"$f":"IF(ISBLANK(N!F60),\"\",N!F60)","v":""},{"$f":"IF(ISBLANK(N!G60),\"\",N!G60)","v":""},{"$f":"IF(ISBLANK(N!H60),\"\",N!H60)","v":""},{"$f":"IF(ISBLANK(N!I60),\"\",N!I60)","v":""},{"$f":"IF(ISBLANK(N!J60),\"\",N!J60)","v":""},{"$f":"IF(ISBLANK(N!K60),\"\",N!K60)","v":""},{"$f":"IF(ISBLANK(N!L60),\"\",N!L60)","v":""},{"$f":"IF(ISBLANK(N!M60),\"\",N!M60)","v":""},{"$f":"IF(ISBLANK(N!N60),\"\",N!N60)","v":""},null,null,{"$f":"Q!B58","v":""},{"$f":"IF('F2'!D70=\"\",\"\",'F2'!D70)","v":""}]
[24,{"$f":"common!C65","v":false},{"$f":"A!C58","v":""},{"$f":"B!B60","v":""},{"$f":"IF('C'!D71=\"\",\"\",'C'!D71)","v":""},{"$f":"IF(D!D71=\"\",\"\",D!D71)","v":""},{"$f":"IF(E!D71=\"\",\"\",E!D71)","v":""},{"$f":"IF(F!D71=\"\",\"\",F!D71)","v":""},{"$f":"'G1'!C42","v":""},{"$f":"'G2'!B52","v":""},{"$f":"'H1'!C47","v":""},{"$f":"'H2'!C59","v":""},{"$f":"I!C51","v":""},{"$f":"J!B52","v":""},null,null,null,null,null,null,null,null,null,null,null,null,null,null,null,null,null,null,null,null,{"$f":"IF(ISBLANK(M!E61),\"\",M!E61)","v":""},{"$f":"IF(ISBLANK(M!F61),\"\",M!F61)","v":""},{"$f":"IF(ISBLANK(M!G61),\"\",M!G61)","v":""},{"$f":"IF(ISBLANK(M!H61),\"\",M!H61)","v":""},{"$f":"IF(ISBLANK(M!I61),\"\",M!I61)","v":""},{"$f":"IF(ISBLANK(M!J61),\"\",M!J61)","v":""},{"$f":"IF(ISBLANK(M!K61),\"\",M!K61)","v":""},{"$f":"IF(ISBLANK(M!L61),\"\",M!L61)","v":""},{"$f":"IF(ISBLANK(M!M61),\"\",M!M61)","v":""},{"$f":"IF(ISBLANK(M!N61),\"\",M!N61)","v":""},{"$f":"IF(ISBLANK(N!E61),\"\",N!E61)","v":""},{"$f":"IF(ISBLANK(N!F61),\"\",N!F61)","v":""},{"$f":"IF(ISBLANK(N!G61),\"\",N!G61)","v":""},{"$f":"IF(ISBLANK(N!H61),\"\",N!H61)","v":""},{"$f":"IF(ISBLANK(N!I61),\"\",N!I61)","v":""},{"$f":"IF(ISBLANK(N!J61),\"\",N!J61)","v":""},{"$f":"IF(ISBLANK(N!K61),\"\",N!K61)","v":""},{"$f":"IF(ISBLANK(N!L61),\"\",N!L61)","v":""},{"$f":"IF(ISBLANK(N!M61),\"\",N!M61)","v":""},{"$f":"IF(ISBLANK(N!N61),\"\",N!N61)","v":""},null,null,{"$f":"Q!B59","v":""},{"$f":"IF('F2'!D71=\"\",\"\",'F2'!D71)","v":""}]
[25,{"$f":"common!C66","v":false},{"$f":"A!C59","v":""},{"$f":"B!B61","v":""},{"$f":"IF('C'!D72=\"\",\"\",'C'!D72)","v":""},{"$f":"IF(D!D72=\"\",\"\",D!D72)","v":""},{"$f":"IF(E!D72=\"\",\"\",E!D72)","v":""},{"$f":"IF(F!D72=\"\",\"\",F!D72)","v":""},{"$f":"'G1'!C43","v":""},{"$f":"'G2'!B53","v":""},{"$f":"'H1'!C48","v":""},{"$f":"'H2'!C60","v":""},{"$f":"I!C52","v":""},{"$f":"J!B53","v":""},null,null,null,null,null,null,null,null,null,null,null,null,null,null,null,null,null,null,null,null,{"$f":"IF(ISBLANK(M!E62),\"\",M!E62)","v":""},{"$f":"IF(ISBLANK(M!F62),\"\",M!F62)","v":""},{"$f":"IF(ISBLANK(M!G62),\"\",M!G62)","v":""},{"$f":"IF(ISBLANK(M!H62),\"\",M!H62)","v":""},{"$f":"IF(ISBLANK(M!I62),\"\",M!I62)","v":""},{"$f":"IF(ISBLANK(M!J62),\"\",M!J62)","v":""},{"$f":"IF(ISBLANK(M!K62),\"\",M!K62)","v":""},{"$f":"IF(ISBLANK(M!L62),\"\",M!L62)","v":""},{"$f":"IF(ISBLANK(M!M62),\"\",M!M62)","v":""},{"$f":"IF(ISBLANK(M!N62),\"\",M!N62)","v":""},{"$f":"IF(ISBLANK(N!E62),\"\",N!E62)","v":""},{"$f":"IF(ISBLANK(N!F62),\"\",N!F62)","v":""},{"$f":"IF(ISBLANK(N!G62),\"\",N!G62)","v":""},{"$f":"IF(ISBLANK(N!H62),\"\",N!H62)","v":""},{"$f":"IF(ISBLANK(N!I62),\"\",N!I62)","v":""},{"$f":"IF(ISBLANK(N!J62),\"\",N!J62)","v":""},{"$f":"IF(ISBLANK(N!K62),\"\",N!K62)","v":""},{"$f":"IF(ISBLANK(N!L62),\"\",N!L62)","v":""},{"$f":"IF(ISBLANK(N!M62),\"\",N!M62)","v":""},{"$f":"IF(ISBLANK(N!N62),\"\",N!N62)","v":""},null,null,{"$f":"Q!B60","v":""},{"$f":"IF('F2'!D72=\"\",\"\",'F2'!D72)","v":""}]
[26,{"$f":"common!C67","v":false},{"$f":"A!C60","v":""},{"$f":"B!B62","v":""},{"$f":"IF('C'!D73=\"\",\"\",'C'!D73)","v":""},{"$f":"IF(D!D73=\"\",\"\",D!D73)","v":""},{"$f":"IF(E!D73=\"\",\"\",E!D73)","v":""},{"$f":"IF(F!D73=\"\",\"\",F!D73)","v":""},{"$f":"'G1'!C44","v":""},{"$f":"'G2'!B54","v":""},{"$f":"'H1'!C49","v":""},{"$f":"'H2'!C61","v":""},{"$f":"I!C53","v":""},{"$f":"J!B54","v":""},null,null,null,null,null,null,null,null,null,null,null,null,null,null,null,null,null,null,null,null,{"$f":"IF(ISBLANK(M!E63),\"\",M!E63)","v":""},{"$f":"IF(ISBLANK(M!F63),\"\",M!F63)","v":""},{"$f":"IF(ISBLANK(M!G63),\"\",M!G63)","v":""},{"$f":"IF(ISBLANK(M!H63),\"\",M!H63)","v":""},{"$f":"IF(ISBLANK(M!I63),\"\",M!I63)","v":""},{"$f":"IF(ISBLANK(M!J63),\"\",M!J63)","v":""},{"$f":"IF(ISBLANK(M!K63),\"\",M!K63)","v":""},{"$f":"IF(ISBLANK(M!L63),\"\",M!L63)","v":""},{"$f":"IF(ISBLANK(M!M63),\"\",M!M63)","v":""},{"$f":"IF(ISBLANK(M!N63),\"\",M!N63)","v":""},{"$f":"IF(ISBLANK(N!E63),\"\",N!E63)","v":""},{"$f":"IF(ISBLANK(N!F63),\"\",N!F63)","v":""},{"$f":"IF(ISBLANK(N!G63),\"\",N!G63)","v":""},{"$f":"IF(ISBLANK(N!H63),\"\",N!H63)","v":""},{"$f":"IF(ISBLANK(N!I63),\"\",N!I63)","v":""},{"$f":"IF(ISBLANK(N!J63),\"\",N!J63)","v":""},{"$f":"IF(ISBLANK(N!K63),\"\",N!K63)","v":""},{"$f":"IF(ISBLANK(N!L63),\"\",N!L63)","v":""},{"$f":"IF(ISBLANK(N!M63),\"\",N!M63)","v":""},{"$f":"IF(ISBLANK(N!N63),\"\",N!N63)","v":""},null,null,{"$f":"Q!B61","v":""},{"$f":"IF('F2'!D73=\"\",\"\",'F2'!D73)","v":""}]
[27,{"$f":"common!C68","v":false},{"$f":"A!C61","v":""},{"$f":"B!B63","v":""},{"$f":"IF('C'!D74=\"\",\"\",'C'!D74)","v":""},{"$f":"IF(D!D74=\"\",\"\",D!D74)","v":""},{"$f":"IF(E!D74=\"\",\"\",E!D74)","v":""},{"$f":"IF(F!D74=\"\",\"\",F!D74)","v":""},{"$f":"'G1'!C45","v":""},null,{"$f":"'H1'!C50","v":""},{"$f":"'H2'!C62","v":""},{"$f":"I!C54","v":""},{"$f":"J!B55","v":""},null,null,null,null,null,null,null,null,null,null,null,null,null,null,null,null,null,null,null,null,{"$f":"IF(ISBLANK(M!E64),\"\",M!E64)","v":""},{"$f":"IF(ISBLANK(M!F64),\"\",M!F64)","v":""},{"$f":"IF(ISBLANK(M!G64),\"\",M!G64)","v":""},{"$f":"IF(ISBLANK(M!H64),\"\",M!H64)","v":""},{"$f":"IF(ISBLANK(M!I64),\"\",M!I64)","v":""},{"$f":"IF(ISBLANK(M!J64),\"\",M!J64)","v":""},{"$f":"IF(ISBLANK(M!K64),\"\",M!K64)","v":""},{"$f":"IF(ISBLANK(M!L64),\"\",M!L64)","v":""},{"$f":"IF(ISBLANK(M!M64),\"\",M!M64)","v":""},{"$f":"IF(ISBLANK(M!N64),\"\",M!N64)","v":""},{"$f":"IF(ISBLANK(N!E64),\"\",N!E64)","v":""},{"$f":"IF(ISBLANK(N!F64),\"\",N!F64)","v":""},{"$f":"IF(ISBLANK(N!G64),\"\",N!G64)","v":""},{"$f":"IF(ISBLANK(N!H64),\"\",N!H64)","v":""},{"$f":"IF(ISBLANK(N!I64),\"\",N!I64)","v":""},{"$f":"IF(ISBLANK(N!J64),\"\",N!J64)","v":""},{"$f":"IF(ISBLANK(N!K64),\"\",N!K64)","v":""},{"$f":"IF(ISBLANK(N!L64),\"\",N!L64)","v":""},{"$f":"IF(ISBLANK(N!M64),\"\",N!M64)","v":""},{"$f":"IF(ISBLANK(N!N64),\"\",N!N64)","v":""},null,null,{"$f":"Q!B62","v":""},{"$f":"IF('F2'!D74=\"\",\"\",'F2'!D74)","v":""}]
[28,{"$f":"common!C69","v":false},{"$f":"A!C62","v":""},null,{"$f":"IF('C'!D75=\"\",\"\",'C'!D75)","v":""},{"$f":"IF(D!D75=\"\",\"\",D!D75)","v":""},{"$f":"IF(E!D75=\"\",\"\",E!D75)","v":""},{"$f":"IF(F!D75=\"\",\"\",F!D75)","v":""},{"$f":"'G1'!C46","v":""},null,{"$f":"'H1'!C51","v":""},{"$f":"'H2'!C63","v":""},{"$f":"I!C55","v":""},{"$f":"J!B56","v":""},null,null,null,null,null,null,null,null,null,null,null,null,null,null,null,null,null,null,null,null,{"$f":"IF(ISBLANK(M!E65),\"\",M!E65)","v":""},{"$f":"IF(ISBLANK(M!F65),\"\",M!F65)","v":""},{"$f":"IF(ISBLANK(M!G65),\"\",M!G65)","v":""},{"$f":"IF(ISBLANK(M!H65),\"\",M!H65)","v":""},{"$f":"IF(ISBLANK(M!I65),\"\",M!I65)","v":""},{"$f":"IF(ISBLANK(M!J65),\"\",M!J65)","v":""},{"$f":"IF(ISBLANK(M!K65),\"\",M!K65)","v":""},{"$f":"IF(ISBLANK(M!L65),\"\",M!L65)","v":""},{"$f":"IF(ISBLANK(M!M65),\"\",M!M65)","v":""},{"$f":"IF(ISBLANK(M!N65),\"\",M!N65)","v":""},{"$f":"IF(ISBLANK(N!E65),\"\",N!E65)","v":""},{"$f":"IF(ISBLANK(N!F65),\"\",N!F65)","v":""},{"$f":"IF(ISBLANK(N!G65),\"\",N!G65)","v":""},{"$f":"IF(ISBLANK(N!H65),\"\",N!H65)","v":""},{"$f":"IF(ISBLANK(N!I65),\"\",N!I65)","v":""},{"$f":"IF(ISBLANK(N!J65),\"\",N!J65)","v":""},{"$f":"IF(ISBLANK(N!K65),\"\",N!K65)","v":""},{"$f":"IF(ISBLANK(N!L65),\"\",N!L65)","v":""},{"$f":"IF(ISBLANK(N!M65),\"\",N!M65)","v":""},{"$f":"IF(ISBLANK(N!N65),\"\",N!N65)","v":""},null,null,{"$f":"Q!B63","v":""},{"$f":"IF('F2'!D75=\"\",\"\",'F2'!D75)","v":""}]
[29,{"$f":"common!C70","v":""},{"$f":"A!C63","v":""},null,{"$f":"IF('C'!D76=\"\",\"\",'C'!D76)","v":""},{"$f":"IF(D!D76=\"\",\"\",D!D76)","v":""},{"$f":"IF(E!D76=\"\",\"\",E!D76)","v":""},{"$f":"IF(F!D76=\"\",\"\",F!D76)","v":""},{"$f":"'G1'!C47","v":""},null,{"$f":"'H1'!C52","v":""},{"$f":"'H2'!C64","v":""},{"$f":"I!C56","v":""},null,null,null,null,null,null,null,null,null,null,null,null,null,null,null,null,null,null,null,null,null,{"$f":"IF(ISBLANK(M!E66),\"\",M!E66)","v":""},{"$f":"IF(ISBLANK(M!F66),\"\",M!F66)","v":""},{"$f":"IF(ISBLANK(M!G66),\"\",M!G66)","v":""},{"$f":"IF(ISBLANK(M!H66),\"\",M!H66)","v":""},{"$f":"IF(ISBLANK(M!I66),\"\",M!I66)","v":""},{"$f":"IF(ISBLANK(M!J66),\"\",M!J66)","v":""},{"$f":"IF(ISBLANK(M!K66),\"\",M!K66)","v":""},{"$f":"IF(ISBLANK(M!L66),\"\",M!L66)","v":""},{"$f":"IF(ISBLANK(M!M66),\"\",M!M66)","v":""},{"$f":"IF(ISBLANK(M!N66),\"\",M!N66)","v":""},{"$f":"IF(ISBLANK(N!E66),\"\",N!E66)","v":""},{"$f":"IF(ISBLANK(N!F66),\"\",N!F66)","v":""},{"$f":"IF(ISBLANK(N!G66),\"\",N!G66)","v":""},{"$f":"IF(ISBLANK(N!H66),\"\",N!H66)","v":""},{"$f":"IF(ISBLANK(N!I66),\"\",N!I66)","v":""},{"$f":"IF(ISBLANK(N!J66),\"\",N!J66)","v":""},{"$f":"IF(ISBLANK(N!K66),\"\",N!K66)","v":""},{"$f":"IF(ISBLANK(N!L66),\"\",N!L66)","v":""},{"$f":"IF(ISBLANK(N!M66),\"\",N!M66)","v":""},{"$f":"IF(ISBLANK(N!N66),\"\",N!N66)","v":""},null,null,{"$f":"Q!B64","v":""},{"$f":"IF('F2'!D76=\"\",\"\",'F2'!D76)","v":""}]
[30,{"$f":"HOME!G1","v":"Ver.2024.1(240124)"},{"$f":"A!C64","v":""},null,{"$f":"IF('C'!D77=\"\",\"\",'C'!D77)","v":""},{"$f":"IF(D!D77=\"\",\"\",D!D77)","v":""},{"$f":"IF(E!D77=\"\",\"\",E!D77)","v":""},{"$f":"IF(F!D77=\"\",\"\",F!D77)","v":""},{"$f":"'G1'!C48","v":""},null,{"$f":"'H1'!C53","v":""},{"$f":"'H2'!C65","v":""},{"$f":"I!C57","v":""},null,null,null,null,null,null,null,null,null,null,null,null,null,null,null,null,null,null,null,null,null,{"$f":"IF(ISBLANK(M!E67),\"\",M!E67)","v":""},{"$f":"IF(ISBLANK(M!F67),\"\",M!F67)","v":""},{"$f":"IF(ISBLANK(M!G67),\"\",M!G67)","v":""},{"$f":"IF(ISBLANK(M!H67),\"\",M!H67)","v":""},{"$f":"IF(ISBLANK(M!I67),\"\",M!I67)","v":""},{"$f":"IF(ISBLANK(M!J67),\"\",M!J67)","v":""},{"$f":"IF(ISBLANK(M!K67),\"\",M!K67)","v":""},{"$f":"IF(ISBLANK(M!L67),\"\",M!L67)","v":""},{"$f":"IF(ISBLANK(M!M67),\"\",M!M67)","v":""},{"$f":"IF(ISBLANK(M!N67),\"\",M!N67)","v":""},{"$f":"IF(ISBLANK(N!E67),\"\",N!E67)","v":""},{"$f":"IF(ISBLANK(N!F67),\"\",N!F67)","v":""},{"$f":"IF(ISBLANK(N!G67),\"\",N!G67)","v":""},{"$f":"IF(ISBLANK(N!H67),\"\",N!H67)","v":""},{"$f":"IF(ISBLANK(N!I67),\"\",N!I67)","v":""},{"$f":"IF(ISBLANK(N!J67),\"\",N!J67)","v":""},{"$f":"IF(ISBLANK(N!K67),\"\",N!K67)","v":""},{"$f":"IF(ISBLANK(N!L67),\"\",N!L67)","v":""},{"$f":"IF(ISBLANK(N!M67),\"\",N!M67)","v":""},{"$f":"IF(ISBLANK(N!N67),\"\",N!N67)","v":""},null,null,{"$f":"Q!B65","v":""},{"$f":"IF('F2'!D77=\"\",\"\",'F2'!D77)","v":""}]
[31,null,{"$f":"A!C65","v":""},null,{"$f":"IF('C'!D78=\"\",\"\",'C'!D78)","v":""},{"$f":"IF(D!D78=\"\",\"\",D!D78)","v":""},{"$f":"IF(E!D78=\"\",\"\",E!D78)","v":""},{"$f":"IF(F!D78=\"\",\"\",F!D78)","v":""},{"$f":"'G1'!C49","v":""},null,{"$f":"'H1'!C54","v":""},{"$f":"'H2'!C66","v":""},{"$f":"I!C58","v":""},null,null,null,null,null,null,null,null,null,null,null,null,null,null,null,null,null,null,null,null,null,{"$f":"IF(ISBLANK(M!E68),\"\",M!E68)","v":""},{"$f":"IF(ISBLANK(M!F68),\"\",M!F68)","v":""},{"$f":"IF(ISBLANK(M!G68),\"\",M!G68)","v":""},{"$f":"IF(ISBLANK(M!H68),\"\",M!H68)","v":""},{"$f":"IF(ISBLANK(M!I68),\"\",M!I68)","v":""},{"$f":"IF(ISBLANK(M!J68),\"\",M!J68)","v":""},{"$f":"IF(ISBLANK(M!K68),\"\",M!K68)","v":""},{"$f":"IF(ISBLANK(M!L68),\"\",M!L68)","v":""},{"$f":"IF(ISBLANK(M!M68),\"\",M!M68)","v":""},{"$f":"IF(ISBLANK(M!N68),\"\",M!N68)","v":""},{"$f":"IF(ISBLANK(N!E68),\"\",N!E68)","v":""},{"$f":"IF(ISBLANK(N!F68),\"\",N!F68)","v":""},{"$f":"IF(ISBLANK(N!G68),\"\",N!G68)","v":""},{"$f":"IF(ISBLANK(N!H68),\"\",N!H68)","v":""},{"$f":"IF(ISBLANK(N!I68),\"\",N!I68)","v":""},{"$f":"IF(ISBLANK(N!J68),\"\",N!J68)","v":""},{"$f":"IF(ISBLANK(N!K68),\"\",N!K68)","v":""},{"$f":"IF(ISBLANK(N!L68),\"\",N!L68)","v":""},{"$f":"IF(ISBLANK(N!M68),\"\",N!M68)","v":""},{"$f":"IF(ISBLANK(N!N68),\"\",N!N68)","v":""},null,null,{"$f":"Q!B66","v":""},{"$f":"IF('F2'!D78=\"\",\"\",'F2'!D78)","v":""}]
[32,null,{"$f":"A!C66","v":""},null,{"$f":"IF('C'!D79=\"\",\"\",'C'!D79)","v":""},{"$f":"IF(D!D79=\"\",\"\",D!D79)","v":""},{"$f":"IF(E!D79=\"\",\"\",E!D79)","v":""},{"$f":"IF(F!D79=\"\",\"\",F!D79)","v":""},{"$f":"'G1'!C50","v":""},null,{"$f":"'H1'!C55","v":""},{"$f":"'H2'!C67","v":""},{"$f":"I!C59","v":""},null,null,null,null,null,null,null,null,null,null,null,null,null,null,null,null,null,null,null,null,null,{"$f":"IF(ISBLANK(M!E69),\"\",M!E69)","v":""},{"$f":"IF(ISBLANK(M!F69),\"\",M!F69)","v":""},{"$f":"IF(ISBLANK(M!G69),\"\",M!G69)","v":""},{"$f":"IF(ISBLANK(M!H69),\"\",M!H69)","v":""},{"$f":"IF(ISBLANK(M!I69),\"\",M!I69)","v":""},{"$f":"IF(ISBLANK(M!J69),\"\",M!J69)","v":""},{"$f":"IF(ISBLANK(M!K69),\"\",M!K69)","v":""},{"$f":"IF(ISBLANK(M!L69),\"\",M!L69)","v":""},{"$f":"IF(ISBLANK(M!M69),\"\",M!M69)","v":""},{"$f":"IF(ISBLANK(M!N69),\"\",M!N69)","v":""},{"$f":"IF(ISBLANK(N!E69),\"\",N!E69)","v":""},{"$f":"IF(ISBLANK(N!F69),\"\",N!F69)","v":""},{"$f":"IF(ISBLANK(N!G69),\"\",N!G69)","v":""},{"$f":"IF(ISBLANK(N!H69),\"\",N!H69)","v":""},{"$f":"IF(ISBLANK(N!I69),\"\",N!I69)","v":""},{"$f":"IF(ISBLANK(N!J69),\"\",N!J69)","v":""},{"$f":"IF(ISBLANK(N!K69),\"\",N!K69)","v":""},{"$f":"IF(ISBLANK(N!L69),\"\",N!L69)","v":""},{"$f":"IF(ISBLANK(N!M69),\"\",N!M69)","v":""},{"$f":"IF(ISBLANK(N!N69),\"\",N!N69)","v":""},null,null,{"$f":"Q!B67","v":""},{"$f":"IF('F2'!D79=\"\",\"\",'F2'!D79)","v":""}]
[33,null,{"$f":"A!C67","v":""},null,{"$f":"IF('C'!D80=\"\",\"\",'C'!D80)","v":""},{"$f":"IF(D!D80=\"\",\"\",D!D80)","v":""},{"$f":"IF(E!D80=\"\",\"\",E!D80)","v":""},{"$f":"IF(F!D80=\"\",\"\",F!D80)","v":""},{"$f":"'G1'!C51","v":""},null,{"$f":"'H1'!C56","v":""},{"$f":"'H2'!C68","v":""},{"$f":"I!C60","v":""},null,null,null,null,null,null,null,null,null,null,null,null,null,null,null,null,null,null,null,null,null,{"$f":"IF(ISBLANK(M!E70),\"\",M!E70)","v":""},{"$f":"IF(ISBLANK(M!F70),\"\",M!F70)","v":""},{"$f":"IF(ISBLANK(M!G70),\"\",M!G70)","v":""},{"$f":"IF(ISBLANK(M!H70),\"\",M!H70)","v":""},{"$f":"IF(ISBLANK(M!I70),\"\",M!I70)","v":""},{"$f":"IF(ISBLANK(M!J70),\"\",M!J70)","v":""},{"$f":"IF(ISBLANK(M!K70),\"\",M!K70)","v":""},{"$f":"IF(ISBLANK(M!L70),\"\",M!L70)","v":""},{"$f":"IF(ISBLANK(M!M70),\"\",M!M70)","v":""},{"$f":"IF(ISBLANK(M!N70),\"\",M!N70)","v":""},{"$f":"IF(ISBLANK(N!E70),\"\",N!E70)","v":""},{"$f":"IF(ISBLANK(N!F70),\"\",N!F70)","v":""},{"$f":"IF(ISBLANK(N!G70),\"\",N!G70)","v":""},{"$f":"IF(ISBLANK(N!H70),\"\",N!H70)","v":""},{"$f":"IF(ISBLANK(N!I70),\"\",N!I70)","v":""},{"$f":"IF(ISBLANK(N!J70),\"\",N!J70)","v":""},{"$f":"IF(ISBLANK(N!K70),\"\",N!K70)","v":""},{"$f":"IF(ISBLANK(N!L70),\"\",N!L70)","v":""},{"$f":"IF(ISBLANK(N!M70),\"\",N!M70)","v":""},{"$f":"IF(ISBLANK(N!N70),\"\",N!N70)","v":""},null,null,{"$f":"Q!B68","v":""},{"$f":"IF('F2'!D80=\"\",\"\",'F2'!D80)","v":""}]
[34,null,{"$f":"A!C68","v":""},null,{"$f":"IF('C'!D81=\"\",\"\",'C'!D81)","v":""},{"$f":"IF(D!D81=\"\",\"\",D!D81)","v":""},{"$f":"IF(E!D81=\"\",\"\",E!D81)","v":""},{"$f":"IF(F!D81=\"\",\"\",F!D81)","v":""},{"$f":"'G1'!C52","v":""},null,{"$f":"'H1'!C57","v":""},{"$f":"'H2'!C69","v":""},{"$f":"I!C61","v":""},null,null,null,null,null,null,null,null,null,null,null,null,null,null,null,null,null,null,null,null,null,{"$f":"IF(ISBLANK(M!E71),\"\",M!E71)","v":""},{"$f":"IF(ISBLANK(M!F71),\"\",M!F71)","v":""},{"$f":"IF(ISBLANK(M!G71),\"\",M!G71)","v":""},{"$f":"IF(ISBLANK(M!H71),\"\",M!H71)","v":""},{"$f":"IF(ISBLANK(M!I71),\"\",M!I71)","v":""},{"$f":"IF(ISBLANK(M!J71),\"\",M!J71)","v":""},{"$f":"IF(ISBLANK(M!K71),\"\",M!K71)","v":""},{"$f":"IF(ISBLANK(M!L71),\"\",M!L71)","v":""},{"$f":"IF(ISBLANK(M!M71),\"\",M!M71)","v":""},{"$f":"IF(ISBLANK(M!N71),\"\",M!N71)","v":""},{"$f":"IF(ISBLANK(N!E71),\"\",N!E71)","v":""},{"$f":"IF(ISBLANK(N!F71),\"\",N!F71)","v":""},{"$f":"IF(ISBLANK(N!G71),\"\",N!G71)","v":""},{"$f":"IF(ISBLANK(N!H71),\"\",N!H71)","v":""},{"$f":"IF(ISBLANK(N!I71),\"\",N!I71)","v":""},{"$f":"IF(ISBLANK(N!J71),\"\",N!J71)","v":""},{"$f":"IF(ISBLANK(N!K71),\"\",N!K71)","v":""},{"$f":"IF(ISBLANK(N!L71),\"\",N!L71)","v":""},{"$f":"IF(ISBLANK(N!M71),\"\",N!M71)","v":""},{"$f":"IF(ISBLANK(N!N71),\"\",N!N71)","v":""},null,null,{"$f":"Q!B69","v":""},{"$f":"IF('F2'!D81=\"\",\"\",'F2'!D81)","v":""}]
[35,null,{"$f":"A!C69","v":""},null,{"$f":"IF('C'!D82=\"\",\"\",'C'!D82)","v":""},{"$f":"IF(D!D82=\"\",\"\",D!D82)","v":""},{"$f":"IF(E!D82=\"\",\"\",E!D82)","v":""},{"$f":"IF(F!D82=\"\",\"\",F!D82)","v":""},{"$f":"'G1'!C53","v":""},null,{"$f":"'H1'!C58","v":""},{"$f":"'H2'!C70","v":""},{"$f":"I!C62","v":""},null,null,null,null,null,null,null,null,null,null,null,null,null,null,null,null,null,null,null,null,null,{"$f":"IF(ISBLANK(M!E72),\"\",M!E72)","v":""},{"$f":"IF(ISBLANK(M!F72),\"\",M!F72)","v":""},{"$f":"IF(ISBLANK(M!G72),\"\",M!G72)","v":""},{"$f":"IF(ISBLANK(M!H72),\"\",M!H72)","v":""},{"$f":"IF(ISBLANK(M!I72),\"\",M!I72)","v":""},{"$f":"IF(ISBLANK(M!J72),\"\",M!J72)","v":""},{"$f":"IF(ISBLANK(M!K72),\"\",M!K72)","v":""},{"$f":"IF(ISBLANK(M!L72),\"\",M!L72)","v":""},{"$f":"IF(ISBLANK(M!M72),\"\",M!M72)","v":""},{"$f":"IF(ISBLANK(M!N72),\"\",M!N72)","v":""},{"$f":"IF(ISBLANK(N!E72),\"\",N!E72)","v":""},{"$f":"IF(ISBLANK(N!F72),\"\",N!F72)","v":""},{"$f":"IF(ISBLANK(N!G72),\"\",N!G72)","v":""},{"$f":"IF(ISBLANK(N!H72),\"\",N!H72)","v":""},{"$f":"IF(ISBLANK(N!I72),\"\",N!I72)","v":""},{"$f":"IF(ISBLANK(N!J72),\"\",N!J72)","v":""},{"$f":"IF(ISBLANK(N!K72),\"\",N!K72)","v":""},{"$f":"IF(ISBLANK(N!L72),\"\",N!L72)","v":""},{"$f":"IF(ISBLANK(N!M72),\"\",N!M72)","v":""},{"$f":"IF(ISBLANK(N!N72),\"\",N!N72)","v":""},null,null,{"$f":"Q!B70","v":""},{"$f":"IF('F2'!D82=\"\",\"\",'F2'!D82)","v":""}]
[36,null,{"$f":"A!C70","v":""},null,{"$f":"IF('C'!D83=\"\",\"\",'C'!D83)","v":""},{"$f":"IF(D!D83=\"\",\"\",D!D83)","v":""},{"$f":"IF(E!D83=\"\",\"\",E!D83)","v":""},{"$f":"IF(F!D83=\"\",\"\",F!D83)","v":""},{"$f":"'G1'!C54","v":""},null,{"$f":"'H1'!C59","v":""},{"$f":"'H2'!C71","v":""},{"$f":"I!C63","v":""},null,null,null,null,null,null,null,null,null,null,null,null,null,null,null,null,null,null,null,null,null,{"$f":"IF(ISBLANK(M!E73),\"\",M!E73)","v":""},{"$f":"IF(ISBLANK(M!F73),\"\",M!F73)","v":""},{"$f":"IF(ISBLANK(M!G73),\"\",M!G73)","v":""},{"$f":"IF(ISBLANK(M!H73),\"\",M!H73)","v":""},{"$f":"IF(ISBLANK(M!I73),\"\",M!I73)","v":""},{"$f":"IF(ISBLANK(M!J73),\"\",M!J73)","v":""},{"$f":"IF(ISBLANK(M!K73),\"\",M!K73)","v":""},{"$f":"IF(ISBLANK(M!L73),\"\",M!L73)","v":""},{"$f":"IF(ISBLANK(M!M73),\"\",M!M73)","v":""},{"$f":"IF(ISBLANK(M!N73),\"\",M!N73)","v":""},{"$f":"IF(ISBLANK(N!E73),\"\",N!E73)","v":""},{"$f":"IF(ISBLANK(N!F73),\"\",N!F73)","v":""},{"$f":"IF(ISBLANK(N!G73),\"\",N!G73)","v":""},{"$f":"IF(ISBLANK(N!H73),\"\",N!H73)","v":""},{"$f":"IF(ISBLANK(N!I73),\"\",N!I73)","v":""},{"$f":"IF(ISBLANK(N!J73),\"\",N!J73)","v":""},{"$f":"IF(ISBLANK(N!K73),\"\",N!K73)","v":""},{"$f":"IF(ISBLANK(N!L73),\"\",N!L73)","v":""},{"$f":"IF(ISBLANK(N!M73),\"\",N!M73)","v":""},{"$f":"IF(ISBLANK(N!N73),\"\",N!N73)","v":""},null,null,{"$f":"Q!B71","v":""},{"$f":"IF('F2'!D83=\"\",\"\",'F2'!D83)","v":""}]
[37,null,{"$f":"A!C71","v":""},null,{"$f":"IF('C'!D84=\"\",\"\",'C'!D84)","v":""},{"$f":"IF(D!D84=\"\",\"\",D!D84)","v":""},{"$f":"IF(E!D84=\"\",\"\",E!D84)","v":""},{"$f":"IF(F!D84=\"\",\"\",F!D84)","v":""},{"$f":"'G1'!C55","v":""},null,{"$f":"'H1'!C60","v":""},{"$f":"'H2'!C72","v":""},{"$f":"I!C64","v":""},null,null,null,null,null,null,null,null,null,null,null,null,null,null,null,null,null,null,null,null,null,{"$f":"IF(ISBLANK(M!E74),\"\",M!E74)","v":""},{"$f":"IF(ISBLANK(M!F74),\"\",M!F74)","v":""},{"$f":"IF(ISBLANK(M!G74),\"\",M!G74)","v":""},{"$f":"IF(ISBLANK(M!H74),\"\",M!H74)","v":""},{"$f":"IF(ISBLANK(M!I74),\"\",M!I74)","v":""},{"$f":"IF(ISBLANK(M!J74),\"\",M!J74)","v":""},{"$f":"IF(ISBLANK(M!K74),\"\",M!K74)","v":""},{"$f":"IF(ISBLANK(M!L74),\"\",M!L74)","v":""},{"$f":"IF(ISBLANK(M!M74),\"\",M!M74)","v":""},{"$f":"IF(ISBLANK(M!N74),\"\",M!N74)","v":""},{"$f":"IF(ISBLANK(N!E74),\"\",N!E74)","v":""},{"$f":"IF(ISBLANK(N!F74),\"\",N!F74)","v":""},{"$f":"IF(ISBLANK(N!G74),\"\",N!G74)","v":""},{"$f":"IF(ISBLANK(N!H74),\"\",N!H74)","v":""},{"$f":"IF(ISBLANK(N!I74),\"\",N!I74)","v":""},{"$f":"IF(ISBLANK(N!J74),\"\",N!J74)","v":""},{"$f":"IF(ISBLANK(N!K74),\"\",N!K74)","v":""},{"$f":"IF(ISBLANK(N!L74),\"\",N!L74)","v":""},{"$f":"IF(ISBLANK(N!M74),\"\",N!M74)","v":""},{"$f":"IF(ISBLANK(N!N74),\"\",N!N74)","v":""},null,null,{"$f":"Q!B72","v":""},{"$f":"IF('F2'!D84=\"\",\"\",'F2'!D84)","v":""}]
[38,null,{"$f":"A!C72","v":""},null,{"$f":"IF('C'!D85=\"\",\"\",'C'!D85)","v":""},{"$f":"IF(D!D85=\"\",\"\",D!D85)","v":""},{"$f":"IF(E!D85=\"\",\"\",E!D85)","v":""},{"$f":"IF(F!D85=\"\",\"\",F!D85)","v":""},{"$f":"'G1'!C56","v":""},null,{"$f":"'H1'!C61","v":""},{"$f":"'H2'!C73","v":""},{"$f":"I!C65","v":""},null,null,null,null,null,null,null,null,null,null,null,null,null,null,null,null,null,null,null,null,null,{"$f":"IF(ISBLANK(M!E75),\"\",M!E75)","v":""},{"$f":"IF(ISBLANK(M!F75),\"\",M!F75)","v":""},{"$f":"IF(ISBLANK(M!G75),\"\",M!G75)","v":""},{"$f":"IF(ISBLANK(M!H75),\"\",M!H75)","v":""},{"$f":"IF(ISBLANK(M!I75),\"\",M!I75)","v":""},{"$f":"IF(ISBLANK(M!J75),\"\",M!J75)","v":""},{"$f":"IF(ISBLANK(M!K75),\"\",M!K75)","v":""},{"$f":"IF(ISBLANK(M!L75),\"\",M!L75)","v":""},{"$f":"IF(ISBLANK(M!M75),\"\",M!M75)","v":""},{"$f":"IF(ISBLANK(M!N75),\"\",M!N75)","v":""},{"$f":"IF(ISBLANK(N!E75),\"\",N!E75)","v":""},{"$f":"IF(ISBLANK(N!F75),\"\",N!F75)","v":""},{"$f":"IF(ISBLANK(N!G75),\"\",N!G75)","v":""},{"$f":"IF(ISBLANK(N!H75),\"\",N!H75)","v":""},{"$f":"IF(ISBLANK(N!I75),\"\",N!I75)","v":""},{"$f":"IF(ISBLANK(N!J75),\"\",N!J75)","v":""},{"$f":"IF(ISBLANK(N!K75),\"\",N!K75)","v":""},{"$f":"IF(ISBLANK(N!L75),\"\",N!L75)","v":""},{"$f":"IF(ISBLANK(N!M75),\"\",N!M75)","v":""},{"$f":"IF(ISBLANK(N!N75),\"\",N!N75)","v":""},null,null,null,{"$f":"IF('F2'!D85=\"\",\"\",'F2'!D85)","v":""}]
[39,null,{"$f":"A!C73","v":""},null,{"$f":"IF('C'!D86=\"\",\"\",'C'!D86)","v":""},{"$f":"IF(D!D86=\"\",\"\",D!D86)","v":""},{"$f":"IF(E!D86=\"\",\"\",E!D86)","v":""},{"$f":"IF(F!D86=\"\",\"\",F!D86)","v":""},{"$f":"'G1'!C57","v":""},null,{"$f":"'H1'!C62","v":""},{"$f":"'H2'!C74","v":""},{"$f":"I!C66","v":""},null,null,null,null,null,null,null,null,null,null,null,null,null,null,null,null,null,null,null,null,null,{"$f":"IF(ISBLANK(M!E76),\"\",M!E76)","v":""},{"$f":"IF(ISBLANK(M!F76),\"\",M!F76)","v":""},{"$f":"IF(ISBLANK(M!G76),\"\",M!G76)","v":""},{"$f":"IF(ISBLANK(M!H76),\"\",M!H76)","v":""},{"$f":"IF(ISBLANK(M!I76),\"\",M!I76)","v":""},{"$f":"IF(ISBLANK(M!J76),\"\",M!J76)","v":""},{"$f":"IF(ISBLANK(M!K76),\"\",M!K76)","v":""},{"$f":"IF(ISBLANK(M!L76),\"\",M!L76)","v":""},{"$f":"IF(ISBLANK(M!M76),\"\",M!M76)","v":""},{"$f":"IF(ISBLANK(M!N76),\"\",M!N76)","v":""},{"$f":"IF(ISBLANK(N!E76),\"\",N!E76)","v":""},{"$f":"IF(ISBLANK(N!F76),\"\",N!F76)","v":""},{"$f":"IF(ISBLANK(N!G76),\"\",N!G76)","v":""},{"$f":"IF(ISBLANK(N!H76),\"\",N!H76)","v":""},{"$f":"IF(ISBLANK(N!I76),\"\",N!I76)","v":""},{"$f":"IF(ISBLANK(N!J76),\"\",N!J76)","v":""},{"$f":"IF(ISBLANK(N!K76),\"\",N!K76)","v":""},{"$f":"IF(ISBLANK(N!L76),\"\",N!L76)","v":""},{"$f":"IF(ISBLANK(N!M76),\"\",N!M76)","v":""},{"$f":"IF(ISBLANK(N!N76),\"\",N!N76)","v":""},null,null,null,{"$f":"IF('F2'!D86=\"\",\"\",'F2'!D86)","v":""}]
[40,null,{"$f":"A!C74","v":""},null,{"$f":"IF('C'!D87=\"\",\"\",'C'!D87)","v":""},{"$f":"IF(D!D87=\"\",\"\",D!D87)","v":""},{"$f":"IF(E!D87=\"\",\"\",E!D87)","v":""},{"$f":"IF(F!D87=\"\",\"\",F!D87)","v":""},{"$f":"'G1'!C58","v":""},null,{"$f":"'H1'!C63","v":""},{"$f":"'H2'!C75","v":""},{"$f":"I!C67","v":""},null,null,null,null,null,null,null,null,null,null,null,null,null,null,null,null,null,null,null,null,null,{"$f":"IF(ISBLANK(M!E77),\"\",M!E77)","v":""},{"$f":"IF(ISBLANK(M!F77),\"\",M!F77)","v":""},{"$f":"IF(ISBLANK(M!G77),\"\",M!G77)","v":""},{"$f":"IF(ISBLANK(M!H77),\"\",M!H77)","v":""},{"$f":"IF(ISBLANK(M!I77),\"\",M!I77)","v":""},{"$f":"IF(ISBLANK(M!J77),\"\",M!J77)","v":""},{"$f":"IF(ISBLANK(M!K77),\"\",M!K77)","v":""},{"$f":"IF(ISBLANK(M!L77),\"\",M!L77)","v":""},{"$f":"IF(ISBLANK(M!M77),\"\",M!M77)","v":""},{"$f":"IF(ISBLANK(M!N77),\"\",M!N77)","v":""},{"$f":"IF(ISBLANK(N!E77),\"\",N!E77)","v":""},{"$f":"IF(ISBLANK(N!F77),\"\",N!F77)","v":""},{"$f":"IF(ISBLANK(N!G77),\"\",N!G77)","v":""},{"$f":"IF(ISBLANK(N!H77),\"\",N!H77)","v":""},{"$f":"IF(ISBLANK(N!I77),\"\",N!I77)","v":""},{"$f":"IF(ISBLANK(N!J77),\"\",N!J77)","v":""},{"$f":"IF(ISBLANK(N!K77),\"\",N!K77)","v":""},{"$f":"IF(ISBLANK(N!L77),\"\",N!L77)","v":""},{"$f":"IF(ISBLANK(N!M77),\"\",N!M77)","v":""},{"$f":"IF(ISBLANK(N!N77),\"\",N!N77)","v":""},null,null,null,{"$f":"IF('F2'!D87=\"\",\"\",'F2'!D87)","v":""}]
[41,null,{"$f":"A!C75","v":""},null,{"$f":"IF('C'!D88=\"\",\"\",'C'!D88)","v":""},{"$f":"IF(D!D88=\"\",\"\",D!D88)","v":""},{"$f":"IF(E!D88=\"\",\"\",E!D88)","v":""},{"$f":"IF(F!D88=\"\",\"\",F!D88)","v":""},{"$f":"'G1'!C59","v":""},null,{"$f":"'H1'!C64","v":""},{"$f":"'H2'!C76","v":""},{"$f":"I!C68","v":""},null,null,null,null,null,null,null,null,null,null,null,null,null,null,null,null,null,null,null,null,null,{"$f":"IF(ISBLANK(M!E78),\"\",M!E78)","v":""},{"$f":"IF(ISBLANK(M!F78),\"\",M!F78)","v":""},{"$f":"IF(ISBLANK(M!G78),\"\",M!G78)","v":""},{"$f":"IF(ISBLANK(M!H78),\"\",M!H78)","v":""},{"$f":"IF(ISBLANK(M!I78),\"\",M!I78)","v":""},{"$f":"IF(ISBLANK(M!J78),\"\",M!J78)","v":""},{"$f":"IF(ISBLANK(M!K78),\"\",M!K78)","v":""},{"$f":"IF(ISBLANK(M!L78),\"\",M!L78)","v":""},{"$f":"IF(ISBLANK(M!M78),\"\",M!M78)","v":""},{"$f":"IF(ISBLANK(M!N78),\"\",M!N78)","v":""},{"$f":"IF(ISBLANK(N!E78),\"\",N!E78)","v":""},{"$f":"IF(ISBLANK(N!F78),\"\",N!F78)","v":""},{"$f":"IF(ISBLANK(N!G78),\"\",N!G78)","v":""},{"$f":"IF(ISBLANK(N!H78),\"\",N!H78)","v":""},{"$f":"IF(ISBLANK(N!I78),\"\",N!I78)","v":""},{"$f":"IF(ISBLANK(N!J78),\"\",N!J78)","v":""},{"$f":"IF(ISBLANK(N!K78),\"\",N!K78)","v":""},{"$f":"IF(ISBLANK(N!L78),\"\",N!L78)","v":""},{"$f":"IF(ISBLANK(N!M78),\"\",N!M78)","v":""},{"$f":"IF(ISBLANK(N!N78),\"\",N!N78)","v":""},null,null,null,{"$f":"IF('F2'!D88=\"\",\"\",'F2'!D88)","v":""}]
[42,null,{"$f":"A!C76","v":""},null,{"$f":"IF('C'!D89=\"\",\"\",'C'!D89)","v":""},{"$f":"IF(D!D89=\"\",\"\",D!D89)","v":""},{"$f":"IF(E!D89=\"\",\"\",E!D89)","v":""},{"$f":"IF(F!D89=\"\",\"\",F!D89)","v":""},{"$f":"'G1'!C60","v":""},null,{"$f":"'H1'!C65","v":""},{"$f":"'H2'!C77","v":""},{"$f":"I!C69","v":""},null,null,null,null,null,null,null,null,null,null,null,null,null,null,null,null,null,null,null,null,null,{"$f":"IF(ISBLANK(M!E79),\"\",M!E79)","v":""},{"$f":"IF(ISBLANK(M!F79),\"\",M!F79)","v":""},{"$f":"IF(ISBLANK(M!G79),\"\",M!G79)","v":""},{"$f":"IF(ISBLANK(M!H79),\"\",M!H79)","v":""},{"$f":"IF(ISBLANK(M!I79),\"\",M!I79)","v":""},{"$f":"IF(ISBLANK(M!J79),\"\",M!J79)","v":""},{"$f":"IF(ISBLANK(M!K79),\"\",M!K79)","v":""},{"$f":"IF(ISBLANK(M!L79),\"\",M!L79)","v":""},{"$f":"IF(ISBLANK(M!M79),\"\",M!M79)","v":""},{"$f":"IF(ISBLANK(M!N79),\"\",M!N79)","v":""},{"$f":"IF(ISBLANK(N!E79),\"\",N!E79)","v":""},{"$f":"IF(ISBLANK(N!F79),\"\",N!F79)","v":""},{"$f":"IF(ISBLANK(N!G79),\"\",N!G79)","v":""},{"$f":"IF(ISBLANK(N!H79),\"\",N!H79)","v":""},{"$f":"IF(ISBLANK(N!I79),\"\",N!I79)","v":""},{"$f":"IF(ISBLANK(N!J79),\"\",N!J79)","v":""},{"$f":"IF(ISBLANK(N!K79),\"\",N!K79)","v":""},{"$f":"IF(ISBLANK(N!L79),\"\",N!L79)","v":""},{"$f":"IF(ISBLANK(N!M79),\"\",N!M79)","v":""},{"$f":"IF(ISBLANK(N!N79),\"\",N!N79)","v":""},null,null,null,{"$f":"IF('F2'!D89=\"\",\"\",'F2'!D89)","v":""}]
[43,null,{"$f":"A!C77","v":""},null,{"$f":"IF('C'!D90=\"\",\"\",'C'!D90)","v":""},{"$f":"IF(D!D90=\"\",\"\",D!D90)","v":""},{"$f":"IF(E!D90=\"\",\"\",E!D90)","v":""},{"$f":"IF(F!D90=\"\",\"\",F!D90)","v":""},{"$f":"'G1'!C61","v":""},null,{"$f":"'H1'!C66","v":""},{"$f":"'H2'!C78","v":""},{"$f":"I!C70","v":""},null,null,null,null,null,null,null,null,null,null,null,null,null,null,null,null,null,null,null,null,null,{"$f":"IF(ISBLANK(M!E80),\"\",M!E80)","v":""},{"$f":"IF(ISBLANK(M!F80),\"\",M!F80)","v":""},{"$f":"IF(ISBLANK(M!G80),\"\",M!G80)","v":""},{"$f":"IF(ISBLANK(M!H80),\"\",M!H80)","v":""},{"$f":"IF(ISBLANK(M!I80),\"\",M!I80)","v":""},{"$f":"IF(ISBLANK(M!J80),\"\",M!J80)","v":""},{"$f":"IF(ISBLANK(M!K80),\"\",M!K80)","v":""},{"$f":"IF(ISBLANK(M!L80),\"\",M!L80)","v":""},{"$f":"IF(ISBLANK(M!M80),\"\",M!M80)","v":""},{"$f":"IF(ISBLANK(M!N80),\"\",M!N80)","v":""},{"$f":"IF(ISBLANK(N!E80),\"\",N!E80)","v":""},{"$f":"IF(ISBLANK(N!F80),\"\",N!F80)","v":""},{"$f":"IF(ISBLANK(N!G80),\"\",N!G80)","v":""},{"$f":"IF(ISBLANK(N!H80),\"\",N!H80)","v":""},{"$f":"IF(ISBLANK(N!I80),\"\",N!I80)","v":""},{"$f":"IF(ISBLANK(N!J80),\"\",N!J80)","v":""},{"$f":"IF(ISBLANK(N!K80),\"\",N!K80)","v":""},{"$f":"IF(ISBLANK(N!L80),\"\",N!L80)","v":""},{"$f":"IF(ISBLANK(N!M80),\"\",N!M80)","v":""},{"$f":"IF(ISBLANK(N!N80),\"\",N!N80)","v":""},null,null,null,{"$f":"IF('F2'!D90=\"\",\"\",'F2'!D90)","v":""}]
[44,null,{"$f":"A!C78","v":""},null,{"$f":"IF('C'!D91=\"\",\"\",'C'!D91)","v":""},{"$f":"IF(D!D91=\"\",\"\",D!D91)","v":""},{"$f":"IF(E!D91=\"\",\"\",E!D91)","v":""},{"$f":"IF(F!D91=\"\",\"\",F!D91)","v":""},{"$f":"'G1'!C62","v":""},null,{"$f":"'H1'!C67","v":""},{"$f":"'H2'!C79","v":""},{"$f":"I!C71","v":""},null,null,null,null,null,null,null,null,null,null,null,null,null,null,null,null,null,null,null,null,null,{"$f":"IF(ISBLANK(M!E81),\"\",M!E81)","v":""},{"$f":"IF(ISBLANK(M!F81),\"\",M!F81)","v":""},{"$f":"IF(ISBLANK(M!G81),\"\",M!G81)","v":""},{"$f":"IF(ISBLANK(M!H81),\"\",M!H81)","v":""},{"$f":"IF(ISBLANK(M!I81),\"\",M!I81)","v":""},{"$f":"IF(ISBLANK(M!J81),\"\",M!J81)","v":""},{"$f":"IF(ISBLANK(M!K81),\"\",M!K81)","v":""},{"$f":"IF(ISBLANK(M!L81),\"\",M!L81)","v":""},{"$f":"IF(ISBLANK(M!M81),\"\",M!M81)","v":""},{"$f":"IF(ISBLANK(M!N81),\"\",M!N81)","v":""},{"$f":"IF(ISBLANK(N!E81),\"\",N!E81)","v":""},{"$f":"IF(ISBLANK(N!F81),\"\",N!F81)","v":""},{"$f":"IF(ISBLANK(N!G81),\"\",N!G81)","v":""},{"$f":"IF(ISBLANK(N!H81),\"\",N!H81)","v":""},{"$f":"IF(ISBLANK(N!I81),\"\",N!I81)","v":""},{"$f":"IF(ISBLANK(N!J81),\"\",N!J81)","v":""},{"$f":"IF(ISBLANK(N!K81),\"\",N!K81)","v":""},{"$f":"IF(ISBLANK(N!L81),\"\",N!L81)","v":""},{"$f":"IF(ISBLANK(N!M81),\"\",N!M81)","v":""},{"$f":"IF(ISBLANK(N!N81),\"\",N!N81)","v":""},null,null,null,{"$f":"IF('F2'!D91=\"\",\"\",'F2'!D91)","v":""}]
[45,null,{"$f":"A!C79","v":""},null,{"$f":"IF('C'!D92=\"\",\"\",'C'!D92)","v":""},{"$f":"IF(D!D92=\"\",\"\",D!D92)","v":""},{"$f":"IF(E!D92=\"\",\"\",E!D92)","v":""},{"$f":"IF(F!D92=\"\",\"\",F!D92)","v":""},{"$f":"'G1'!C63","v":""},null,{"$f":"'H1'!C68","v":""},{"$f":"'H2'!C80","v":""},{"$f":"I!C72","v":""},null,null,null,null,null,null,null,null,null,null,null,null,null,null,null,null,null,null,null,null,null,{"$f":"IF(ISBLANK(M!E82),\"\",M!E82)","v":""},{"$f":"IF(ISBLANK(M!F82),\"\",M!F82)","v":""},{"$f":"IF(ISBLANK(M!G82),\"\",M!G82)","v":""},{"$f":"IF(ISBLANK(M!H82),\"\",M!H82)","v":""},{"$f":"IF(ISBLANK(M!I82),\"\",M!I82)","v":""},{"$f":"IF(ISBLANK(M!J82),\"\",M!J82)","v":""},{"$f":"IF(ISBLANK(M!K82),\"\",M!K82)","v":""},{"$f":"IF(ISBLANK(M!L82),\"\",M!L82)","v":""},{"$f":"IF(ISBLANK(M!M82),\"\",M!M82)","v":""},{"$f":"IF(ISBLANK(M!N82),\"\",M!N82)","v":""},{"$f":"IF(ISBLANK(N!E82),\"\",N!E82)","v":""},{"$f":"IF(ISBLANK(N!F82),\"\",N!F82)","v":""},{"$f":"IF(ISBLANK(N!G82),\"\",N!G82)","v":""},{"$f":"IF(ISBLANK(N!H82),\"\",N!H82)","v":""},{"$f":"IF(ISBLANK(N!I82),\"\",N!I82)","v":""},{"$f":"IF(ISBLANK(N!J82),\"\",N!J82)","v":""},{"$f":"IF(ISBLANK(N!K82),\"\",N!K82)","v":""},{"$f":"IF(ISBLANK(N!L82),\"\",N!L82)","v":""},{"$f":"IF(ISBLANK(N!M82),\"\",N!M82)","v":""},{"$f":"IF(ISBLANK(N!N82),\"\",N!N82)","v":""},null,null,null,{"$f":"IF('F2'!D92=\"\",\"\",'F2'!D92)","v":""}]
[46,null,{"$f":"A!C80","v":""},null,{"$f":"IF('C'!D93=\"\",\"\",'C'!D93)","v":""},{"$f":"IF(D!D93=\"\",\"\",D!D93)","v":""},{"$f":"IF(E!D93=\"\",\"\",E!D93)","v":""},{"$f":"IF(F!D93=\"\",\"\",F!D93)","v":""},{"$f":"'G1'!C64","v":""},null,{"$f":"'H1'!C69","v":""},{"$f":"'H2'!C81","v":""},{"$f":"I!C73","v":false},null,null,null,null,null,null,null,null,null,null,null,null,null,null,null,null,null,null,null,null,null,{"$f":"IF(ISBLANK(M!E83),\"\",M!E83)","v":""},{"$f":"IF(ISBLANK(M!F83),\"\",M!F83)","v":""},{"$f":"IF(ISBLANK(M!G83),\"\",M!G83)","v":""},{"$f":"IF(ISBLANK(M!H83),\"\",M!H83)","v":""},{"$f":"IF(ISBLANK(M!I83),\"\",M!I83)","v":""},{"$f":"IF(ISBLANK(M!J83),\"\",M!J83)","v":""},{"$f":"IF(ISBLANK(M!K83),\"\",M!K83)","v":""},{"$f":"IF(ISBLANK(M!L83),\"\",M!L83)","v":""},{"$f":"IF(ISBLANK(M!M83),\"\",M!M83)","v":""},{"$f":"IF(ISBLANK(M!N83),\"\",M!N83)","v":""},{"$f":"IF(ISBLANK(N!E83),\"\",N!E83)","v":""},{"$f":"IF(ISBLANK(N!F83),\"\",N!F83)","v":""},{"$f":"IF(ISBLANK(N!G83),\"\",N!G83)","v":""},{"$f":"IF(ISBLANK(N!H83),\"\",N!H83)","v":""},{"$f":"IF(ISBLANK(N!I83),\"\",N!I83)","v":""},{"$f":"IF(ISBLANK(N!J83),\"\",N!J83)","v":""},{"$f":"IF(ISBLANK(N!K83),\"\",N!K83)","v":""},{"$f":"IF(ISBLANK(N!L83),\"\",N!L83)","v":""},{"$f":"IF(ISBLANK(N!M83),\"\",N!M83)","v":""},{"$f":"IF(ISBLANK(N!N83),\"\",N!N83)","v":""},null,null,null,{"$f":"IF('F2'!D93=\"\",\"\",'F2'!D93)","v":""}]
[47,null,{"$f":"A!C81","v":""},null,{"$f":"IF('C'!D94=\"\",\"\",'C'!D94)","v":""},{"$f":"IF(D!D94=\"\",\"\",D!D94)","v":""},{"$f":"IF(E!D94=\"\",\"\",E!D94)","v":""},{"$f":"IF(F!D94=\"\",\"\",F!D94)","v":""},{"$f":"'G1'!C65","v":false},null,{"$f":"'H1'!C70","v":""},{"$f":"'H2'!C82","v":""},{"$f":"I!C74","v":""},null,null,null,null,null,null,null,null,null,null,null,null,null,null,null,null,null,null,null,null,null,{"$f":"IF(ISBLANK(M!E84),\"\",M!E84)","v":""},{"$f":"IF(ISBLANK(M!F84),\"\",M!F84)","v":""},{"$f":"IF(ISBLANK(M!G84),\"\",M!G84)","v":""},{"$f":"IF(ISBLANK(M!H84),\"\",M!H84)","v":""},{"$f":"IF(ISBLANK(M!I84),\"\",M!I84)","v":""},{"$f":"IF(ISBLANK(M!J84),\"\",M!J84)","v":""},{"$f":"IF(ISBLANK(M!K84),\"\",M!K84)","v":""},{"$f":"IF(ISBLANK(M!L84),\"\",M!L84)","v":""},{"$f":"IF(ISBLANK(M!M84),\"\",M!M84)","v":""},{"$f":"IF(ISBLANK(M!N84),\"\",M!N84)","v":""},{"$f":"IF(ISBLANK(N!E84),\"\",N!E84)","v":""},{"$f":"IF(ISBLANK(N!F84),\"\",N!F84)","v":""},{"$f":"IF(ISBLANK(N!G84),\"\",N!G84)","v":""},{"$f":"IF(ISBLANK(N!H84),\"\",N!H84)","v":""},{"$f":"IF(ISBLANK(N!I84),\"\",N!I84)","v":""},{"$f":"IF(ISBLANK(N!J84),\"\",N!J84)","v":""},{"$f":"IF(ISBLANK(N!K84),\"\",N!K84)","v":""},{"$f":"IF(ISBLANK(N!L84),\"\",N!L84)","v":""},{"$f":"IF(ISBLANK(N!M84),\"\",N!M84)","v":""},{"$f":"IF(ISBLANK(N!N84),\"\",N!N84)","v":""},null,null,null,{"$f":"IF('F2'!D94=\"\",\"\",'F2'!D94)","v":""}]
[48,null,{"$f":"A!C82","v":""},null,{"$f":"IF('C'!D95=\"\",\"\",'C'!D95)","v":""},{"$f":"IF(D!D95=\"\",\"\",D!D95)","v":""},{"$f":"IF(E!D95=\"\",\"\",E!D95)","v":""},{"$f":"IF(F!D95=\"\",\"\",F!D95)","v":""},null,null,{"$f":"'H1'!C71","v":""},{"$f":"'H2'!C83","v":""},{"$f":"I!C75","v":""},null,null,null,null,null,null,null,null,null,null,null,null,null,null,null,null,null,null,null,null,null,{"$f":"IF(ISBLANK(M!E85),\"\",M!E85)","v":""},{"$f":"IF(ISBLANK(M!F85),\"\",M!F85)","v":""},{"$f":"IF(ISBLANK(M!G85),\"\",M!G85)","v":""},{"$f":"IF(ISBLANK(M!H85),\"\",M!H85)","v":""},{"$f":"IF(ISBLANK(M!I85),\"\",M!I85)","v":""},{"$f":"IF(ISBLANK(M!J85),\"\",M!J85)","v":""},{"$f":"IF(ISBLANK(M!K85),\"\",M!K85)","v":""},{"$f":"IF(ISBLANK(M!L85),\"\",M!L85)","v":""},{"$f":"IF(ISBLANK(M!M85),\"\",M!M85)","v":""},{"$f":"IF(ISBLANK(M!N85),\"\",M!N85)","v":""},{"$f":"IF(ISBLANK(N!E85),\"\",N!E85)","v":""},{"$f":"IF(ISBLANK(N!F85),\"\",N!F85)","v":""},{"$f":"IF(ISBLANK(N!G85),\"\",N!G85)","v":""},{"$f":"IF(ISBLANK(N!H85),\"\",N!H85)","v":""},{"$f":"IF(ISBLANK(N!I85),\"\",N!I85)","v":""},{"$f":"IF(ISBLANK(N!J85),\"\",N!J85)","v":""},{"$f":"IF(ISBLANK(N!K85),\"\",N!K85)","v":""},{"$f":"IF(ISBLANK(N!L85),\"\",N!L85)","v":""},{"$f":"IF(ISBLANK(N!M85),\"\",N!M85)","v":""},{"$f":"IF(ISBLANK(N!N85),\"\",N!N85)","v":""},null,null,null,{"$f":"IF('F2'!D95=\"\",\"\",'F2'!D95)","v":""}]
[49,null,{"$f":"A!C83","v":""},null,{"$f":"IF('C'!D96=\"\",\"\",'C'!D96)","v":""},{"$f":"IF(D!D96=\"\",\"\",D!D96)","v":""},{"$f":"IF(E!D96=\"\",\"\",E!D96)","v":""},{"$f":"IF(F!D96=\"\",\"\",F!D96)","v":""},null,null,{"$f":"'H1'!C72","v":""},{"$f":"'H2'!C84","v":""},{"$f":"I!C76","v":""},null,null,null,null,null,null,null,null,null,null,null,null,null,null,null,null,null,null,null,null,null,{"$f":"IF(ISBLANK(M!E86),\"\",M!E86)","v":""},{"$f":"IF(ISBLANK(M!F86),\"\",M!F86)","v":""},{"$f":"IF(ISBLANK(M!G86),\"\",M!G86)","v":""},{"$f":"IF(ISBLANK(M!H86),\"\",M!H86)","v":""},{"$f":"IF(ISBLANK(M!I86),\"\",M!I86)","v":""},{"$f":"IF(ISBLANK(M!J86),\"\",M!J86)","v":""},{"$f":"IF(ISBLANK(M!K86),\"\",M!K86)","v":""},{"$f":"IF(ISBLANK(M!L86),\"\",M!L86)","v":""},{"$f":"IF(ISBLANK(M!M86),\"\",M!M86)","v":""},{"$f":"IF(ISBLANK(M!N86),\"\",M!N86)","v":""},{"$f":"IF(ISBLANK(N!E86),\"\",N!E86)","v":""},{"$f":"IF(ISBLANK(N!F86),\"\",N!F86)","v":""},{"$f":"IF(ISBLANK(N!G86),\"\",N!G86)","v":""},{"$f":"IF(ISBLANK(N!H86),\"\",N!H86)","v":""},{"$f":"IF(ISBLANK(N!I86),\"\",N!I86)","v":""},{"$f":"IF(ISBLANK(N!J86),\"\",N!J86)","v":""},{"$f":"IF(ISBLANK(N!K86),\"\",N!K86)","v":""},{"$f":"IF(ISBLANK(N!L86),\"\",N!L86)","v":""},{"$f":"IF(ISBLANK(N!M86),\"\",N!M86)","v":""},{"$f":"IF(ISBLANK(N!N86),\"\",N!N86)","v":""},null,null,null,{"$f":"IF('F2'!D96=\"\",\"\",'F2'!D96)","v":""}]
[50,null,{"$f":"A!C84","v":""},null,{"$f":"IF('C'!D97=\"\",\"\",'C'!D97)","v":""},{"$f":"IF(D!D97=\"\",\"\",D!D97)","v":""},{"$f":"IF(E!D97=\"\",\"\",E!D97)","v":""},{"$f":"IF(F!D97=\"\",\"\",F!D97)","v":""},null,null,{"$f":"'H1'!C73","v":""},{"$f":"'H2'!C85","v":""},{"$f":"I!C77","v":""},null,null,null,null,null,null,null,null,null,null,null,null,null,null,null,null,null,null,null,null,null,{"$f":"IF(ISBLANK(M!E87),\"\",M!E87)","v":""},{"$f":"IF(ISBLANK(M!F87),\"\",M!F87)","v":""},{"$f":"IF(ISBLANK(M!G87),\"\",M!G87)","v":""},{"$f":"IF(ISBLANK(M!H87),\"\",M!H87)","v":""},{"$f":"IF(ISBLANK(M!I87),\"\",M!I87)","v":""},{"$f":"IF(ISBLANK(M!J87),\"\",M!J87)","v":""},{"$f":"IF(ISBLANK(M!K87),\"\",M!K87)","v":""},{"$f":"IF(ISBLANK(M!L87),\"\",M!L87)","v":""},{"$f":"IF(ISBLANK(M!M87),\"\",M!M87)","v":""},{"$f":"IF(ISBLANK(M!N87),\"\",M!N87)","v":""},{"$f":"IF(ISBLANK(N!E87),\"\",N!E87)","v":""},{"$f":"IF(ISBLANK(N!F87),\"\",N!F87)","v":""},{"$f":"IF(ISBLANK(N!G87),\"\",N!G87)","v":""},{"$f":"IF(ISBLANK(N!H87),\"\",N!H87)","v":""},{"$f":"IF(ISBLANK(N!I87),\"\",N!I87)","v":""},{"$f":"IF(ISBLANK(N!J87),\"\",N!J87)","v":""},{"$f":"IF(ISBLANK(N!K87),\"\",N!K87)","v":""},{"$f":"IF(ISBLANK(N!L87),\"\",N!L87)","v":""},{"$f":"IF(ISBLANK(N!M87),\"\",N!M87)","v":""},{"$f":"IF(ISBLANK(N!N87),\"\",N!N87)","v":""},null,null,null,{"$f":"IF('F2'!D97=\"\",\"\",'F2'!D97)","v":""}]
[51,null,{"$f":"A!C85","v":""},null,{"$f":"IF('C'!D98=\"\",\"\",'C'!D98)","v":""},{"$f":"IF(D!D98=\"\",\"\",D!D98)","v":""},{"$f":"IF(E!D98=\"\",\"\",E!D98)","v":""},{"$f":"IF(F!D98=\"\",\"\",F!D98)","v":""},null,null,{"$f":"'H1'!C74","v":""},{"$f":"'H2'!C86","v":""},{"$f":"I!C78","v":""},null,null,null,null,null,null,null,null,null,null,null,null,null,null,null,null,null,null,null,null,null,{"$f":"IF(ISBLANK(M!E88),\"\",M!E88)","v":""},{"$f":"IF(ISBLANK(M!F88),\"\",M!F88)","v":""},{"$f":"IF(ISBLANK(M!G88),\"\",M!G88)","v":""},{"$f":"IF(ISBLANK(M!H88),\"\",M!H88)","v":""},{"$f":"IF(ISBLANK(M!I88),\"\",M!I88)","v":""},{"$f":"IF(ISBLANK(M!J88),\"\",M!J88)","v":""},{"$f":"IF(ISBLANK(M!K88),\"\",M!K88)","v":""},{"$f":"IF(ISBLANK(M!L88),\"\",M!L88)","v":""},{"$f":"IF(ISBLANK(M!M88),\"\",M!M88)","v":""},{"$f":"IF(ISBLANK(M!N88),\"\",M!N88)","v":""},{"$f":"IF(ISBLANK(N!E88),\"\",N!E88)","v":""},{"$f":"IF(ISBLANK(N!F88),\"\",N!F88)","v":""},{"$f":"IF(ISBLANK(N!G88),\"\",N!G88)","v":""},{"$f":"IF(ISBLANK(N!H88),\"\",N!H88)","v":""},{"$f":"IF(ISBLANK(N!I88),\"\",N!I88)","v":""},{"$f":"IF(ISBLANK(N!J88),\"\",N!J88)","v":""},{"$f":"IF(ISBLANK(N!K88),\"\",N!K88)","v":""},{"$f":"IF(ISBLANK(N!L88),\"\",N!L88)","v":""},{"$f":"IF(ISBLANK(N!M88),\"\",N!M88)","v":""},{"$f":"IF(ISBLANK(N!N88),\"\",N!N88)","v":""},null,null,null,{"$f":"IF('F2'!D98=\"\",\"\",'F2'!D98)","v":""}]
[52,null,{"$f":"A!C86","v":""},null,{"$f":"IF('C'!D99=\"\",\"\",'C'!D99)","v":""},{"$f":"IF(D!D99=\"\",\"\",D!D99)","v":""},{"$f":"IF(E!D99=\"\",\"\",E!D99)","v":""},{"$f":"IF(F!D99=\"\",\"\",F!D99)","v":""},null,null,{"$f":"'H1'!C75","v":false},{"$f":"'H2'!C87","v":""},{"$f":"I!C79","v":""},null,null,null,null,null,null,null,null,null,null,null,null,null,null,null,null,null,null,null,null,null,{"$f":"IF(ISBLANK(M!E89),\"\",M!E89)","v":""},{"$f":"IF(ISBLANK(M!F89),\"\",M!F89)","v":""},{"$f":"IF(ISBLANK(M!G89),\"\",M!G89)","v":""},{"$f":"IF(ISBLANK(M!H89),\"\",M!H89)","v":""},{"$f":"IF(ISBLANK(M!I89),\"\",M!I89)","v":""},{"$f":"IF(ISBLANK(M!J89),\"\",M!J89)","v":""},{"$f":"IF(ISBLANK(M!K89),\"\",M!K89)","v":""},{"$f":"IF(ISBLANK(M!L89),\"\",M!L89)","v":""},{"$f":"IF(ISBLANK(M!M89),\"\",M!M89)","v":""},{"$f":"IF(ISBLANK(M!N89),\"\",M!N89)","v":""},{"$f":"IF(ISBLANK(N!E89),\"\",N!E89)","v":""},{"$f":"IF(ISBLANK(N!F89),\"\",N!F89)","v":""},{"$f":"IF(ISBLANK(N!G89),\"\",N!G89)","v":""},{"$f":"IF(ISBLANK(N!H89),\"\",N!H89)","v":""},{"$f":"IF(ISBLANK(N!I89),\"\",N!I89)","v":""},{"$f":"IF(ISBLANK(N!J89),\"\",N!J89)","v":""},{"$f":"IF(ISBLANK(N!K89),\"\",N!K89)","v":""},{"$f":"IF(ISBLANK(N!L89),\"\",N!L89)","v":""},{"$f":"IF(ISBLANK(N!M89),\"\",N!M89)","v":""},{"$f":"IF(ISBLANK(N!N89),\"\",N!N89)","v":""},null,null,null,{"$f":"IF('F2'!D99=\"\",\"\",'F2'!D99)","v":""}]
[53,null,{"$f":"A!C87","v":""},null,{"$f":"IF('C'!D100=\"\",\"\",'C'!D100)","v":""},{"$f":"IF(D!D100=\"\",\"\",D!D100)","v":""},{"$f":"IF(E!D100=\"\",\"\",E!D100)","v":""},{"$f":"IF(F!D100=\"\",\"\",F!D100)","v":""},null,null,null,{"$f":"'H2'!C88","v":""},{"$f":"I!C80","v":""},null,null,null,null,null,null,null,null,null,null,null,null,null,null,null,null,null,null,null,null,null,{"$f":"IF(ISBLANK(M!E90),\"\",M!E90)","v":""},{"$f":"IF(ISBLANK(M!F90),\"\",M!F90)","v":""},{"$f":"IF(ISBLANK(M!G90),\"\",M!G90)","v":""},{"$f":"IF(ISBLANK(M!H90),\"\",M!H90)","v":""},{"$f":"IF(ISBLANK(M!I90),\"\",M!I90)","v":""},{"$f":"IF(ISBLANK(M!J90),\"\",M!J90)","v":""},{"$f":"IF(ISBLANK(M!K90),\"\",M!K90)","v":""},{"$f":"IF(ISBLANK(M!L90),\"\",M!L90)","v":""},{"$f":"IF(ISBLANK(M!M90),\"\",M!M90)","v":""},{"$f":"IF(ISBLANK(M!N90),\"\",M!N90)","v":""},{"$f":"IF(ISBLANK(N!E90),\"\",N!E90)","v":""},{"$f":"IF(ISBLANK(N!F90),\"\",N!F90)","v":""},{"$f":"IF(ISBLANK(N!G90),\"\",N!G90)","v":""},{"$f":"IF(ISBLANK(N!H90),\"\",N!H90)","v":""},{"$f":"IF(ISBLANK(N!I90),\"\",N!I90)","v":""},{"$f":"IF(ISBLANK(N!J90),\"\",N!J90)","v":""},{"$f":"IF(ISBLANK(N!K90),\"\",N!K90)","v":""},{"$f":"IF(ISBLANK(N!L90),\"\",N!L90)","v":""},{"$f":"IF(ISBLANK(N!M90),\"\",N!M90)","v":""},{"$f":"IF(ISBLANK(N!N90),\"\",N!N90)","v":""},null,null,null,{"$f":"IF('F2'!D100=\"\",\"\",'F2'!D100)","v":""}]
[54,null,{"$f":"A!C88","v":""},null,{"$f":"IF('C'!D101=\"\",\"\",'C'!D101)","v":""},{"$f":"IF(D!D101=\"\",\"\",D!D101)","v":""},{"$f":"IF(E!D101=\"\",\"\",E!D101)","v":""},{"$f":"IF(F!D101=\"\",\"\",F!D101)","v":""},null,null,null,{"$f":"'H2'!C89","v":""},null,null,null,null,null,null,null,null,null,null,null,null,null,null,null,null,null,null,null,null,null,null,{"$f":"IF(ISBLANK(M!E91),\"\",M!E91)","v":""},{"$f":"IF(ISBLANK(M!F91),\"\",M!F91)","v":""},{"$f":"IF(ISBLANK(M!G91),\"\",M!G91)","v":""},{"$f":"IF(ISBLANK(M!H91),\"\",M!H91)","v":""},{"$f":"IF(ISBLANK(M!I91),\"\",M!I91)","v":""},{"$f":"IF(ISBLANK(M!J91),\"\",M!J91)","v":""},{"$f":"IF(ISBLANK(M!K91),\"\",M!K91)","v":""},{"$f":"IF(ISBLANK(M!L91),\"\",M!L91)","v":""},{"$f":"IF(ISBLANK(M!M91),\"\",M!M91)","v":""},{"$f":"IF(ISBLANK(M!N91),\"\",M!N91)","v":""},{"$f":"IF(ISBLANK(N!E91),\"\",N!E91)","v":""},{"$f":"IF(ISBLANK(N!F91),\"\",N!F91)","v":""},{"$f":"IF(ISBLANK(N!G91),\"\",N!G91)","v":""},{"$f":"IF(ISBLANK(N!H91),\"\",N!H91)","v":""},{"$f":"IF(ISBLANK(N!I91),\"\",N!I91)","v":""},{"$f":"IF(ISBLANK(N!J91),\"\",N!J91)","v":""},{"$f":"IF(ISBLANK(N!K91),\"\",N!K91)","v":""},{"$f":"IF(ISBLANK(N!L91),\"\",N!L91)","v":""},{"$f":"IF(ISBLANK(N!M91),\"\",N!M91)","v":""},{"$f":"IF(ISBLANK(N!N91),\"\",N!N91)","v":""},null,null,null,{"$f":"IF('F2'!D101=\"\",\"\",'F2'!D101)","v":""}]
[55,null,{"$f":"A!C89","v":""},null,{"$f":"IF('C'!D102=\"\",\"\",'C'!D102)","v":""},{"$f":"IF(D!D102=\"\",\"\",D!D102)","v":""},{"$f":"IF(E!D102=\"\",\"\",E!D102)","v":""},{"$f":"IF(F!D102=\"\",\"\",F!D102)","v":""},null,null,null,{"$f":"'H2'!C90","v":""},null,null,null,null,null,null,null,null,null,null,null,null,null,null,null,null,null,null,null,null,null,null,{"$f":"IF(ISBLANK(M!E92),\"\",M!E92)","v":""},{"$f":"IF(ISBLANK(M!F92),\"\",M!F92)","v":""},{"$f":"IF(ISBLANK(M!G92),\"\",M!G92)","v":""},{"$f":"IF(ISBLANK(M!H92),\"\",M!H92)","v":""},{"$f":"IF(ISBLANK(M!I92),\"\",M!I92)","v":""},{"$f":"IF(ISBLANK(M!J92),\"\",M!J92)","v":""},{"$f":"IF(ISBLANK(M!K92),\"\",M!K92)","v":""},{"$f":"IF(ISBLANK(M!L92),\"\",M!L92)","v":""},{"$f":"IF(ISBLANK(M!M92),\"\",M!M92)","v":""},{"$f":"IF(ISBLANK(M!N92),\"\",M!N92)","v":""},{"$f":"IF(ISBLANK(N!E92),\"\",N!E92)","v":""},{"$f":"IF(ISBLANK(N!F92),\"\",N!F92)","v":""},{"$f":"IF(ISBLANK(N!G92),\"\",N!G92)","v":""},{"$f":"IF(ISBLANK(N!H92),\"\",N!H92)","v":""},{"$f":"IF(ISBLANK(N!I92),\"\",N!I92)","v":""},{"$f":"IF(ISBLANK(N!J92),\"\",N!J92)","v":""},{"$f":"IF(ISBLANK(N!K92),\"\",N!K92)","v":""},{"$f":"IF(ISBLANK(N!L92),\"\",N!L92)","v":""},{"$f":"IF(ISBLANK(N!M92),\"\",N!M92)","v":""},{"$f":"IF(ISBLANK(N!N92),\"\",N!N92)","v":""},null,null,null,{"$f":"IF('F2'!D102=\"\",\"\",'F2'!D102)","v":""}]
[56,null,{"$f":"A!C90","v":""},null,{"$f":"IF('C'!D103=\"\",\"\",'C'!D103)","v":""},{"$f":"IF(D!D103=\"\",\"\",D!D103)","v":""},{"$f":"IF(E!D103=\"\",\"\",E!D103)","v":""},{"$f":"IF(F!D103=\"\",\"\",F!D103)","v":""},null,null,null,{"$f":"'H2'!C91","v":""},null,null,null,null,null,null,null,null,null,null,null,null,null,null,null,null,null,null,null,null,null,null,{"$f":"IF(ISBLANK(M!E93),\"\",M!E93)","v":""},{"$f":"IF(ISBLANK(M!F93),\"\",M!F93)","v":""},{"$f":"IF(ISBLANK(M!G93),\"\",M!G93)","v":""},{"$f":"IF(ISBLANK(M!H93),\"\",M!H93)","v":""},{"$f":"IF(ISBLANK(M!I93),\"\",M!I93)","v":""},{"$f":"IF(ISBLANK(M!J93),\"\",M!J93)","v":""},{"$f":"IF(ISBLANK(M!K93),\"\",M!K93)","v":""},{"$f":"IF(ISBLANK(M!L93),\"\",M!L93)","v":""},{"$f":"IF(ISBLANK(M!M93),\"\",M!M93)","v":""},{"$f":"IF(ISBLANK(M!N93),\"\",M!N93)","v":""},{"$f":"IF(ISBLANK(N!E93),\"\",N!E93)","v":""},{"$f":"IF(ISBLANK(N!F93),\"\",N!F93)","v":""},{"$f":"IF(ISBLANK(N!G93),\"\",N!G93)","v":""},{"$f":"IF(ISBLANK(N!H93),\"\",N!H93)","v":""},{"$f":"IF(ISBLANK(N!I93),\"\",N!I93)","v":""},{"$f":"IF(ISBLANK(N!J93),\"\",N!J93)","v":""},{"$f":"IF(ISBLANK(N!K93),\"\",N!K93)","v":""},{"$f":"IF(ISBLANK(N!L93),\"\",N!L93)","v":""},{"$f":"IF(ISBLANK(N!M93),\"\",N!M93)","v":""},{"$f":"IF(ISBLANK(N!N93),\"\",N!N93)","v":""},null,null,null,{"$f":"IF('F2'!D103=\"\",\"\",'F2'!D103)","v":""}]
[57,null,{"$f":"A!C91","v":""},null,{"$f":"IF('C'!D104=\"\",\"\",'C'!D104)","v":""},{"$f":"IF(D!D104=\"\",\"\",D!D104)","v":""},{"$f":"IF(E!D104=\"\",\"\",E!D104)","v":""},{"$f":"IF(F!D104=\"\",\"\",F!D104)","v":""},null,null,null,{"$f":"'H2'!C92","v":""},null,null,null,null,null,null,null,null,null,null,null,null,null,null,null,null,null,null,null,null,null,null,{"$f":"IF(ISBLANK(M!E94),\"\",M!E94)","v":""},{"$f":"IF(ISBLANK(M!F94),\"\",M!F94)","v":""},{"$f":"IF(ISBLANK(M!G94),\"\",M!G94)","v":""},{"$f":"IF(ISBLANK(M!H94),\"\",M!H94)","v":""},{"$f":"IF(ISBLANK(M!I94),\"\",M!I94)","v":""},{"$f":"IF(ISBLANK(M!J94),\"\",M!J94)","v":""},{"$f":"IF(ISBLANK(M!K94),\"\",M!K94)","v":""},{"$f":"IF(ISBLANK(M!L94),\"\",M!L94)","v":""},{"$f":"IF(ISBLANK(M!M94),\"\",M!M94)","v":""},{"$f":"IF(ISBLANK(M!N94),\"\",M!N94)","v":""},{"$f":"IF(ISBLANK(N!E94),\"\",N!E94)","v":""},{"$f":"IF(ISBLANK(N!F94),\"\",N!F94)","v":""},{"$f":"IF(ISBLANK(N!G94),\"\",N!G94)","v":""},{"$f":"IF(ISBLANK(N!H94),\"\",N!H94)","v":""},{"$f":"IF(ISBLANK(N!I94),\"\",N!I94)","v":""},{"$f":"IF(ISBLANK(N!J94),\"\",N!J94)","v":""},{"$f":"IF(ISBLANK(N!K94),\"\",N!K94)","v":""},{"$f":"IF(ISBLANK(N!L94),\"\",N!L94)","v":""},{"$f":"IF(ISBLANK(N!M94),\"\",N!M94)","v":""},{"$f":"IF(ISBLANK(N!N94),\"\",N!N94)","v":""},null,null,null,{"$f":"IF('F2'!D104=\"\",\"\",'F2'!D104)","v":""}]
[58,null,{"$f":"A!C92","v":""},null,{"$f":"IF('C'!D105=\"\",\"\",'C'!D105)","v":""},{"$f":"IF(D!D105=\"\",\"\",D!D105)","v":""},{"$f":"IF(E!D105=\"\",\"\",E!D105)","v":""},{"$f":"IF(F!D105=\"\",\"\",F!D105)","v":""},null,null,null,{"$f":"'H2'!C93","v":""},null,null,null,null,null,null,null,null,null,null,null,null,null,null,null,null,null,null,null,null,null,null,{"$f":"IF(ISBLANK(M!E95),\"\",M!E95)","v":""},{"$f":"IF(ISBLANK(M!F95),\"\",M!F95)","v":""},{"$f":"IF(ISBLANK(M!G95),\"\",M!G95)","v":""},{"$f":"IF(ISBLANK(M!H95),\"\",M!H95)","v":""},{"$f":"IF(ISBLANK(M!I95),\"\",M!I95)","v":""},{"$f":"IF(ISBLANK(M!J95),\"\",M!J95)","v":""},{"$f":"IF(ISBLANK(M!K95),\"\",M!K95)","v":""},{"$f":"IF(ISBLANK(M!L95),\"\",M!L95)","v":""},{"$f":"IF(ISBLANK(M!M95),\"\",M!M95)","v":""},{"$f":"IF(ISBLANK(M!N95),\"\",M!N95)","v":""},{"$f":"IF(ISBLANK(N!E95),\"\",N!E95)","v":""},{"$f":"IF(ISBLANK(N!F95),\"\",N!F95)","v":""},{"$f":"IF(ISBLANK(N!G95),\"\",N!G95)","v":""},{"$f":"IF(ISBLANK(N!H95),\"\",N!H95)","v":""},{"$f":"IF(ISBLANK(N!I95),\"\",N!I95)","v":""},{"$f":"IF(ISBLANK(N!J95),\"\",N!J95)","v":""},{"$f":"IF(ISBLANK(N!K95),\"\",N!K95)","v":""},{"$f":"IF(ISBLANK(N!L95),\"\",N!L95)","v":""},{"$f":"IF(ISBLANK(N!M95),\"\",N!M95)","v":""},{"$f":"IF(ISBLANK(N!N95),\"\",N!N95)","v":""},null,null,null,{"$f":"IF('F2'!D105=\"\",\"\",'F2'!D105)","v":""}]
[59,null,{"$f":"A!C93","v":""},null,{"$f":"IF('C'!D106=\"\",\"\",'C'!D106)","v":""},{"$f":"IF(D!D106=\"\",\"\",D!D106)","v":""},{"$f":"IF(E!D106=\"\",\"\",E!D106)","v":""},{"$f":"IF(F!D106=\"\",\"\",F!D106)","v":""},null,null,null,{"$f":"'H2'!C94","v":""},null,null,null,null,null,null,null,null,null,null,null,null,null,null,null,null,null,null,null,null,null,null,{"$f":"IF(ISBLANK(M!E96),\"\",M!E96)","v":""},{"$f":"IF(ISBLANK(M!F96),\"\",M!F96)","v":""},{"$f":"IF(ISBLANK(M!G96),\"\",M!G96)","v":""},{"$f":"IF(ISBLANK(M!H96),\"\",M!H96)","v":""},{"$f":"IF(ISBLANK(M!I96),\"\",M!I96)","v":""},{"$f":"IF(ISBLANK(M!J96),\"\",M!J96)","v":""},{"$f":"IF(ISBLANK(M!K96),\"\",M!K96)","v":""},{"$f":"IF(ISBLANK(M!L96),\"\",M!L96)","v":""},{"$f":"IF(ISBLANK(M!M96),\"\",M!M96)","v":""},{"$f":"IF(ISBLANK(M!N96),\"\",M!N96)","v":""},{"$f":"IF(ISBLANK(N!E96),\"\",N!E96)","v":""},{"$f":"IF(ISBLANK(N!F96),\"\",N!F96)","v":""},{"$f":"IF(ISBLANK(N!G96),\"\",N!G96)","v":""},{"$f":"IF(ISBLANK(N!H96),\"\",N!H96)","v":""},{"$f":"IF(ISBLANK(N!I96),\"\",N!I96)","v":""},{"$f":"IF(ISBLANK(N!J96),\"\",N!J96)","v":""},{"$f":"IF(ISBLANK(N!K96),\"\",N!K96)","v":""},{"$f":"IF(ISBLANK(N!L96),\"\",N!L96)","v":""},{"$f":"IF(ISBLANK(N!M96),\"\",N!M96)","v":""},{"$f":"IF(ISBLANK(N!N96),\"\",N!N96)","v":""},null,null,null,{"$f":"IF('F2'!D106=\"\",\"\",'F2'!D106)","v":""}]
[60,null,{"$f":"A!C94","v":""},null,{"$f":"IF('C'!D107=\"\",\"\",'C'!D107)","v":""},{"$f":"IF(D!D107=\"\",\"\",D!D107)","v":""},{"$f":"IF(E!D107=\"\",\"\",E!D107)","v":""},{"$f":"IF(F!D107=\"\",\"\",F!D107)","v":""},null,null,null,{"$f":"'H2'!C95","v":""},null,null,null,null,null,null,null,null,null,null,null,null,null,null,null,null,null,null,null,null,null,null,{"$f":"IF(ISBLANK(M!E97),\"\",M!E97)","v":""},{"$f":"IF(ISBLANK(M!F97),\"\",M!F97)","v":""},{"$f":"IF(ISBLANK(M!G97),\"\",M!G97)","v":""},{"$f":"IF(ISBLANK(M!H97),\"\",M!H97)","v":""},{"$f":"IF(ISBLANK(M!I97),\"\",M!I97)","v":""},{"$f":"IF(ISBLANK(M!J97),\"\",M!J97)","v":""},{"$f":"IF(ISBLANK(M!K97),\"\",M!K97)","v":""},{"$f":"IF(ISBLANK(M!L97),\"\",M!L97)","v":""},{"$f":"IF(ISBLANK(M!M97),\"\",M!M97)","v":""},{"$f":"IF(ISBLANK(M!N97),\"\",M!N97)","v":""},{"$f":"IF(ISBLANK(N!E97),\"\",N!E97)","v":""},{"$f":"IF(ISBLANK(N!F97),\"\",N!F97)","v":""},{"$f":"IF(ISBLANK(N!G97),\"\",N!G97)","v":""},{"$f":"IF(ISBLANK(N!H97),\"\",N!H97)","v":""},{"$f":"IF(ISBLANK(N!I97),\"\",N!I97)","v":""},{"$f":"IF(ISBLANK(N!J97),\"\",N!J97)","v":""},{"$f":"IF(ISBLANK(N!K97),\"\",N!K97)","v":""},{"$f":"IF(ISBLANK(N!L97),\"\",N!L97)","v":""},{"$f":"IF(ISBLANK(N!M97),\"\",N!M97)","v":""},{"$f":"IF(ISBLANK(N!N97),\"\",N!N97)","v":""},null,null,null,{"$f":"IF('F2'!D107=\"\",\"\",'F2'!D107)","v":""}]
[61,null,{"$f":"A!C95","v":""},null,{"$f":"IF('C'!D108=\"\",\"\",'C'!D108)","v":""},{"$f":"IF(D!D108=\"\",\"\",D!D108)","v":""},{"$f":"IF(E!D108=\"\",\"\",E!D108)","v":""},{"$f":"IF(F!D108=\"\",\"\",F!D108)","v":""},null,null,null,{"$f":"'H2'!C96","v":""},null,null,null,null,null,null,null,null,null,null,null,null,null,null,null,null,null,null,null,null,null,null,{"$f":"IF(ISBLANK(M!E98),\"\",M!E98)","v":""},{"$f":"IF(ISBLANK(M!F98),\"\",M!F98)","v":""},{"$f":"IF(ISBLANK(M!G98),\"\",M!G98)","v":""},{"$f":"IF(ISBLANK(M!H98),\"\",M!H98)","v":""},{"$f":"IF(ISBLANK(M!I98),\"\",M!I98)","v":""},{"$f":"IF(ISBLANK(M!J98),\"\",M!J98)","v":""},{"$f":"IF(ISBLANK(M!K98),\"\",M!K98)","v":""},{"$f":"IF(ISBLANK(M!L98),\"\",M!L98)","v":""},{"$f":"IF(ISBLANK(M!M98),\"\",M!M98)","v":""},{"$f":"IF(ISBLANK(M!N98),\"\",M!N98)","v":""},{"$f":"IF(ISBLANK(N!E98),\"\",N!E98)","v":""},{"$f":"IF(ISBLANK(N!F98),\"\",N!F98)","v":""},{"$f":"IF(ISBLANK(N!G98),\"\",N!G98)","v":""},{"$f":"IF(ISBLANK(N!H98),\"\",N!H98)","v":""},{"$f":"IF(ISBLANK(N!I98),\"\",N!I98)","v":""},{"$f":"IF(ISBLANK(N!J98),\"\",N!J98)","v":""},{"$f":"IF(ISBLANK(N!K98),\"\",N!K98)","v":""},{"$f":"IF(ISBLANK(N!L98),\"\",N!L98)","v":""},{"$f":"IF(ISBLANK(N!M98),\"\",N!M98)","v":""},{"$f":"IF(ISBLANK(N!N98),\"\",N!N98)","v":""},null,null,null,{"$f":"IF('F2'!D108=\"\",\"\",'F2'!D108)","v":""}]
[62,null,{"$f":"A!C96","v":""},null,{"$f":"IF('C'!D109=\"\",\"\",'C'!D109)","v":""},{"$f":"IF(D!D109=\"\",\"\",D!D109)","v":""},{"$f":"IF(E!D109=\"\",\"\",E!D109)","v":""},{"$f":"IF(F!D109=\"\",\"\",F!D109)","v":""},null,null,null,{"$f":"'H2'!C97","v":""},null,null,null,null,null,null,null,null,null,null,null,null,null,null,null,null,null,null,null,null,null,null,{"$f":"IF(ISBLANK(M!E99),\"\",M!E99)","v":""},{"$f":"IF(ISBLANK(M!F99),\"\",M!F99)","v":""},{"$f":"IF(ISBLANK(M!G99),\"\",M!G99)","v":""},{"$f":"IF(ISBLANK(M!H99),\"\",M!H99)","v":""},{"$f":"IF(ISBLANK(M!I99),\"\",M!I99)","v":""},{"$f":"IF(ISBLANK(M!J99),\"\",M!J99)","v":""},{"$f":"IF(ISBLANK(M!K99),\"\",M!K99)","v":""},{"$f":"IF(ISBLANK(M!L99),\"\",M!L99)","v":""},{"$f":"IF(ISBLANK(M!M99),\"\",M!M99)","v":""},{"$f":"IF(ISBLANK(M!N99),\"\",M!N99)","v":""},{"$f":"IF(ISBLANK(N!E99),\"\",N!E99)","v":""},{"$f":"IF(ISBLANK(N!F99),\"\",N!F99)","v":""},{"$f":"IF(ISBLANK(N!G99),\"\",N!G99)","v":""},{"$f":"IF(ISBLANK(N!H99),\"\",N!H99)","v":""},{"$f":"IF(ISBLANK(N!I99),\"\",N!I99)","v":""},{"$f":"IF(ISBLANK(N!J99),\"\",N!J99)","v":""},{"$f":"IF(ISBLANK(N!K99),\"\",N!K99)","v":""},{"$f":"IF(ISBLANK(N!L99),\"\",N!L99)","v":""},{"$f":"IF(ISBLANK(N!M99),\"\",N!M99)","v":""},{"$f":"IF(ISBLANK(N!N99),\"\",N!N99)","v":""},null,null,null,{"$f":"IF('F2'!D109=\"\",\"\",'F2'!D109)","v":""}]
[63,null,{"$f":"A!C97","v":""},null,{"$f":"IF('C'!D110=\"\",\"\",'C'!D110)","v":""},{"$f":"IF(D!D110=\"\",\"\",D!D110)","v":""},{"$f":"IF(E!D110=\"\",\"\",E!D110)","v":""},{"$f":"IF(F!D110=\"\",\"\",F!D110)","v":""},null,null,null,null,null,null,null,null,null,null,null,null,null,null,null,null,null,null,null,null,null,null,null,null,null,null,{"$f":"IF(ISBLANK(M!E100),\"\",M!E100)","v":""},{"$f":"IF(ISBLANK(M!F100),\"\",M!F100)","v":""},{"$f":"IF(ISBLANK(M!G100),\"\",M!G100)","v":""},{"$f":"IF(ISBLANK(M!H100),\"\",M!H100)","v":""},{"$f":"IF(ISBLANK(M!I100),\"\",M!I100)","v":""},{"$f":"IF(ISBLANK(M!J100),\"\",M!J100)","v":""},{"$f":"IF(ISBLANK(M!K100),\"\",M!K100)","v":""},{"$f":"IF(ISBLANK(M!L100),\"\",M!L100)","v":""},{"$f":"IF(ISBLANK(M!M100),\"\",M!M100)","v":""},{"$f":"IF(ISBLANK(M!N100),\"\",M!N100)","v":""},{"$f":"IF(ISBLANK(N!E100),\"\",N!E100)","v":""},{"$f":"IF(ISBLANK(N!F100),\"\",N!F100)","v":""},{"$f":"IF(ISBLANK(N!G100),\"\",N!G100)","v":""},{"$f":"IF(ISBLANK(N!H100),\"\",N!H100)","v":""},{"$f":"IF(ISBLANK(N!I100),\"\",N!I100)","v":""},{"$f":"IF(ISBLANK(N!J100),\"\",N!J100)","v":""},{"$f":"IF(ISBLANK(N!K100),\"\",N!K100)","v":""},{"$f":"IF(ISBLANK(N!L100),\"\",N!L100)","v":""},{"$f":"IF(ISBLANK(N!M100),\"\",N!M100)","v":""},{"$f":"IF(ISBLANK(N!N100),\"\",N!N100)","v":""},null,null,null,{"$f":"IF('F2'!D110=\"\",\"\",'F2'!D110)","v":""}]
[64,null,{"$f":"A!C98","v":""},null,{"$f":"IF('C'!D111=\"\",\"\",'C'!D111)","v":""},{"$f":"IF(D!D111=\"\",\"\",D!D111)","v":""},{"$f":"IF(E!D111=\"\",\"\",E!D111)","v":""},{"$f":"IF(F!D111=\"\",\"\",F!D111)","v":""},null,null,null,null,null,null,null,null,null,null,null,null,null,null,null,null,null,null,null,null,null,null,null,null,null,null,{"$f":"IF(ISBLANK(M!E101),\"\",M!E101)","v":""},{"$f":"IF(ISBLANK(M!F101),\"\",M!F101)","v":""},{"$f":"IF(ISBLANK(M!G101),\"\",M!G101)","v":""},{"$f":"IF(ISBLANK(M!H101),\"\",M!H101)","v":""},{"$f":"IF(ISBLANK(M!I101),\"\",M!I101)","v":""},{"$f":"IF(ISBLANK(M!J101),\"\",M!J101)","v":""},{"$f":"IF(ISBLANK(M!K101),\"\",M!K101)","v":""},{"$f":"IF(ISBLANK(M!L101),\"\",M!L101)","v":""},{"$f":"IF(ISBLANK(M!M101),\"\",M!M101)","v":""},{"$f":"IF(ISBLANK(M!N101),\"\",M!N101)","v":""},{"$f":"IF(ISBLANK(N!E101),\"\",N!E101)","v":""},{"$f":"IF(ISBLANK(N!F101),\"\",N!F101)","v":""},{"$f":"IF(ISBLANK(N!G101),\"\",N!G101)","v":""},{"$f":"IF(ISBLANK(N!H101),\"\",N!H101)","v":""},{"$f":"IF(ISBLANK(N!I101),\"\",N!I101)","v":""},{"$f":"IF(ISBLANK(N!J101),\"\",N!J101)","v":""},{"$f":"IF(ISBLANK(N!K101),\"\",N!K101)","v":""},{"$f":"IF(ISBLANK(N!L101),\"\",N!L101)","v":""},{"$f":"IF(ISBLANK(N!M101),\"\",N!M101)","v":""},{"$f":"IF(ISBLANK(N!N101),\"\",N!N101)","v":""},null,null,null,{"$f":"IF('F2'!D111=\"\",\"\",'F2'!D111)","v":""}]
[65,null,{"$f":"A!C99","v":""},null,{"$f":"IF('C'!D112=\"\",\"\",'C'!D112)","v":""},{"$f":"IF(D!D112=\"\",\"\",D!D112)","v":""},{"$f":"IF(E!D112=\"\",\"\",E!D112)","v":""},{"$f":"IF(F!D112=\"\",\"\",F!D112)","v":""},null,null,null,null,null,null,null,null,null,null,null,null,null,null,null,null,null,null,null,null,null,null,null,null,null,null,{"$f":"IF(ISBLANK(M!E102),\"\",M!E102)","v":""},{"$f":"IF(ISBLANK(M!F102),\"\",M!F102)","v":""},{"$f":"IF(ISBLANK(M!G102),\"\",M!G102)","v":""},{"$f":"IF(ISBLANK(M!H102),\"\",M!H102)","v":""},{"$f":"IF(ISBLANK(M!I102),\"\",M!I102)","v":""},{"$f":"IF(ISBLANK(M!J102),\"\",M!J102)","v":""},{"$f":"IF(ISBLANK(M!K102),\"\",M!K102)","v":""},{"$f":"IF(ISBLANK(M!L102),\"\",M!L102)","v":""},{"$f":"IF(ISBLANK(M!M102),\"\",M!M102)","v":""},{"$f":"IF(ISBLANK(M!N102),\"\",M!N102)","v":""},{"$f":"IF(ISBLANK(N!E102),\"\",N!E102)","v":""},{"$f":"IF(ISBLANK(N!F102),\"\",N!F102)","v":""},{"$f":"IF(ISBLANK(N!G102),\"\",N!G102)","v":""},{"$f":"IF(ISBLANK(N!H102),\"\",N!H102)","v":""},{"$f":"IF(ISBLANK(N!I102),\"\",N!I102)","v":""},{"$f":"IF(ISBLANK(N!J102),\"\",N!J102)","v":""},{"$f":"IF(ISBLANK(N!K102),\"\",N!K102)","v":""},{"$f":"IF(ISBLANK(N!L102),\"\",N!L102)","v":""},{"$f":"IF(ISBLANK(N!M102),\"\",N!M102)","v":""},{"$f":"IF(ISBLANK(N!N102),\"\",N!N102)","v":""},null,null,null,{"$f":"IF('F2'!D112=\"\",\"\",'F2'!D112)","v":""}]
[66,null,{"$f":"A!C100","v":""},null,{"$f":"IF('C'!D113=\"\",\"\",'C'!D113)","v":""},{"$f":"IF(D!D113=\"\",\"\",D!D113)","v":""},{"$f":"IF(E!D113=\"\",\"\",E!D113)","v":""},{"$f":"IF(F!D113=\"\",\"\",F!D113)","v":""},null,null,null,null,null,null,null,null,null,null,null,null,null,null,null,null,null,null,null,null,null,null,null,null,null,null,{"$f":"IF(ISBLANK(M!E103),\"\",M!E103)","v":""},{"$f":"IF(ISBLANK(M!F103),\"\",M!F103)","v":""},{"$f":"IF(ISBLANK(M!G103),\"\",M!G103)","v":""},{"$f":"IF(ISBLANK(M!H103),\"\",M!H103)","v":""},{"$f":"IF(ISBLANK(M!I103),\"\",M!I103)","v":""},{"$f":"IF(ISBLANK(M!J103),\"\",M!J103)","v":""},{"$f":"IF(ISBLANK(M!K103),\"\",M!K103)","v":""},{"$f":"IF(ISBLANK(M!L103),\"\",M!L103)","v":""},{"$f":"IF(ISBLANK(M!M103),\"\",M!M103)","v":""},{"$f":"IF(ISBLANK(M!N103),\"\",M!N103)","v":""},{"$f":"IF(ISBLANK(N!E103),\"\",N!E103)","v":""},{"$f":"IF(ISBLANK(N!F103),\"\",N!F103)","v":""},{"$f":"IF(ISBLANK(N!G103),\"\",N!G103)","v":""},{"$f":"IF(ISBLANK(N!H103),\"\",N!H103)","v":""},{"$f":"IF(ISBLANK(N!I103),\"\",N!I103)","v":""},{"$f":"IF(ISBLANK(N!J103),\"\",N!J103)","v":""},{"$f":"IF(ISBLANK(N!K103),\"\",N!K103)","v":""},{"$f":"IF(ISBLANK(N!L103),\"\",N!L103)","v":""},{"$f":"IF(ISBLANK(N!M103),\"\",N!M103)","v":""},{"$f":"IF(ISBLANK(N!N103),\"\",N!N103)","v":""},null,null,null,{"$f":"IF('F2'!D113=\"\",\"\",'F2'!D113)","v":""}]
[67,null,{"$f":"A!C101","v":""},null,{"$f":"IF('C'!D114=\"\",\"\",'C'!D114)","v":""},{"$f":"IF(D!D114=\"\",\"\",D!D114)","v":""},{"$f":"IF(E!D114=\"\",\"\",E!D114)","v":""},{"$f":"IF(F!D114=\"\",\"\",F!D114)","v":""},null,null,null,null,null,null,null,null,null,null,null,null,null,null,null,null,null,null,null,null,null,null,null,null,null,null,{"$f":"IF(ISBLANK(M!E104),\"\",M!E104)","v":""},{"$f":"IF(ISBLANK(M!F104),\"\",M!F104)","v":""},{"$f":"IF(ISBLANK(M!G104),\"\",M!G104)","v":""},{"$f":"IF(ISBLANK(M!H104),\"\",M!H104)","v":""},{"$f":"IF(ISBLANK(M!I104),\"\",M!I104)","v":""},{"$f":"IF(ISBLANK(M!J104),\"\",M!J104)","v":""},{"$f":"IF(ISBLANK(M!K104),\"\",M!K104)","v":""},{"$f":"IF(ISBLANK(M!L104),\"\",M!L104)","v":""},{"$f":"IF(ISBLANK(M!M104),\"\",M!M104)","v":""},{"$f":"IF(ISBLANK(M!N104),\"\",M!N104)","v":""},{"$f":"IF(ISBLANK(N!E104),\"\",N!E104)","v":""},{"$f":"IF(ISBLANK(N!F104),\"\",N!F104)","v":""},{"$f":"IF(ISBLANK(N!G104),\"\",N!G104)","v":""},{"$f":"IF(ISBLANK(N!H104),\"\",N!H104)","v":""},{"$f":"IF(ISBLANK(N!I104),\"\",N!I104)","v":""},{"$f":"IF(ISBLANK(N!J104),\"\",N!J104)","v":""},{"$f":"IF(ISBLANK(N!K104),\"\",N!K104)","v":""},{"$f":"IF(ISBLANK(N!L104),\"\",N!L104)","v":""},{"$f":"IF(ISBLANK(N!M104),\"\",N!M104)","v":""},{"$f":"IF(ISBLANK(N!N104),\"\",N!N104)","v":""},null,null,null,{"$f":"IF('F2'!D114=\"\",\"\",'F2'!D114)","v":""}]
[68,null,{"$f":"A!C102","v":""},null,{"$f":"IF('C'!D115=\"\",\"\",'C'!D115)","v":""},{"$f":"IF(D!D115=\"\",\"\",D!D115)","v":""},{"$f":"IF(E!D115=\"\",\"\",E!D115)","v":""},{"$f":"IF(F!D115=\"\",\"\",F!D115)","v":""},null,null,null,null,null,null,null,null,null,null,null,null,null,null,null,null,null,null,null,null,null,null,null,null,null,null,{"$f":"IF(ISBLANK(M!E105),\"\",M!E105)","v":""},{"$f":"IF(ISBLANK(M!F105),\"\",M!F105)","v":""},{"$f":"IF(ISBLANK(M!G105),\"\",M!G105)","v":""},{"$f":"IF(ISBLANK(M!H105),\"\",M!H105)","v":""},{"$f":"IF(ISBLANK(M!I105),\"\",M!I105)","v":""},{"$f":"IF(ISBLANK(M!J105),\"\",M!J105)","v":""},{"$f":"IF(ISBLANK(M!K105),\"\",M!K105)","v":""},{"$f":"IF(ISBLANK(M!L105),\"\",M!L105)","v":""},{"$f":"IF(ISBLANK(M!M105),\"\",M!M105)","v":""},{"$f":"IF(ISBLANK(M!N105),\"\",M!N105)","v":""},{"$f":"IF(ISBLANK(N!E105),\"\",N!E105)","v":""},{"$f":"IF(ISBLANK(N!F105),\"\",N!F105)","v":""},{"$f":"IF(ISBLANK(N!G105),\"\",N!G105)","v":""},{"$f":"IF(ISBLANK(N!H105),\"\",N!H105)","v":""},{"$f":"IF(ISBLANK(N!I105),\"\",N!I105)","v":""},{"$f":"IF(ISBLANK(N!J105),\"\",N!J105)","v":""},{"$f":"IF(ISBLANK(N!K105),\"\",N!K105)","v":""},{"$f":"IF(ISBLANK(N!L105),\"\",N!L105)","v":""},{"$f":"IF(ISBLANK(N!M105),\"\",N!M105)","v":""},{"$f":"IF(ISBLANK(N!N105),\"\",N!N105)","v":""},null,null,null,{"$f":"IF('F2'!D115=\"\",\"\",'F2'!D115)","v":""}]
[69,null,{"$f":"A!C103","v":""},null,{"$f":"IF('C'!D116=\"\",\"\",'C'!D116)","v":""},{"$f":"IF(D!D116=\"\",\"\",D!D116)","v":""},{"$f":"IF(E!D116=\"\",\"\",E!D116)","v":""},{"$f":"IF(F!D116=\"\",\"\",F!D116)","v":""},null,null,null,null,null,null,null,null,null,null,null,null,null,null,null,null,null,null,null,null,null,null,null,null,null,null,{"$f":"IF(ISBLANK(M!E106),\"\",M!E106)","v":""},{"$f":"IF(ISBLANK(M!F106),\"\",M!F106)","v":""},{"$f":"IF(ISBLANK(M!G106),\"\",M!G106)","v":""},{"$f":"IF(ISBLANK(M!H106),\"\",M!H106)","v":""},{"$f":"IF(ISBLANK(M!I106),\"\",M!I106)","v":""},{"$f":"IF(ISBLANK(M!J106),\"\",M!J106)","v":""},{"$f":"IF(ISBLANK(M!K106),\"\",M!K106)","v":""},{"$f":"IF(ISBLANK(M!L106),\"\",M!L106)","v":""},{"$f":"IF(ISBLANK(M!M106),\"\",M!M106)","v":""},{"$f":"IF(ISBLANK(M!N106),\"\",M!N106)","v":""},{"$f":"IF(ISBLANK(N!E106),\"\",N!E106)","v":""},{"$f":"IF(ISBLANK(N!F106),\"\",N!F106)","v":""},{"$f":"IF(ISBLANK(N!G106),\"\",N!G106)","v":""},{"$f":"IF(ISBLANK(N!H106),\"\",N!H106)","v":""},{"$f":"IF(ISBLANK(N!I106),\"\",N!I106)","v":""},{"$f":"IF(ISBLANK(N!J106),\"\",N!J106)","v":""},{"$f":"IF(ISBLANK(N!K106),\"\",N!K106)","v":""},{"$f":"IF(ISBLANK(N!L106),\"\",N!L106)","v":""},{"$f":"IF(ISBLANK(N!M106),\"\",N!M106)","v":""},{"$f":"IF(ISBLANK(N!N106),\"\",N!N106)","v":""},null,null,null,{"$f":"IF('F2'!D116=\"\",\"\",'F2'!D116)","v":""}]
[70,null,{"$f":"A!C104","v":""},null,{"$f":"IF('C'!D117=\"\",\"\",'C'!D117)","v":""},{"$f":"IF(D!D117=\"\",\"\",D!D117)","v":""},{"$f":"IF(E!D117=\"\",\"\",E!D117)","v":""},{"$f":"IF(F!D117=\"\",\"\",F!D117)","v":""},null,null,null,null,null,null,null,null,null,null,null,null,null,null,null,null,null,null,null,null,null,null,null,null,null,null,{"$f":"IF(ISBLANK(M!E107),\"\",M!E107)","v":""},{"$f":"IF(ISBLANK(M!F107),\"\",M!F107)","v":""},{"$f":"IF(ISBLANK(M!G107),\"\",M!G107)","v":""},{"$f":"IF(ISBLANK(M!H107),\"\",M!H107)","v":""},{"$f":"IF(ISBLANK(M!I107),\"\",M!I107)","v":""},{"$f":"IF(ISBLANK(M!J107),\"\",M!J107)","v":""},{"$f":"IF(ISBLANK(M!K107),\"\",M!K107)","v":""},{"$f":"IF(ISBLANK(M!L107),\"\",M!L107)","v":""},{"$f":"IF(ISBLANK(M!M107),\"\",M!M107)","v":""},{"$f":"IF(ISBLANK(M!N107),\"\",M!N107)","v":""},{"$f":"IF(ISBLANK(N!E107),\"\",N!E107)","v":""},{"$f":"IF(ISBLANK(N!F107),\"\",N!F107)","v":""},{"$f":"IF(ISBLANK(N!G107),\"\",N!G107)","v":""},{"$f":"IF(ISBLANK(N!H107),\"\",N!H107)","v":""},{"$f":"IF(ISBLANK(N!I107),\"\",N!I107)","v":""},{"$f":"IF(ISBLANK(N!J107),\"\",N!J107)","v":""},{"$f":"IF(ISBLANK(N!K107),\"\",N!K107)","v":""},{"$f":"IF(ISBLANK(N!L107),\"\",N!L107)","v":""},{"$f":"IF(ISBLANK(N!M107),\"\",N!M107)","v":""},{"$f":"IF(ISBLANK(N!N107),\"\",N!N107)","v":""},null,null,null,{"$f":"IF('F2'!D117=\"\",\"\",'F2'!D117)","v":""}]
[71,null,{"$f":"A!C105","v":""},null,{"$f":"IF('C'!D118=\"\",\"\",'C'!D118)","v":""},{"$f":"IF(D!D118=\"\",\"\",D!D118)","v":""},{"$f":"IF(E!D118=\"\",\"\",E!D118)","v":""},{"$f":"IF(F!D118=\"\",\"\",F!D118)","v":""},null,null,null,null,null,null,null,null,null,null,null,null,null,null,null,null,null,null,null,null,null,null,null,null,null,null,{"$f":"IF(ISBLANK(M!E108),\"\",M!E108)","v":""},{"$f":"IF(ISBLANK(M!F108),\"\",M!F108)","v":""},{"$f":"IF(ISBLANK(M!G108),\"\",M!G108)","v":""},{"$f":"IF(ISBLANK(M!H108),\"\",M!H108)","v":""},{"$f":"IF(ISBLANK(M!I108),\"\",M!I108)","v":""},{"$f":"IF(ISBLANK(M!J108),\"\",M!J108)","v":""},{"$f":"IF(ISBLANK(M!K108),\"\",M!K108)","v":""},{"$f":"IF(ISBLANK(M!L108),\"\",M!L108)","v":""},{"$f":"IF(ISBLANK(M!M108),\"\",M!M108)","v":""},{"$f":"IF(ISBLANK(M!N108),\"\",M!N108)","v":""},{"$f":"IF(ISBLANK(N!E108),\"\",N!E108)","v":""},{"$f":"IF(ISBLANK(N!F108),\"\",N!F108)","v":""},{"$f":"IF(ISBLANK(N!G108),\"\",N!G108)","v":""},{"$f":"IF(ISBLANK(N!H108),\"\",N!H108)","v":""},{"$f":"IF(ISBLANK(N!I108),\"\",N!I108)","v":""},{"$f":"IF(ISBLANK(N!J108),\"\",N!J108)","v":""},{"$f":"IF(ISBLANK(N!K108),\"\",N!K108)","v":""},{"$f":"IF(ISBLANK(N!L108),\"\",N!L108)","v":""},{"$f":"IF(ISBLANK(N!M108),\"\",N!M108)","v":""},{"$f":"IF(ISBLANK(N!N108),\"\",N!N108)","v":""},null,null,null,{"$f":"IF('F2'!D118=\"\",\"\",'F2'!D118)","v":""}]
[72,null,{"$f":"A!C106","v":""},null,{"$f":"IF('C'!D119=\"\",\"\",'C'!D119)","v":""},{"$f":"IF(D!D119=\"\",\"\",D!D119)","v":""},{"$f":"IF(E!D119=\"\",\"\",E!D119)","v":""},{"$f":"IF(F!D119=\"\",\"\",F!D119)","v":""},null,null,null,null,null,null,null,null,null,null,null,null,null,null,null,null,null,null,null,null,null,null,null,null,null,null,{"$f":"IF(ISBLANK(M!E109),\"\",M!E109)","v":""},{"$f":"IF(ISBLANK(M!F109),\"\",M!F109)","v":""},{"$f":"IF(ISBLANK(M!G109),\"\",M!G109)","v":""},{"$f":"IF(ISBLANK(M!H109),\"\",M!H109)","v":""},{"$f":"IF(ISBLANK(M!I109),\"\",M!I109)","v":""},{"$f":"IF(ISBLANK(M!J109),\"\",M!J109)","v":""},{"$f":"IF(ISBLANK(M!K109),\"\",M!K109)","v":""},{"$f":"IF(ISBLANK(M!L109),\"\",M!L109)","v":""},{"$f":"IF(ISBLANK(M!M109),\"\",M!M109)","v":""},{"$f":"IF(ISBLANK(M!N109),\"\",M!N109)","v":""},{"$f":"IF(ISBLANK(N!E109),\"\",N!E109)","v":""},{"$f":"IF(ISBLANK(N!F109),\"\",N!F109)","v":""},{"$f":"IF(ISBLANK(N!G109),\"\",N!G109)","v":""},{"$f":"IF(ISBLANK(N!H109),\"\",N!H109)","v":""},{"$f":"IF(ISBLANK(N!I109),\"\",N!I109)","v":""},{"$f":"IF(ISBLANK(N!J109),\"\",N!J109)","v":""},{"$f":"IF(ISBLANK(N!K109),\"\",N!K109)","v":""},{"$f":"IF(ISBLANK(N!L109),\"\",N!L109)","v":""},{"$f":"IF(ISBLANK(N!M109),\"\",N!M109)","v":""},{"$f":"IF(ISBLANK(N!N109),\"\",N!N109)","v":""},null,null,null,{"$f":"IF('F2'!D119=\"\",\"\",'F2'!D119)","v":""}]
[73,null,{"$f":"A!C107","v":""},null,{"$f":"IF('C'!D120=\"\",\"\",'C'!D120)","v":""},{"$f":"IF(D!D120=\"\",\"\",D!D120)","v":""},{"$f":"IF(E!D120=\"\",\"\",E!D120)","v":""},{"$f":"IF(F!D120=\"\",\"\",F!D120)","v":""},null,null,null,null,null,null,null,null,null,null,null,null,null,null,null,null,null,null,null,null,null,null,null,null,null,null,{"$f":"IF(ISBLANK(M!E110),\"\",M!E110)","v":""},{"$f":"IF(ISBLANK(M!F110),\"\",M!F110)","v":""},{"$f":"IF(ISBLANK(M!G110),\"\",M!G110)","v":""},{"$f":"IF(ISBLANK(M!H110),\"\",M!H110)","v":""},{"$f":"IF(ISBLANK(M!I110),\"\",M!I110)","v":""},{"$f":"IF(ISBLANK(M!J110),\"\",M!J110)","v":""},{"$f":"IF(ISBLANK(M!K110),\"\",M!K110)","v":""},{"$f":"IF(ISBLANK(M!L110),\"\",M!L110)","v":""},{"$f":"IF(ISBLANK(M!M110),\"\",M!M110)","v":""},{"$f":"IF(ISBLANK(M!N110),\"\",M!N110)","v":""},{"$f":"IF(ISBLANK(N!E110),\"\",N!E110)","v":""},{"$f":"IF(ISBLANK(N!F110),\"\",N!F110)","v":""},{"$f":"IF(ISBLANK(N!G110),\"\",N!G110)","v":""},{"$f":"IF(ISBLANK(N!H110),\"\",N!H110)","v":""},{"$f":"IF(ISBLANK(N!I110),\"\",N!I110)","v":""},{"$f":"IF(ISBLANK(N!J110),\"\",N!J110)","v":""},{"$f":"IF(ISBLANK(N!K110),\"\",N!K110)","v":""},{"$f":"IF(ISBLANK(N!L110),\"\",N!L110)","v":""},{"$f":"IF(ISBLANK(N!M110),\"\",N!M110)","v":""},{"$f":"IF(ISBLANK(N!N110),\"\",N!N110)","v":""},null,null,null,{"$f":"IF('F2'!D120=\"\",\"\",'F2'!D120)","v":""}]
[74,null,{"$f":"A!C108","v":""},null,{"$f":"IF('C'!D121=\"\",\"\",'C'!D121)","v":""},{"$f":"IF(D!D121=\"\",\"\",D!D121)","v":""},{"$f":"IF(E!D121=\"\",\"\",E!D121)","v":""},{"$f":"IF(F!D121=\"\",\"\",F!D121)","v":""},null,null,null,null,null,null,null,null,null,null,null,null,null,null,null,null,null,null,null,null,null,null,null,null,null,null,{"$f":"IF(ISBLANK(M!E111),\"\",M!E111)","v":""},{"$f":"IF(ISBLANK(M!F111),\"\",M!F111)","v":""},{"$f":"IF(ISBLANK(M!G111),\"\",M!G111)","v":""},{"$f":"IF(ISBLANK(M!H111),\"\",M!H111)","v":""},{"$f":"IF(ISBLANK(M!I111),\"\",M!I111)","v":""},{"$f":"IF(ISBLANK(M!J111),\"\",M!J111)","v":""},{"$f":"IF(ISBLANK(M!K111),\"\",M!K111)","v":""},{"$f":"IF(ISBLANK(M!L111),\"\",M!L111)","v":""},{"$f":"IF(ISBLANK(M!M111),\"\",M!M111)","v":""},{"$f":"IF(ISBLANK(M!N111),\"\",M!N111)","v":""},{"$f":"IF(ISBLANK(N!E111),\"\",N!E111)","v":""},{"$f":"IF(ISBLANK(N!F111),\"\",N!F111)","v":""},{"$f":"IF(ISBLANK(N!G111),\"\",N!G111)","v":""},{"$f":"IF(ISBLANK(N!H111),\"\",N!H111)","v":""},{"$f":"IF(ISBLANK(N!I111),\"\",N!I111)","v":""},{"$f":"IF(ISBLANK(N!J111),\"\",N!J111)","v":""},{"$f":"IF(ISBLANK(N!K111),\"\",N!K111)","v":""},{"$f":"IF(ISBLANK(N!L111),\"\",N!L111)","v":""},{"$f":"IF(ISBLANK(N!M111),\"\",N!M111)","v":""},{"$f":"IF(ISBLANK(N!N111),\"\",N!N111)","v":""},null,null,null,{"$f":"IF('F2'!D121=\"\",\"\",'F2'!D121)","v":""}]
[75,null,{"$f":"A!C109","v":""},null,{"$f":"IF('C'!D122=\"\",\"\",'C'!D122)","v":""},{"$f":"IF(D!D122=\"\",\"\",D!D122)","v":""},{"$f":"IF(E!D122=\"\",\"\",E!D122)","v":""},{"$f":"IF(F!D122=\"\",\"\",F!D122)","v":""},null,null,null,null,null,null,null,null,null,null,null,null,null,null,null,null,null,null,null,null,null,null,null,null,null,null,{"$f":"IF(ISBLANK(M!E112),\"\",M!E112)","v":""},{"$f":"IF(ISBLANK(M!F112),\"\",M!F112)","v":""},{"$f":"IF(ISBLANK(M!G112),\"\",M!G112)","v":""},{"$f":"IF(ISBLANK(M!H112),\"\",M!H112)","v":""},{"$f":"IF(ISBLANK(M!I112),\"\",M!I112)","v":""},{"$f":"IF(ISBLANK(M!J112),\"\",M!J112)","v":""},{"$f":"IF(ISBLANK(M!K112),\"\",M!K112)","v":""},{"$f":"IF(ISBLANK(M!L112),\"\",M!L112)","v":""},{"$f":"IF(ISBLANK(M!M112),\"\",M!M112)","v":""},{"$f":"IF(ISBLANK(M!N112),\"\",M!N112)","v":""},{"$f":"IF(ISBLANK(N!E112),\"\",N!E112)","v":""},{"$f":"IF(ISBLANK(N!F112),\"\",N!F112)","v":""},{"$f":"IF(ISBLANK(N!G112),\"\",N!G112)","v":""},{"$f":"IF(ISBLANK(N!H112),\"\",N!H112)","v":""},{"$f":"IF(ISBLANK(N!I112),\"\",N!I112)","v":""},{"$f":"IF(ISBLANK(N!J112),\"\",N!J112)","v":""},{"$f":"IF(ISBLANK(N!K112),\"\",N!K112)","v":""},{"$f":"IF(ISBLANK(N!L112),\"\",N!L112)","v":""},{"$f":"IF(ISBLANK(N!M112),\"\",N!M112)","v":""},{"$f":"IF(ISBLANK(N!N112),\"\",N!N112)","v":""},null,null,null,{"$f":"IF('F2'!D122=\"\",\"\",'F2'!D122)","v":""}]
[76,null,{"$f":"A!C110","v":""},null,{"$f":"IF('C'!D123=\"\",\"\",'C'!D123)","v":""},{"$f":"IF(D!D123=\"\",\"\",D!D123)","v":""},{"$f":"IF(E!D123=\"\",\"\",E!D123)","v":""},{"$f":"IF(F!D123=\"\",\"\",F!D123)","v":""},null,null,null,null,null,null,null,null,null,null,null,null,null,null,null,null,null,null,null,null,null,null,null,null,null,null,{"$f":"IF(ISBLANK(M!E113),\"\",M!E113)","v":""},{"$f":"IF(ISBLANK(M!F113),\"\",M!F113)","v":""},{"$f":"IF(ISBLANK(M!G113),\"\",M!G113)","v":""},{"$f":"IF(ISBLANK(M!H113),\"\",M!H113)","v":""},{"$f":"IF(ISBLANK(M!I113),\"\",M!I113)","v":""},{"$f":"IF(ISBLANK(M!J113),\"\",M!J113)","v":""},{"$f":"IF(ISBLANK(M!K113),\"\",M!K113)","v":""},{"$f":"IF(ISBLANK(M!L113),\"\",M!L113)","v":""},{"$f":"IF(ISBLANK(M!M113),\"\",M!M113)","v":""},{"$f":"IF(ISBLANK(M!N113),\"\",M!N113)","v":""},{"$f":"IF(ISBLANK(N!E113),\"\",N!E113)","v":""},{"$f":"IF(ISBLANK(N!F113),\"\",N!F113)","v":""},{"$f":"IF(ISBLANK(N!G113),\"\",N!G113)","v":""},{"$f":"IF(ISBLANK(N!H113),\"\",N!H113)","v":""},{"$f":"IF(ISBLANK(N!I113),\"\",N!I113)","v":""},{"$f":"IF(ISBLANK(N!J113),\"\",N!J113)","v":""},{"$f":"IF(ISBLANK(N!K113),\"\",N!K113)","v":""},{"$f":"IF(ISBLANK(N!L113),\"\",N!L113)","v":""},{"$f":"IF(ISBLANK(N!M113),\"\",N!M113)","v":""},{"$f":"IF(ISBLANK(N!N113),\"\",N!N113)","v":""},null,null,null,{"$f":"IF('F2'!D123=\"\",\"\",'F2'!D123)","v":""}]
[77,null,{"$f":"A!C111","v":""},null,{"$f":"IF('C'!D124=\"\",\"\",'C'!D124)","v":""},{"$f":"IF(D!D124=\"\",\"\",D!D124)","v":""},{"$f":"IF(E!D124=\"\",\"\",E!D124)","v":""},{"$f":"IF(F!D124=\"\",\"\",F!D124)","v":""},null,null,null,null,null,null,null,null,null,null,null,null,null,null,null,null,null,null,null,null,null,null,null,null,null,null,{"$f":"IF(ISBLANK(M!E114),\"\",M!E114)","v":""},{"$f":"IF(ISBLANK(M!F114),\"\",M!F114)","v":""},{"$f":"IF(ISBLANK(M!G114),\"\",M!G114)","v":""},{"$f":"IF(ISBLANK(M!H114),\"\",M!H114)","v":""},{"$f":"IF(ISBLANK(M!I114),\"\",M!I114)","v":""},{"$f":"IF(ISBLANK(M!J114),\"\",M!J114)","v":""},{"$f":"IF(ISBLANK(M!K114),\"\",M!K114)","v":""},{"$f":"IF(ISBLANK(M!L114),\"\",M!L114)","v":""},{"$f":"IF(ISBLANK(M!M114),\"\",M!M114)","v":""},{"$f":"IF(ISBLANK(M!N114),\"\",M!N114)","v":""},{"$f":"IF(ISBLANK(N!E114),\"\",N!E114)","v":""},{"$f":"IF(ISBLANK(N!F114),\"\",N!F114)","v":""},{"$f":"IF(ISBLANK(N!G114),\"\",N!G114)","v":""},{"$f":"IF(ISBLANK(N!H114),\"\",N!H114)","v":""},{"$f":"IF(ISBLANK(N!I114),\"\",N!I114)","v":""},{"$f":"IF(ISBLANK(N!J114),\"\",N!J114)","v":""},{"$f":"IF(ISBLANK(N!K114),\"\",N!K114)","v":""},{"$f":"IF(ISBLANK(N!L114),\"\",N!L114)","v":""},{"$f":"IF(ISBLANK(N!M114),\"\",N!M114)","v":""},{"$f":"IF(ISBLANK(N!N114),\"\",N!N114)","v":""},null,null,null,{"$f":"IF('F2'!D124=\"\",\"\",'F2'!D124)","v":""}]
[78,null,{"$f":"A!C112","v":""},null,{"$f":"IF('C'!D125=\"\",\"\",'C'!D125)","v":""},{"$f":"IF(D!D125=\"\",\"\",D!D125)","v":""},{"$f":"IF(E!D125=\"\",\"\",E!D125)","v":""},{"$f":"IF(F!D125=\"\",\"\",F!D125)","v":""},null,null,null,null,null,null,null,null,null,null,null,null,null,null,null,null,null,null,null,null,null,null,null,null,null,null,{"$f":"IF(ISBLANK(M!E115),\"\",M!E115)","v":""},{"$f":"IF(ISBLANK(M!F115),\"\",M!F115)","v":""},{"$f":"IF(ISBLANK(M!G115),\"\",M!G115)","v":""},{"$f":"IF(ISBLANK(M!H115),\"\",M!H115)","v":""},{"$f":"IF(ISBLANK(M!I115),\"\",M!I115)","v":""},{"$f":"IF(ISBLANK(M!J115),\"\",M!J115)","v":""},{"$f":"IF(ISBLANK(M!K115),\"\",M!K115)","v":""},{"$f":"IF(ISBLANK(M!L115),\"\",M!L115)","v":""},{"$f":"IF(ISBLANK(M!M115),\"\",M!M115)","v":""},{"$f":"IF(ISBLANK(M!N115),\"\",M!N115)","v":""},{"$f":"IF(ISBLANK(N!E115),\"\",N!E115)","v":""},{"$f":"IF(ISBLANK(N!F115),\"\",N!F115)","v":""},{"$f":"IF(ISBLANK(N!G115),\"\",N!G115)","v":""},{"$f":"IF(ISBLANK(N!H115),\"\",N!H115)","v":""},{"$f":"IF(ISBLANK(N!I115),\"\",N!I115)","v":""},{"$f":"IF(ISBLANK(N!J115),\"\",N!J115)","v":""},{"$f":"IF(ISBLANK(N!K115),\"\",N!K115)","v":""},{"$f":"IF(ISBLANK(N!L115),\"\",N!L115)","v":""},{"$f":"IF(ISBLANK(N!M115),\"\",N!M115)","v":""},{"$f":"IF(ISBLANK(N!N115),\"\",N!N115)","v":""},null,null,null,{"$f":"IF('F2'!D125=\"\",\"\",'F2'!D125)","v":""}]
[79,null,{"$f":"A!C113","v":""},null,{"$f":"IF('C'!D126=\"\",\"\",'C'!D126)","v":""},{"$f":"IF(D!D126=\"\",\"\",D!D126)","v":""},{"$f":"IF(E!D126=\"\",\"\",E!D126)","v":""},{"$f":"IF(F!D126=\"\",\"\",F!D126)","v":""},null,null,null,null,null,null,null,null,null,null,null,null,null,null,null,null,null,null,null,null,null,null,null,null,null,null,{"$f":"IF(ISBLANK(M!E116),\"\",M!E116)","v":""},{"$f":"IF(ISBLANK(M!F116),\"\",M!F116)","v":""},{"$f":"IF(ISBLANK(M!G116),\"\",M!G116)","v":""},{"$f":"IF(ISBLANK(M!H116),\"\",M!H116)","v":""},{"$f":"IF(ISBLANK(M!I116),\"\",M!I116)","v":""},{"$f":"IF(ISBLANK(M!J116),\"\",M!J116)","v":""},{"$f":"IF(ISBLANK(M!K116),\"\",M!K116)","v":""},{"$f":"IF(ISBLANK(M!L116),\"\",M!L116)","v":""},{"$f":"IF(ISBLANK(M!M116),\"\",M!M116)","v":""},{"$f":"IF(ISBLANK(M!N116),\"\",M!N116)","v":""},{"$f":"IF(ISBLANK(N!E116),\"\",N!E116)","v":""},{"$f":"IF(ISBLANK(N!F116),\"\",N!F116)","v":""},{"$f":"IF(ISBLANK(N!G116),\"\",N!G116)","v":""},{"$f":"IF(ISBLANK(N!H116),\"\",N!H116)","v":""},{"$f":"IF(ISBLANK(N!I116),\"\",N!I116)","v":""},{"$f":"IF(ISBLANK(N!J116),\"\",N!J116)","v":""},{"$f":"IF(ISBLANK(N!K116),\"\",N!K116)","v":""},{"$f":"IF(ISBLANK(N!L116),\"\",N!L116)","v":""},{"$f":"IF(ISBLANK(N!M116),\"\",N!M116)","v":""},{"$f":"IF(ISBLANK(N!N116),\"\",N!N116)","v":""},null,null,null,{"$f":"IF('F2'!D126=\"\",\"\",'F2'!D126)","v":""}]
[80,null,{"$f":"A!C114","v":""},null,{"$f":"IF('C'!D127=\"\",\"\",'C'!D127)","v":""},{"$f":"IF(D!D127=\"\",\"\",D!D127)","v":""},{"$f":"IF(E!D127=\"\",\"\",E!D127)","v":""},{"$f":"IF(F!D127=\"\",\"\",F!D127)","v":""},null,null,null,null,null,null,null,null,null,null,null,null,null,null,null,null,null,null,null,null,null,null,null,null,null,null,{"$f":"IF(ISBLANK(M!E117),\"\",M!E117)","v":""},{"$f":"IF(ISBLANK(M!F117),\"\",M!F117)","v":""},{"$f":"IF(ISBLANK(M!G117),\"\",M!G117)","v":""},{"$f":"IF(ISBLANK(M!H117),\"\",M!H117)","v":""},{"$f":"IF(ISBLANK(M!I117),\"\",M!I117)","v":""},{"$f":"IF(ISBLANK(M!J117),\"\",M!J117)","v":""},{"$f":"IF(ISBLANK(M!K117),\"\",M!K117)","v":""},{"$f":"IF(ISBLANK(M!L117),\"\",M!L117)","v":""},{"$f":"IF(ISBLANK(M!M117),\"\",M!M117)","v":""},{"$f":"IF(ISBLANK(M!N117),\"\",M!N117)","v":""},{"$f":"IF(ISBLANK(N!E117),\"\",N!E117)","v":""},{"$f":"IF(ISBLANK(N!F117),\"\",N!F117)","v":""},{"$f":"IF(ISBLANK(N!G117),\"\",N!G117)","v":""},{"$f":"IF(ISBLANK(N!H117),\"\",N!H117)","v":""},{"$f":"IF(ISBLANK(N!I117),\"\",N!I117)","v":""},{"$f":"IF(ISBLANK(N!J117),\"\",N!J117)","v":""},{"$f":"IF(ISBLANK(N!K117),\"\",N!K117)","v":""},{"$f":"IF(ISBLANK(N!L117),\"\",N!L117)","v":""},{"$f":"IF(ISBLANK(N!M117),\"\",N!M117)","v":""},{"$f":"IF(ISBLANK(N!N117),\"\",N!N117)","v":""},null,null,null,{"$f":"IF('F2'!D127=\"\",\"\",'F2'!D127)","v":""}]
[81,null,{"$f":"A!C115","v":""},null,{"$f":"IF('C'!D128=\"\",\"\",'C'!D128)","v":""},{"$f":"IF(D!D128=\"\",\"\",D!D128)","v":""},{"$f":"IF(E!D128=\"\",\"\",E!D128)","v":""},{"$f":"IF(F!D128=\"\",\"\",F!D128)","v":""},null,null,null,null,null,null,null,null,null,null,null,null,null,null,null,null,null,null,null,null,null,null,null,null,null,null,{"$f":"IF(ISBLANK(M!E118),\"\",M!E118)","v":""},{"$f":"IF(ISBLANK(M!F118),\"\",M!F118)","v":""},{"$f":"IF(ISBLANK(M!G118),\"\",M!G118)","v":""},{"$f":"IF(ISBLANK(M!H118),\"\",M!H118)","v":""},{"$f":"IF(ISBLANK(M!I118),\"\",M!I118)","v":""},{"$f":"IF(ISBLANK(M!J118),\"\",M!J118)","v":""},{"$f":"IF(ISBLANK(M!K118),\"\",M!K118)","v":""},{"$f":"IF(ISBLANK(M!L118),\"\",M!L118)","v":""},{"$f":"IF(ISBLANK(M!M118),\"\",M!M118)","v":""},{"$f":"IF(ISBLANK(M!N118),\"\",M!N118)","v":""},{"$f":"IF(ISBLANK(N!E118),\"\",N!E118)","v":""},{"$f":"IF(ISBLANK(N!F118),\"\",N!F118)","v":""},{"$f":"IF(ISBLANK(N!G118),\"\",N!G118)","v":""},{"$f":"IF(ISBLANK(N!H118),\"\",N!H118)","v":""},{"$f":"IF(ISBLANK(N!I118),\"\",N!I118)","v":""},{"$f":"IF(ISBLANK(N!J118),\"\",N!J118)","v":""},{"$f":"IF(ISBLANK(N!K118),\"\",N!K118)","v":""},{"$f":"IF(ISBLANK(N!L118),\"\",N!L118)","v":""},{"$f":"IF(ISBLANK(N!M118),\"\",N!M118)","v":""},{"$f":"IF(ISBLANK(N!N118),\"\",N!N118)","v":""},null,null,null,{"$f":"IF('F2'!D128=\"\",\"\",'F2'!D128)","v":""}]
[82,null,{"$f":"A!C116","v":""},null,{"$f":"IF('C'!D129=\"\",\"\",'C'!D129)","v":""},{"$f":"IF(D!D129=\"\",\"\",D!D129)","v":""},{"$f":"IF(E!D129=\"\",\"\",E!D129)","v":""},{"$f":"IF(F!D129=\"\",\"\",F!D129)","v":""},null,null,null,null,null,null,null,null,null,null,null,null,null,null,null,null,null,null,null,null,null,null,null,null,null,null,{"$f":"IF(ISBLANK(M!E119),\"\",M!E119)","v":""},{"$f":"IF(ISBLANK(M!F119),\"\",M!F119)","v":""},{"$f":"IF(ISBLANK(M!G119),\"\",M!G119)","v":""},{"$f":"IF(ISBLANK(M!H119),\"\",M!H119)","v":""},{"$f":"IF(ISBLANK(M!I119),\"\",M!I119)","v":""},{"$f":"IF(ISBLANK(M!J119),\"\",M!J119)","v":""},{"$f":"IF(ISBLANK(M!K119),\"\",M!K119)","v":""},{"$f":"IF(ISBLANK(M!L119),\"\",M!L119)","v":""},{"$f":"IF(ISBLANK(M!M119),\"\",M!M119)","v":""},{"$f":"IF(ISBLANK(M!N119),\"\",M!N119)","v":""},{"$f":"IF(ISBLANK(N!E119),\"\",N!E119)","v":""},{"$f":"IF(ISBLANK(N!F119),\"\",N!F119)","v":""},{"$f":"IF(ISBLANK(N!G119),\"\",N!G119)","v":""},{"$f":"IF(ISBLANK(N!H119),\"\",N!H119)","v":""},{"$f":"IF(ISBLANK(N!I119),\"\",N!I119)","v":""},{"$f":"IF(ISBLANK(N!J119),\"\",N!J119)","v":""},{"$f":"IF(ISBLANK(N!K119),\"\",N!K119)","v":""},{"$f":"IF(ISBLANK(N!L119),\"\",N!L119)","v":""},{"$f":"IF(ISBLANK(N!M119),\"\",N!M119)","v":""},{"$f":"IF(ISBLANK(N!N119),\"\",N!N119)","v":""},null,null,null,{"$f":"IF('F2'!D129=\"\",\"\",'F2'!D129)","v":""}]
[83,null,{"$f":"A!C117","v":""},null,{"$f":"IF('C'!D130=\"\",\"\",'C'!D130)","v":""},{"$f":"IF(D!D130=\"\",\"\",D!D130)","v":""},{"$f":"IF(E!D130=\"\",\"\",E!D130)","v":""},{"$f":"IF(F!D130=\"\",\"\",F!D130)","v":""},null,null,null,null,null,null,null,null,null,null,null,null,null,null,null,null,null,null,null,null,null,null,null,null,null,null,{"$f":"IF(ISBLANK(M!E120),\"\",M!E120)","v":""},{"$f":"IF(ISBLANK(M!F120),\"\",M!F120)","v":""},{"$f":"IF(ISBLANK(M!G120),\"\",M!G120)","v":""},{"$f":"IF(ISBLANK(M!H120),\"\",M!H120)","v":""},{"$f":"IF(ISBLANK(M!I120),\"\",M!I120)","v":""},{"$f":"IF(ISBLANK(M!J120),\"\",M!J120)","v":""},{"$f":"IF(ISBLANK(M!K120),\"\",M!K120)","v":""},{"$f":"IF(ISBLANK(M!L120),\"\",M!L120)","v":""},{"$f":"IF(ISBLANK(M!M120),\"\",M!M120)","v":""},{"$f":"IF(ISBLANK(M!N120),\"\",M!N120)","v":""},{"$f":"IF(ISBLANK(N!E120),\"\",N!E120)","v":""},{"$f":"IF(ISBLANK(N!F120),\"\",N!F120)","v":""},{"$f":"IF(ISBLANK(N!G120),\"\",N!G120)","v":""},{"$f":"IF(ISBLANK(N!H120),\"\",N!H120)","v":""},{"$f":"IF(ISBLANK(N!I120),\"\",N!I120)","v":""},{"$f":"IF(ISBLANK(N!J120),\"\",N!J120)","v":""},{"$f":"IF(ISBLANK(N!K120),\"\",N!K120)","v":""},{"$f":"IF(ISBLANK(N!L120),\"\",N!L120)","v":""},{"$f":"IF(ISBLANK(N!M120),\"\",N!M120)","v":""},{"$f":"IF(ISBLANK(N!N120),\"\",N!N120)","v":""},null,null,null,{"$f":"IF('F2'!D130=\"\",\"\",'F2'!D130)","v":""}]
[84,null,{"$f":"A!C118","v":""},null,{"$f":"IF('C'!D131=\"\",\"\",'C'!D131)","v":""},{"$f":"IF(D!D131=\"\",\"\",D!D131)","v":""},{"$f":"IF(E!D131=\"\",\"\",E!D131)","v":""},{"$f":"IF(F!D131=\"\",\"\",F!D131)","v":""},null,null,null,null,null,null,null,null,null,null,null,null,null,null,null,null,null,null,null,null,null,null,null,null,null,null,{"$f":"IF(ISBLANK(M!E121),\"\",M!E121)","v":""},{"$f":"IF(ISBLANK(M!F121),\"\",M!F121)","v":""},{"$f":"IF(ISBLANK(M!G121),\"\",M!G121)","v":""},{"$f":"IF(ISBLANK(M!H121),\"\",M!H121)","v":""},{"$f":"IF(ISBLANK(M!I121),\"\",M!I121)","v":""},{"$f":"IF(ISBLANK(M!J121),\"\",M!J121)","v":""},{"$f":"IF(ISBLANK(M!K121),\"\",M!K121)","v":""},{"$f":"IF(ISBLANK(M!L121),\"\",M!L121)","v":""},{"$f":"IF(ISBLANK(M!M121),\"\",M!M121)","v":""},{"$f":"IF(ISBLANK(M!N121),\"\",M!N121)","v":""},{"$f":"IF(ISBLANK(N!E121),\"\",N!E121)","v":""},{"$f":"IF(ISBLANK(N!F121),\"\",N!F121)","v":""},{"$f":"IF(ISBLANK(N!G121),\"\",N!G121)","v":""},{"$f":"IF(ISBLANK(N!H121),\"\",N!H121)","v":""},{"$f":"IF(ISBLANK(N!I121),\"\",N!I121)","v":""},{"$f":"IF(ISBLANK(N!J121),\"\",N!J121)","v":""},{"$f":"IF(ISBLANK(N!K121),\"\",N!K121)","v":""},{"$f":"IF(ISBLANK(N!L121),\"\",N!L121)","v":""},{"$f":"IF(ISBLANK(N!M121),\"\",N!M121)","v":""},{"$f":"IF(ISBLANK(N!N121),\"\",N!N121)","v":""},null,null,null,{"$f":"IF('F2'!D131=\"\",\"\",'F2'!D131)","v":""}]
[85,null,{"$f":"A!C119","v":""},null,{"$f":"IF('C'!D132=\"\",\"\",'C'!D132)","v":""},{"$f":"IF(D!D132=\"\",\"\",D!D132)","v":""},{"$f":"IF(E!D132=\"\",\"\",E!D132)","v":""},{"$f":"IF(F!D132=\"\",\"\",F!D132)","v":""},null,null,null,null,null,null,null,null,null,null,null,null,null,null,null,null,null,null,null,null,null,null,null,null,null,null,{"$f":"IF(ISBLANK(M!E122),\"\",M!E122)","v":""},{"$f":"IF(ISBLANK(M!F122),\"\",M!F122)","v":""},{"$f":"IF(ISBLANK(M!G122),\"\",M!G122)","v":""},{"$f":"IF(ISBLANK(M!H122),\"\",M!H122)","v":""},{"$f":"IF(ISBLANK(M!I122),\"\",M!I122)","v":""},{"$f":"IF(ISBLANK(M!J122),\"\",M!J122)","v":""},{"$f":"IF(ISBLANK(M!K122),\"\",M!K122)","v":""},{"$f":"IF(ISBLANK(M!L122),\"\",M!L122)","v":""},{"$f":"IF(ISBLANK(M!M122),\"\",M!M122)","v":""},{"$f":"IF(ISBLANK(M!N122),\"\",M!N122)","v":""},{"$f":"IF(ISBLANK(N!E122),\"\",N!E122)","v":""},{"$f":"IF(ISBLANK(N!F122),\"\",N!F122)","v":""},{"$f":"IF(ISBLANK(N!G122),\"\",N!G122)","v":""},{"$f":"IF(ISBLANK(N!H122),\"\",N!H122)","v":""},{"$f":"IF(ISBLANK(N!I122),\"\",N!I122)","v":""},{"$f":"IF(ISBLANK(N!J122),\"\",N!J122)","v":""},{"$f":"IF(ISBLANK(N!K122),\"\",N!K122)","v":""},{"$f":"IF(ISBLANK(N!L122),\"\",N!L122)","v":""},{"$f":"IF(ISBLANK(N!M122),\"\",N!M122)","v":""},{"$f":"IF(ISBLANK(N!N122),\"\",N!N122)","v":""},null,null,null,{"$f":"IF('F2'!D132=\"\",\"\",'F2'!D132)","v":""}]
[86,null,{"$f":"A!C120","v":""},null,{"$f":"IF('C'!D133=\"\",\"\",'C'!D133)","v":""},{"$f":"IF(D!D133=\"\",\"\",D!D133)","v":""},{"$f":"IF(E!D133=\"\",\"\",E!D133)","v":""},{"$f":"IF(F!D133=\"\",\"\",F!D133)","v":""},null,null,null,null,null,null,null,null,null,null,null,null,null,null,null,null,null,null,null,null,null,null,null,null,null,null,{"$f":"IF(ISBLANK(M!E123),\"\",M!E123)","v":""},{"$f":"IF(ISBLANK(M!F123),\"\",M!F123)","v":""},{"$f":"IF(ISBLANK(M!G123),\"\",M!G123)","v":""},{"$f":"IF(ISBLANK(M!H123),\"\",M!H123)","v":""},{"$f":"IF(ISBLANK(M!I123),\"\",M!I123)","v":""},{"$f":"IF(ISBLANK(M!J123),\"\",M!J123)","v":""},{"$f":"IF(ISBLANK(M!K123),\"\",M!K123)","v":""},{"$f":"IF(ISBLANK(M!L123),\"\",M!L123)","v":""},{"$f":"IF(ISBLANK(M!M123),\"\",M!M123)","v":""},{"$f":"IF(ISBLANK(M!N123),\"\",M!N123)","v":""},{"$f":"IF(ISBLANK(N!E123),\"\",N!E123)","v":""},{"$f":"IF(ISBLANK(N!F123),\"\",N!F123)","v":""},{"$f":"IF(ISBLANK(N!G123),\"\",N!G123)","v":""},{"$f":"IF(ISBLANK(N!H123),\"\",N!H123)","v":""},{"$f":"IF(ISBLANK(N!I123),\"\",N!I123)","v":""},{"$f":"IF(ISBLANK(N!J123),\"\",N!J123)","v":""},{"$f":"IF(ISBLANK(N!K123),\"\",N!K123)","v":""},{"$f":"IF(ISBLANK(N!L123),\"\",N!L123)","v":""},{"$f":"IF(ISBLANK(N!M123),\"\",N!M123)","v":""},{"$f":"IF(ISBLANK(N!N123),\"\",N!N123)","v":""},null,null,null,{"$f":"IF('F2'!D133=\"\",\"\",'F2'!D133)","v":""}]
[87,null,{"$f":"A!C121","v":""},null,{"$f":"IF('C'!D134=\"\",\"\",'C'!D134)","v":""},{"$f":"IF(D!D134=\"\",\"\",D!D134)","v":""},{"$f":"IF(E!D134=\"\",\"\",E!D134)","v":""},{"$f":"IF(F!D134=\"\",\"\",F!D134)","v":""},null,null,null,null,null,null,null,null,null,null,null,null,null,null,null,null,null,null,null,null,null,null,null,null,null,null,{"$f":"IF(ISBLANK(M!E124),\"\",M!E124)","v":""},{"$f":"IF(ISBLANK(M!F124),\"\",M!F124)","v":""},{"$f":"IF(ISBLANK(M!G124),\"\",M!G124)","v":""},{"$f":"IF(ISBLANK(M!H124),\"\",M!H124)","v":""},{"$f":"IF(ISBLANK(M!I124),\"\",M!I124)","v":""},{"$f":"IF(ISBLANK(M!J124),\"\",M!J124)","v":""},{"$f":"IF(ISBLANK(M!K124),\"\",M!K124)","v":""},{"$f":"IF(ISBLANK(M!L124),\"\",M!L124)","v":""},{"$f":"IF(ISBLANK(M!M124),\"\",M!M124)","v":""},{"$f":"IF(ISBLANK(M!N124),\"\",M!N124)","v":""},{"$f":"IF(ISBLANK(N!E124),\"\",N!E124)","v":""},{"$f":"IF(ISBLANK(N!F124),\"\",N!F124)","v":""},{"$f":"IF(ISBLANK(N!G124),\"\",N!G124)","v":""},{"$f":"IF(ISBLANK(N!H124),\"\",N!H124)","v":""},{"$f":"IF(ISBLANK(N!I124),\"\",N!I124)","v":""},{"$f":"IF(ISBLANK(N!J124),\"\",N!J124)","v":""},{"$f":"IF(ISBLANK(N!K124),\"\",N!K124)","v":""},{"$f":"IF(ISBLANK(N!L124),\"\",N!L124)","v":""},{"$f":"IF(ISBLANK(N!M124),\"\",N!M124)","v":""},{"$f":"IF(ISBLANK(N!N124),\"\",N!N124)","v":""},null,null,null,{"$f":"IF('F2'!D134=\"\",\"\",'F2'!D134)","v":""}]
[88,null,{"$f":"A!C122","v":""},null,{"$f":"IF('C'!D135=\"\",\"\",'C'!D135)","v":""},{"$f":"IF(D!D135=\"\",\"\",D!D135)","v":""},{"$f":"IF(E!D135=\"\",\"\",E!D135)","v":""},{"$f":"IF(F!D135=\"\",\"\",F!D135)","v":""},null,null,null,null,null,null,null,null,null,null,null,null,null,null,null,null,null,null,null,null,null,null,null,null,null,null,{"$f":"IF(ISBLANK(M!E125),\"\",M!E125)","v":""},{"$f":"IF(ISBLANK(M!F125),\"\",M!F125)","v":""},{"$f":"IF(ISBLANK(M!G125),\"\",M!G125)","v":""},{"$f":"IF(ISBLANK(M!H125),\"\",M!H125)","v":""},{"$f":"IF(ISBLANK(M!I125),\"\",M!I125)","v":""},{"$f":"IF(ISBLANK(M!J125),\"\",M!J125)","v":""},{"$f":"IF(ISBLANK(M!K125),\"\",M!K125)","v":""},{"$f":"IF(ISBLANK(M!L125),\"\",M!L125)","v":""},{"$f":"IF(ISBLANK(M!M125),\"\",M!M125)","v":""},{"$f":"IF(ISBLANK(M!N125),\"\",M!N125)","v":""},{"$f":"IF(ISBLANK(N!E125),\"\",N!E125)","v":""},{"$f":"IF(ISBLANK(N!F125),\"\",N!F125)","v":""},{"$f":"IF(ISBLANK(N!G125),\"\",N!G125)","v":""},{"$f":"IF(ISBLANK(N!H125),\"\",N!H125)","v":""},{"$f":"IF(ISBLANK(N!I125),\"\",N!I125)","v":""},{"$f":"IF(ISBLANK(N!J125),\"\",N!J125)","v":""},{"$f":"IF(ISBLANK(N!K125),\"\",N!K125)","v":""},{"$f":"IF(ISBLANK(N!L125),\"\",N!L125)","v":""},{"$f":"IF(ISBLANK(N!M125),\"\",N!M125)","v":""},{"$f":"IF(ISBLANK(N!N125),\"\",N!N125)","v":""},null,null,null,{"$f":"IF('F2'!D135=\"\",\"\",'F2'!D135)","v":""}]
[89,null,{"$f":"A!C123","v":""},null,{"$f":"IF('C'!D136=\"\",\"\",'C'!D136)","v":""},{"$f":"IF(D!D136=\"\",\"\",D!D136)","v":""},{"$f":"IF(E!D136=\"\",\"\",E!D136)","v":""},{"$f":"IF(F!D136=\"\",\"\",F!D136)","v":""},null,null,null,null,null,null,null,null,null,null,null,null,null,null,null,null,null,null,null,null,null,null,null,null,null,null,{"$f":"IF(ISBLANK(M!E126),\"\",M!E126)","v":""},{"$f":"IF(ISBLANK(M!F126),\"\",M!F126)","v":""},{"$f":"IF(ISBLANK(M!G126),\"\",M!G126)","v":""},{"$f":"IF(ISBLANK(M!H126),\"\",M!H126)","v":""},{"$f":"IF(ISBLANK(M!I126),\"\",M!I126)","v":""},{"$f":"IF(ISBLANK(M!J126),\"\",M!J126)","v":""},{"$f":"IF(ISBLANK(M!K126),\"\",M!K126)","v":""},{"$f":"IF(ISBLANK(M!L126),\"\",M!L126)","v":""},{"$f":"IF(ISBLANK(M!M126),\"\",M!M126)","v":""},{"$f":"IF(ISBLANK(M!N126),\"\",M!N126)","v":""},{"$f":"IF(ISBLANK(N!E126),\"\",N!E126)","v":""},{"$f":"IF(ISBLANK(N!F126),\"\",N!F126)","v":""},{"$f":"IF(ISBLANK(N!G126),\"\",N!G126)","v":""},{"$f":"IF(ISBLANK(N!H126),\"\",N!H126)","v":""},{"$f":"IF(ISBLANK(N!I126),\"\",N!I126)","v":""},{"$f":"IF(ISBLANK(N!J126),\"\",N!J126)","v":""},{"$f":"IF(ISBLANK(N!K126),\"\",N!K126)","v":""},{"$f":"IF(ISBLANK(N!L126),\"\",N!L126)","v":""},{"$f":"IF(ISBLANK(N!M126),\"\",N!M126)","v":""},{"$f":"IF(ISBLANK(N!N126),\"\",N!N126)","v":""},null,null,null,{"$f":"IF('F2'!D136=\"\",\"\",'F2'!D136)","v":""}]
[90,null,{"$f":"A!C124","v":""},null,{"$f":"IF('C'!D137=\"\",\"\",'C'!D137)","v":""},{"$f":"IF(D!D137=\"\",\"\",D!D137)","v":""},{"$f":"IF(E!D137=\"\",\"\",E!D137)","v":""},{"$f":"IF(F!D137=\"\",\"\",F!D137)","v":""},null,null,null,null,null,null,null,null,null,null,null,null,null,null,null,null,null,null,null,null,null,null,null,null,null,null,{"$f":"IF(ISBLANK(M!E127),\"\",M!E127)","v":""},{"$f":"IF(ISBLANK(M!F127),\"\",M!F127)","v":""},{"$f":"IF(ISBLANK(M!G127),\"\",M!G127)","v":""},{"$f":"IF(ISBLANK(M!H127),\"\",M!H127)","v":""},{"$f":"IF(ISBLANK(M!I127),\"\",M!I127)","v":""},{"$f":"IF(ISBLANK(M!J127),\"\",M!J127)","v":""},{"$f":"IF(ISBLANK(M!K127),\"\",M!K127)","v":""},{"$f":"IF(ISBLANK(M!L127),\"\",M!L127)","v":""},{"$f":"IF(ISBLANK(M!M127),\"\",M!M127)","v":""},{"$f":"IF(ISBLANK(M!N127),\"\",M!N127)","v":""},{"$f":"IF(ISBLANK(N!E127),\"\",N!E127)","v":""},{"$f":"IF(ISBLANK(N!F127),\"\",N!F127)","v":""},{"$f":"IF(ISBLANK(N!G127),\"\",N!G127)","v":""},{"$f":"IF(ISBLANK(N!H127),\"\",N!H127)","v":""},{"$f":"IF(ISBLANK(N!I127),\"\",N!I127)","v":""},{"$f":"IF(ISBLANK(N!J127),\"\",N!J127)","v":""},{"$f":"IF(ISBLANK(N!K127),\"\",N!K127)","v":""},{"$f":"IF(ISBLANK(N!L127),\"\",N!L127)","v":""},{"$f":"IF(ISBLANK(N!M127),\"\",N!M127)","v":""},{"$f":"IF(ISBLANK(N!N127),\"\",N!N127)","v":""},null,null,null,{"$f":"IF('F2'!D137=\"\",\"\",'F2'!D137)","v":""}]
[91,null,{"$f":"A!C125","v":""},null,{"$f":"IF('C'!D138=\"\",\"\",'C'!D138)","v":""},{"$f":"IF(D!D138=\"\",\"\",D!D138)","v":""},{"$f":"IF(E!D138=\"\",\"\",E!D138)","v":""},{"$f":"IF(F!D138=\"\",\"\",F!D138)","v":""},null,null,null,null,null,null,null,null,null,null,null,null,null,null,null,null,null,null,null,null,null,null,null,null,null,null,{"$f":"IF(ISBLANK(M!E128),\"\",M!E128)","v":""},{"$f":"IF(ISBLANK(M!F128),\"\",M!F128)","v":""},{"$f":"IF(ISBLANK(M!G128),\"\",M!G128)","v":""},{"$f":"IF(ISBLANK(M!H128),\"\",M!H128)","v":""},{"$f":"IF(ISBLANK(M!I128),\"\",M!I128)","v":""},{"$f":"IF(ISBLANK(M!J128),\"\",M!J128)","v":""},{"$f":"IF(ISBLANK(M!K128),\"\",M!K128)","v":""},{"$f":"IF(ISBLANK(M!L128),\"\",M!L128)","v":""},{"$f":"IF(ISBLANK(M!M128),\"\",M!M128)","v":""},{"$f":"IF(ISBLANK(M!N128),\"\",M!N128)","v":""},{"$f":"IF(ISBLANK(N!E128),\"\",N!E128)","v":""},{"$f":"IF(ISBLANK(N!F128),\"\",N!F128)","v":""},{"$f":"IF(ISBLANK(N!G128),\"\",N!G128)","v":""},{"$f":"IF(ISBLANK(N!H128),\"\",N!H128)","v":""},{"$f":"IF(ISBLANK(N!I128),\"\",N!I128)","v":""},{"$f":"IF(ISBLANK(N!J128),\"\",N!J128)","v":""},{"$f":"IF(ISBLANK(N!K128),\"\",N!K128)","v":""},{"$f":"IF(ISBLANK(N!L128),\"\",N!L128)","v":""},{"$f":"IF(ISBLANK(N!M128),\"\",N!M128)","v":""},{"$f":"IF(ISBLANK(N!N128),\"\",N!N128)","v":""},null,null,null,{"$f":"IF('F2'!D138=\"\",\"\",'F2'!D138)","v":""}]
[92,null,{"$f":"A!C126","v":""},null,{"$f":"IF('C'!D139=\"\",\"\",'C'!D139)","v":""},{"$f":"IF(D!D139=\"\",\"\",D!D139)","v":""},{"$f":"IF(E!D139=\"\",\"\",E!D139)","v":""},{"$f":"IF(F!D139=\"\",\"\",F!D139)","v":""},null,null,null,null,null,null,null,null,null,null,null,null,null,null,null,null,null,null,null,null,null,null,null,null,null,null,{"$f":"IF(ISBLANK(M!E129),\"\",M!E129)","v":""},{"$f":"IF(ISBLANK(M!F129),\"\",M!F129)","v":""},{"$f":"IF(ISBLANK(M!G129),\"\",M!G129)","v":""},{"$f":"IF(ISBLANK(M!H129),\"\",M!H129)","v":""},{"$f":"IF(ISBLANK(M!I129),\"\",M!I129)","v":""},{"$f":"IF(ISBLANK(M!J129),\"\",M!J129)","v":""},{"$f":"IF(ISBLANK(M!K129),\"\",M!K129)","v":""},{"$f":"IF(ISBLANK(M!L129),\"\",M!L129)","v":""},{"$f":"IF(ISBLANK(M!M129),\"\",M!M129)","v":""},{"$f":"IF(ISBLANK(M!N129),\"\",M!N129)","v":""},{"$f":"IF(ISBLANK(N!E129),\"\",N!E129)","v":""},{"$f":"IF(ISBLANK(N!F129),\"\",N!F129)","v":""},{"$f":"IF(ISBLANK(N!G129),\"\",N!G129)","v":""},{"$f":"IF(ISBLANK(N!H129),\"\",N!H129)","v":""},{"$f":"IF(ISBLANK(N!I129),\"\",N!I129)","v":""},{"$f":"IF(ISBLANK(N!J129),\"\",N!J129)","v":""},{"$f":"IF(ISBLANK(N!K129),\"\",N!K129)","v":""},{"$f":"IF(ISBLANK(N!L129),\"\",N!L129)","v":""},{"$f":"IF(ISBLANK(N!M129),\"\",N!M129)","v":""},{"$f":"IF(ISBLANK(N!N129),\"\",N!N129)","v":""},null,null,null,{"$f":"IF('F2'!D139=\"\",\"\",'F2'!D139)","v":""}]
[93,null,{"$f":"A!C127","v":""},null,{"$f":"IF('C'!D140=\"\",\"\",'C'!D140)","v":""},{"$f":"IF(D!D140=\"\",\"\",D!D140)","v":""},{"$f":"IF(E!D140=\"\",\"\",E!D140)","v":""},{"$f":"IF(F!D140=\"\",\"\",F!D140)","v":""},null,null,null,null,null,null,null,null,null,null,null,null,null,null,null,null,null,null,null,null,null,null,null,null,null,null,{"$f":"IF(ISBLANK(M!E130),\"\",M!E130)","v":""},{"$f":"IF(ISBLANK(M!F130),\"\",M!F130)","v":""},{"$f":"IF(ISBLANK(M!G130),\"\",M!G130)","v":""},{"$f":"IF(ISBLANK(M!H130),\"\",M!H130)","v":""},{"$f":"IF(ISBLANK(M!I130),\"\",M!I130)","v":""},{"$f":"IF(ISBLANK(M!J130),\"\",M!J130)","v":""},{"$f":"IF(ISBLANK(M!K130),\"\",M!K130)","v":""},{"$f":"IF(ISBLANK(M!L130),\"\",M!L130)","v":""},{"$f":"IF(ISBLANK(M!M130),\"\",M!M130)","v":""},{"$f":"IF(ISBLANK(M!N130),\"\",M!N130)","v":""},{"$f":"IF(ISBLANK(N!E130),\"\",N!E130)","v":""},{"$f":"IF(ISBLANK(N!F130),\"\",N!F130)","v":""},{"$f":"IF(ISBLANK(N!G130),\"\",N!G130)","v":""},{"$f":"IF(ISBLANK(N!H130),\"\",N!H130)","v":""},{"$f":"IF(ISBLANK(N!I130),\"\",N!I130)","v":""},{"$f":"IF(ISBLANK(N!J130),\"\",N!J130)","v":""},{"$f":"IF(ISBLANK(N!K130),\"\",N!K130)","v":""},{"$f":"IF(ISBLANK(N!L130),\"\",N!L130)","v":""},{"$f":"IF(ISBLANK(N!M130),\"\",N!M130)","v":""},{"$f":"IF(ISBLANK(N!N130),\"\",N!N130)","v":""},null,null,null,{"$f":"IF('F2'!D140=\"\",\"\",'F2'!D140)","v":""}]
[94,null,{"$f":"A!C128","v":""},null,{"$f":"IF('C'!D141=\"\",\"\",'C'!D141)","v":""},{"$f":"IF(D!D141=\"\",\"\",D!D141)","v":""},{"$f":"IF(E!D141=\"\",\"\",E!D141)","v":""},{"$f":"IF(F!D141=\"\",\"\",F!D141)","v":""},null,null,null,null,null,null,null,null,null,null,null,null,null,null,null,null,null,null,null,null,null,null,null,null,null,null,{"$f":"IF(ISBLANK(M!E131),\"\",M!E131)","v":""},{"$f":"IF(ISBLANK(M!F131),\"\",M!F131)","v":""},{"$f":"IF(ISBLANK(M!G131),\"\",M!G131)","v":""},{"$f":"IF(ISBLANK(M!H131),\"\",M!H131)","v":""},{"$f":"IF(ISBLANK(M!I131),\"\",M!I131)","v":""},{"$f":"IF(ISBLANK(M!J131),\"\",M!J131)","v":""},{"$f":"IF(ISBLANK(M!K131),\"\",M!K131)","v":""},{"$f":"IF(ISBLANK(M!L131),\"\",M!L131)","v":""},{"$f":"IF(ISBLANK(M!M131),\"\",M!M131)","v":""},{"$f":"IF(ISBLANK(M!N131),\"\",M!N131)","v":""},{"$f":"IF(ISBLANK(N!E131),\"\",N!E131)","v":""},{"$f":"IF(ISBLANK(N!F131),\"\",N!F131)","v":""},{"$f":"IF(ISBLANK(N!G131),\"\",N!G131)","v":""},{"$f":"IF(ISBLANK(N!H131),\"\",N!H131)","v":""},{"$f":"IF(ISBLANK(N!I131),\"\",N!I131)","v":""},{"$f":"IF(ISBLANK(N!J131),\"\",N!J131)","v":""},{"$f":"IF(ISBLANK(N!K131),\"\",N!K131)","v":""},{"$f":"IF(ISBLANK(N!L131),\"\",N!L131)","v":""},{"$f":"IF(ISBLANK(N!M131),\"\",N!M131)","v":""},{"$f":"IF(ISBLANK(N!N131),\"\",N!N131)","v":""},null,null,null,{"$f":"IF('F2'!D141=\"\",\"\",'F2'!D141)","v":""}]
[95,null,{"$f":"A!C129","v":""},null,{"$f":"IF('C'!D142=\"\",\"\",'C'!D142)","v":""},{"$f":"IF(D!D142=\"\",\"\",D!D142)","v":""},{"$f":"IF(E!D142=\"\",\"\",E!D142)","v":""},{"$f":"IF(F!D142=\"\",\"\",F!D142)","v":""},null,null,null,null,null,null,null,null,null,null,null,null,null,null,null,null,null,null,null,null,null,null,null,null,null,null,{"$f":"IF(ISBLANK(M!E132),\"\",M!E132)","v":""},{"$f":"IF(ISBLANK(M!F132),\"\",M!F132)","v":""},{"$f":"IF(ISBLANK(M!G132),\"\",M!G132)","v":""},{"$f":"IF(ISBLANK(M!H132),\"\",M!H132)","v":""},{"$f":"IF(ISBLANK(M!I132),\"\",M!I132)","v":""},{"$f":"IF(ISBLANK(M!J132),\"\",M!J132)","v":""},{"$f":"IF(ISBLANK(M!K132),\"\",M!K132)","v":""},{"$f":"IF(ISBLANK(M!L132),\"\",M!L132)","v":""},{"$f":"IF(ISBLANK(M!M132),\"\",M!M132)","v":""},{"$f":"IF(ISBLANK(M!N132),\"\",M!N132)","v":""},{"$f":"IF(ISBLANK(N!E132),\"\",N!E132)","v":""},{"$f":"IF(ISBLANK(N!F132),\"\",N!F132)","v":""},{"$f":"IF(ISBLANK(N!G132),\"\",N!G132)","v":""},{"$f":"IF(ISBLANK(N!H132),\"\",N!H132)","v":""},{"$f":"IF(ISBLANK(N!I132),\"\",N!I132)","v":""},{"$f":"IF(ISBLANK(N!J132),\"\",N!J132)","v":""},{"$f":"IF(ISBLANK(N!K132),\"\",N!K132)","v":""},{"$f":"IF(ISBLANK(N!L132),\"\",N!L132)","v":""},{"$f":"IF(ISBLANK(N!M132),\"\",N!M132)","v":""},{"$f":"IF(ISBLANK(N!N132),\"\",N!N132)","v":""},null,null,null,{"$f":"IF('F2'!D142=\"\",\"\",'F2'!D142)","v":""}]
[96,null,{"$f":"A!C130","v":""},null,{"$f":"IF('C'!D143=\"\",\"\",'C'!D143)","v":""},{"$f":"IF(D!D143=\"\",\"\",D!D143)","v":""},{"$f":"IF(E!D143=\"\",\"\",E!D143)","v":""},{"$f":"IF(F!D143=\"\",\"\",F!D143)","v":""},null,null,null,null,null,null,null,null,null,null,null,null,null,null,null,null,null,null,null,null,null,null,null,null,null,null,{"$f":"IF(ISBLANK(M!E133),\"\",M!E133)","v":""},{"$f":"IF(ISBLANK(M!F133),\"\",M!F133)","v":""},{"$f":"IF(ISBLANK(M!G133),\"\",M!G133)","v":""},{"$f":"IF(ISBLANK(M!H133),\"\",M!H133)","v":""},{"$f":"IF(ISBLANK(M!I133),\"\",M!I133)","v":""},{"$f":"IF(ISBLANK(M!J133),\"\",M!J133)","v":""},{"$f":"IF(ISBLANK(M!K133),\"\",M!K133)","v":""},{"$f":"IF(ISBLANK(M!L133),\"\",M!L133)","v":""},{"$f":"IF(ISBLANK(M!M133),\"\",M!M133)","v":""},{"$f":"IF(ISBLANK(M!N133),\"\",M!N133)","v":""},{"$f":"IF(ISBLANK(N!E133),\"\",N!E133)","v":""},{"$f":"IF(ISBLANK(N!F133),\"\",N!F133)","v":""},{"$f":"IF(ISBLANK(N!G133),\"\",N!G133)","v":""},{"$f":"IF(ISBLANK(N!H133),\"\",N!H133)","v":""},{"$f":"IF(ISBLANK(N!I133),\"\",N!I133)","v":""},{"$f":"IF(ISBLANK(N!J133),\"\",N!J133)","v":""},{"$f":"IF(ISBLANK(N!K133),\"\",N!K133)","v":""},{"$f":"IF(ISBLANK(N!L133),\"\",N!L133)","v":""},{"$f":"IF(ISBLANK(N!M133),\"\",N!M133)","v":""},{"$f":"IF(ISBLANK(N!N133),\"\",N!N133)","v":""},null,null,null,{"$f":"IF('F2'!D143=\"\",\"\",'F2'!D143)","v":""}]
[97,null,{"$f":"A!C131","v":""},null,{"$f":"IF('C'!D144=\"\",\"\",'C'!D144)","v":""},{"$f":"IF(D!D144=\"\",\"\",D!D144)","v":""},{"$f":"IF(E!D144=\"\",\"\",E!D144)","v":""},{"$f":"IF(F!D144=\"\",\"\",F!D144)","v":""},null,null,null,null,null,null,null,null,null,null,null,null,null,null,null,null,null,null,null,null,null,null,null,null,null,null,{"$f":"IF(ISBLANK(M!E134),\"\",M!E134)","v":""},{"$f":"IF(ISBLANK(M!F134),\"\",M!F134)","v":""},{"$f":"IF(ISBLANK(M!G134),\"\",M!G134)","v":""},{"$f":"IF(ISBLANK(M!H134),\"\",M!H134)","v":""},{"$f":"IF(ISBLANK(M!I134),\"\",M!I134)","v":""},{"$f":"IF(ISBLANK(M!J134),\"\",M!J134)","v":""},{"$f":"IF(ISBLANK(M!K134),\"\",M!K134)","v":""},{"$f":"IF(ISBLANK(M!L134),\"\",M!L134)","v":""},{"$f":"IF(ISBLANK(M!M134),\"\",M!M134)","v":""},{"$f":"IF(ISBLANK(M!N134),\"\",M!N134)","v":""},{"$f":"IF(ISBLANK(N!E134),\"\",N!E134)","v":""},{"$f":"IF(ISBLANK(N!F134),\"\",N!F134)","v":""},{"$f":"IF(ISBLANK(N!G134),\"\",N!G134)","v":""},{"$f":"IF(ISBLANK(N!H134),\"\",N!H134)","v":""},{"$f":"IF(ISBLANK(N!I134),\"\",N!I134)","v":""},{"$f":"IF(ISBLANK(N!J134),\"\",N!J134)","v":""},{"$f":"IF(ISBLANK(N!K134),\"\",N!K134)","v":""},{"$f":"IF(ISBLANK(N!L134),\"\",N!L134)","v":""},{"$f":"IF(ISBLANK(N!M134),\"\",N!M134)","v":""},{"$f":"IF(ISBLANK(N!N134),\"\",N!N134)","v":""},null,null,null,{"$f":"IF('F2'!D144=\"\",\"\",'F2'!D144)","v":""}]
[98,null,{"$f":"A!C132","v":""},null,{"$f":"IF('C'!D145=\"\",\"\",'C'!D145)","v":""},{"$f":"IF(D!D145=\"\",\"\",D!D145)","v":""},{"$f":"IF(E!D145=\"\",\"\",E!D145)","v":""},{"$f":"IF(F!D145=\"\",\"\",F!D145)","v":""},null,null,null,null,null,null,null,null,null,null,null,null,null,null,null,null,null,null,null,null,null,null,null,null,null,null,{"$f":"IF(ISBLANK(M!E135),\"\",M!E135)","v":""},{"$f":"IF(ISBLANK(M!F135),\"\",M!F135)","v":""},{"$f":"IF(ISBLANK(M!G135),\"\",M!G135)","v":""},{"$f":"IF(ISBLANK(M!H135),\"\",M!H135)","v":""},{"$f":"IF(ISBLANK(M!I135),\"\",M!I135)","v":""},{"$f":"IF(ISBLANK(M!J135),\"\",M!J135)","v":""},{"$f":"IF(ISBLANK(M!K135),\"\",M!K135)","v":""},{"$f":"IF(ISBLANK(M!L135),\"\",M!L135)","v":""},{"$f":"IF(ISBLANK(M!M135),\"\",M!M135)","v":""},{"$f":"IF(ISBLANK(M!N135),\"\",M!N135)","v":""},{"$f":"IF(ISBLANK(N!E135),\"\",N!E135)","v":""},{"$f":"IF(ISBLANK(N!F135),\"\",N!F135)","v":""},{"$f":"IF(ISBLANK(N!G135),\"\",N!G135)","v":""},{"$f":"IF(ISBLANK(N!H135),\"\",N!H135)","v":""},{"$f":"IF(ISBLANK(N!I135),\"\",N!I135)","v":""},{"$f":"IF(ISBLANK(N!J135),\"\",N!J135)","v":""},{"$f":"IF(ISBLANK(N!K135),\"\",N!K135)","v":""},{"$f":"IF(ISBLANK(N!L135),\"\",N!L135)","v":""},{"$f":"IF(ISBLANK(N!M135),\"\",N!M135)","v":""},{"$f":"IF(ISBLANK(N!N135),\"\",N!N135)","v":""},null,null,null,{"$f":"IF('F2'!D145=\"\",\"\",'F2'!D145)","v":""}]
[99,null,{"$f":"A!C133","v":""},null,{"$f":"IF('C'!D146=\"\",\"\",'C'!D146)","v":""},{"$f":"IF(D!D146=\"\",\"\",D!D146)","v":""},{"$f":"IF(E!D146=\"\",\"\",E!D146)","v":""},{"$f":"IF(F!D146=\"\",\"\",F!D146)","v":""},null,null,null,null,null,null,null,null,null,null,null,null,null,null,null,null,null,null,null,null,null,null,null,null,null,null,{"$f":"IF(ISBLANK(M!E136),\"\",M!E136)","v":""},{"$f":"IF(ISBLANK(M!F136),\"\",M!F136)","v":""},{"$f":"IF(ISBLANK(M!G136),\"\",M!G136)","v":""},{"$f":"IF(ISBLANK(M!H136),\"\",M!H136)","v":""},{"$f":"IF(ISBLANK(M!I136),\"\",M!I136)","v":""},{"$f":"IF(ISBLANK(M!J136),\"\",M!J136)","v":""},{"$f":"IF(ISBLANK(M!K136),\"\",M!K136)","v":""},{"$f":"IF(ISBLANK(M!L136),\"\",M!L136)","v":""},{"$f":"IF(ISBLANK(M!M136),\"\",M!M136)","v":""},{"$f":"IF(ISBLANK(M!N136),\"\",M!N136)","v":""},{"$f":"IF(ISBLANK(N!E136),\"\",N!E136)","v":""},{"$f":"IF(ISBLANK(N!F136),\"\",N!F136)","v":""},{"$f":"IF(ISBLANK(N!G136),\"\",N!G136)","v":""},{"$f":"IF(ISBLANK(N!H136),\"\",N!H136)","v":""},{"$f":"IF(ISBLANK(N!I136),\"\",N!I136)","v":""},{"$f":"IF(ISBLANK(N!J136),\"\",N!J136)","v":""},{"$f":"IF(ISBLANK(N!K136),\"\",N!K136)","v":""},{"$f":"IF(ISBLANK(N!L136),\"\",N!L136)","v":""},{"$f":"IF(ISBLANK(N!M136),\"\",N!M136)","v":""},{"$f":"IF(ISBLANK(N!N136),\"\",N!N136)","v":""},null,null,null,{"$f":"IF('F2'!D146=\"\",\"\",'F2'!D146)","v":""}]
[100,null,{"$f":"A!C134","v":""},null,{"$f":"IF('C'!D147=\"\",\"\",'C'!D147)","v":""},{"$f":"IF(D!D147=\"\",\"\",D!D147)","v":""},{"$f":"IF(E!D147=\"\",\"\",E!D147)","v":""},{"$f":"IF(F!D147=\"\",\"\",F!D147)","v":""},null,null,null,null,null,null,null,null,null,null,null,null,null,null,null,null,null,null,null,null,null,null,null,null,null,null,{"$f":"IF(ISBLANK(M!E137),\"\",M!E137)","v":""},{"$f":"IF(ISBLANK(M!F137),\"\",M!F137)","v":""},{"$f":"IF(ISBLANK(M!G137),\"\",M!G137)","v":""},{"$f":"IF(ISBLANK(M!H137),\"\",M!H137)","v":""},{"$f":"IF(ISBLANK(M!I137),\"\",M!I137)","v":""},{"$f":"IF(ISBLANK(M!J137),\"\",M!J137)","v":""},{"$f":"IF(ISBLANK(M!K137),\"\",M!K137)","v":""},{"$f":"IF(ISBLANK(M!L137),\"\",M!L137)","v":""},{"$f":"IF(ISBLANK(M!M137),\"\",M!M137)","v":""},{"$f":"IF(ISBLANK(M!N137),\"\",M!N137)","v":""},{"$f":"IF(ISBLANK(N!E137),\"\",N!E137)","v":""},{"$f":"IF(ISBLANK(N!F137),\"\",N!F137)","v":""},{"$f":"IF(ISBLANK(N!G137),\"\",N!G137)","v":""},{"$f":"IF(ISBLANK(N!H137),\"\",N!H137)","v":""},{"$f":"IF(ISBLANK(N!I137),\"\",N!I137)","v":""},{"$f":"IF(ISBLANK(N!J137),\"\",N!J137)","v":""},{"$f":"IF(ISBLANK(N!K137),\"\",N!K137)","v":""},{"$f":"IF(ISBLANK(N!L137),\"\",N!L137)","v":""},{"$f":"IF(ISBLANK(N!M137),\"\",N!M137)","v":""},{"$f":"IF(ISBLANK(N!N137),\"\",N!N137)","v":""},null,null,null,{"$f":"IF('F2'!D147=\"\",\"\",'F2'!D147)","v":""}]
[101,null,{"$f":"A!C135","v":""},null,{"$f":"IF('C'!D148=\"\",\"\",'C'!D148)","v":""},{"$f":"IF(D!D148=\"\",\"\",D!D148)","v":""},{"$f":"IF(E!D148=\"\",\"\",E!D148)","v":""},{"$f":"IF(F!D148=\"\",\"\",F!D148)","v":""},null,null,null,null,null,null,null,null,null,null,null,null,null,null,null,null,null,null,null,null,null,null,null,null,null,null,{"$f":"IF(ISBLANK(M!E138),\"\",M!E138)","v":""},{"$f":"IF(ISBLANK(M!F138),\"\",M!F138)","v":""},{"$f":"IF(ISBLANK(M!G138),\"\",M!G138)","v":""},{"$f":"IF(ISBLANK(M!H138),\"\",M!H138)","v":""},{"$f":"IF(ISBLANK(M!I138),\"\",M!I138)","v":""},{"$f":"IF(ISBLANK(M!J138),\"\",M!J138)","v":""},{"$f":"IF(ISBLANK(M!K138),\"\",M!K138)","v":""},{"$f":"IF(ISBLANK(M!L138),\"\",M!L138)","v":""},{"$f":"IF(ISBLANK(M!M138),\"\",M!M138)","v":""},{"$f":"IF(ISBLANK(M!N138),\"\",M!N138)","v":""},{"$f":"IF(ISBLANK(N!E138),\"\",N!E138)","v":""},{"$f":"IF(ISBLANK(N!F138),\"\",N!F138)","v":""},{"$f":"IF(ISBLANK(N!G138),\"\",N!G138)","v":""},{"$f":"IF(ISBLANK(N!H138),\"\",N!H138)","v":""},{"$f":"IF(ISBLANK(N!I138),\"\",N!I138)","v":""},{"$f":"IF(ISBLANK(N!J138),\"\",N!J138)","v":""},{"$f":"IF(ISBLANK(N!K138),\"\",N!K138)","v":""},{"$f":"IF(ISBLANK(N!L138),\"\",N!L138)","v":""},{"$f":"IF(ISBLANK(N!M138),\"\",N!M138)","v":""},{"$f":"IF(ISBLANK(N!N138),\"\",N!N138)","v":""},null,null,null,{"$f":"IF('F2'!D148=\"\",\"\",'F2'!D148)","v":""}]
[102,null,{"$f":"A!C136","v":""},null,{"$f":"IF('C'!D149=\"\",\"\",'C'!D149)","v":""},{"$f":"IF(D!D149=\"\",\"\",D!D149)","v":""},{"$f":"IF(E!D149=\"\",\"\",E!D149)","v":""},{"$f":"IF(F!D149=\"\",\"\",F!D149)","v":""},null,null,null,null,null,null,null,null,null,null,null,null,null,null,null,null,null,null,null,null,null,null,null,null,null,null,{"$f":"IF(ISBLANK(M!E139),\"\",M!E139)","v":""},{"$f":"IF(ISBLANK(M!F139),\"\",M!F139)","v":""},{"$f":"IF(ISBLANK(M!G139),\"\",M!G139)","v":""},{"$f":"IF(ISBLANK(M!H139),\"\",M!H139)","v":""},{"$f":"IF(ISBLANK(M!I139),\"\",M!I139)","v":""},{"$f":"IF(ISBLANK(M!J139),\"\",M!J139)","v":""},{"$f":"IF(ISBLANK(M!K139),\"\",M!K139)","v":""},{"$f":"IF(ISBLANK(M!L139),\"\",M!L139)","v":""},{"$f":"IF(ISBLANK(M!M139),\"\",M!M139)","v":""},{"$f":"IF(ISBLANK(M!N139),\"\",M!N139)","v":""},{"$f":"IF(ISBLANK(N!E139),\"\",N!E139)","v":""},{"$f":"IF(ISBLANK(N!F139),\"\",N!F139)","v":""},{"$f":"IF(ISBLANK(N!G139),\"\",N!G139)","v":""},{"$f":"IF(ISBLANK(N!H139),\"\",N!H139)","v":""},{"$f":"IF(ISBLANK(N!I139),\"\",N!I139)","v":""},{"$f":"IF(ISBLANK(N!J139),\"\",N!J139)","v":""},{"$f":"IF(ISBLANK(N!K139),\"\",N!K139)","v":""},{"$f":"IF(ISBLANK(N!L139),\"\",N!L139)","v":""},{"$f":"IF(ISBLANK(N!M139),\"\",N!M139)","v":""},{"$f":"IF(ISBLANK(N!N139),\"\",N!N139)","v":""},null,null,null,{"$f":"IF('F2'!D149=\"\",\"\",'F2'!D149)","v":""}]
[103,null,{"$f":"A!C137","v":""},null,{"$f":"IF('C'!D150=\"\",\"\",'C'!D150)","v":""},{"$f":"IF(D!D150=\"\",\"\",D!D150)","v":""},{"$f":"IF(E!D150=\"\",\"\",E!D150)","v":""},{"$f":"IF(F!D150=\"\",\"\",F!D150)","v":""},null,null,null,null,null,null,null,null,null,null,null,null,null,null,null,null,null,null,null,null,null,null,null,null,null,null,{"$f":"IF(ISBLANK(M!E140),\"\",M!E140)","v":""},{"$f":"IF(ISBLANK(M!F140),\"\",M!F140)","v":""},{"$f":"IF(ISBLANK(M!G140),\"\",M!G140)","v":""},{"$f":"IF(ISBLANK(M!H140),\"\",M!H140)","v":""},{"$f":"IF(ISBLANK(M!I140),\"\",M!I140)","v":""},{"$f":"IF(ISBLANK(M!J140),\"\",M!J140)","v":""},{"$f":"IF(ISBLANK(M!K140),\"\",M!K140)","v":""},{"$f":"IF(ISBLANK(M!L140),\"\",M!L140)","v":""},{"$f":"IF(ISBLANK(M!M140),\"\",M!M140)","v":""},{"$f":"IF(ISBLANK(M!N140),\"\",M!N140)","v":""},{"$f":"IF(ISBLANK(N!E140),\"\",N!E140)","v":""},{"$f":"IF(ISBLANK(N!F140),\"\",N!F140)","v":""},{"$f":"IF(ISBLANK(N!G140),\"\",N!G140)","v":""},{"$f":"IF(ISBLANK(N!H140),\"\",N!H140)","v":""},{"$f":"IF(ISBLANK(N!I140),\"\",N!I140)","v":""},{"$f":"IF(ISBLANK(N!J140),\"\",N!J140)","v":""},{"$f":"IF(ISBLANK(N!K140),\"\",N!K140)","v":""},{"$f":"IF(ISBLANK(N!L140),\"\",N!L140)","v":""},{"$f":"IF(ISBLANK(N!M140),\"\",N!M140)","v":""},{"$f":"IF(ISBLANK(N!N140),\"\",N!N140)","v":""},null,null,null,{"$f":"IF('F2'!D150=\"\",\"\",'F2'!D150)","v":""}]
[104,null,{"$f":"A!C138","v":""},null,{"$f":"IF('C'!D151=\"\",\"\",'C'!D151)","v":""},{"$f":"IF(D!D151=\"\",\"\",D!D151)","v":""},{"$f":"IF(E!D151=\"\",\"\",E!D151)","v":""},{"$f":"IF(F!D151=\"\",\"\",F!D151)","v":""},null,null,null,null,null,null,null,null,null,null,null,null,null,null,null,null,null,null,null,null,null,null,null,null,null,null,{"$f":"IF(ISBLANK(M!E141),\"\",M!E141)","v":""},{"$f":"IF(ISBLANK(M!F141),\"\",M!F141)","v":""},{"$f":"IF(ISBLANK(M!G141),\"\",M!G141)","v":""},{"$f":"IF(ISBLANK(M!H141),\"\",M!H141)","v":""},{"$f":"IF(ISBLANK(M!I141),\"\",M!I141)","v":""},{"$f":"IF(ISBLANK(M!J141),\"\",M!J141)","v":""},{"$f":"IF(ISBLANK(M!K141),\"\",M!K141)","v":""},{"$f":"IF(ISBLANK(M!L141),\"\",M!L141)","v":""},{"$f":"IF(ISBLANK(M!M141),\"\",M!M141)","v":""},{"$f":"IF(ISBLANK(M!N141),\"\",M!N141)","v":""},{"$f":"IF(ISBLANK(N!E141),\"\",N!E141)","v":""},{"$f":"IF(ISBLANK(N!F141),\"\",N!F141)","v":""},{"$f":"IF(ISBLANK(N!G141),\"\",N!G141)","v":""},{"$f":"IF(ISBLANK(N!H141),\"\",N!H141)","v":""},{"$f":"IF(ISBLANK(N!I141),\"\",N!I141)","v":""},{"$f":"IF(ISBLANK(N!J141),\"\",N!J141)","v":""},{"$f":"IF(ISBLANK(N!K141),\"\",N!K141)","v":""},{"$f":"IF(ISBLANK(N!L141),\"\",N!L141)","v":""},{"$f":"IF(ISBLANK(N!M141),\"\",N!M141)","v":""},{"$f":"IF(ISBLANK(N!N141),\"\",N!N141)","v":""},null,null,null,{"$f":"IF('F2'!D151=\"\",\"\",'F2'!D151)","v":""}]
[105,null,{"$f":"A!C139","v":""},null,{"$f":"IF('C'!D152=\"\",\"\",'C'!D152)","v":""},{"$f":"IF(D!D152=\"\",\"\",D!D152)","v":""},{"$f":"IF(E!D152=\"\",\"\",E!D152)","v":""},{"$f":"IF(F!D152=\"\",\"\",F!D152)","v":""},null,null,null,null,null,null,null,null,null,null,null,null,null,null,null,null,null,null,null,null,null,null,null,null,null,null,{"$f":"IF(ISBLANK(M!E142),\"\",M!E142)","v":""},{"$f":"IF(ISBLANK(M!F142),\"\",M!F142)","v":""},{"$f":"IF(ISBLANK(M!G142),\"\",M!G142)","v":""},{"$f":"IF(ISBLANK(M!H142),\"\",M!H142)","v":""},{"$f":"IF(ISBLANK(M!I142),\"\",M!I142)","v":""},{"$f":"IF(ISBLANK(M!J142),\"\",M!J142)","v":""},{"$f":"IF(ISBLANK(M!K142),\"\",M!K142)","v":""},{"$f":"IF(ISBLANK(M!L142),\"\",M!L142)","v":""},{"$f":"IF(ISBLANK(M!M142),\"\",M!M142)","v":""},{"$f":"IF(ISBLANK(M!N142),\"\",M!N142)","v":""},{"$f":"IF(ISBLANK(N!E142),\"\",N!E142)","v":""},{"$f":"IF(ISBLANK(N!F142),\"\",N!F142)","v":""},{"$f":"IF(ISBLANK(N!G142),\"\",N!G142)","v":""},{"$f":"IF(ISBLANK(N!H142),\"\",N!H142)","v":""},{"$f":"IF(ISBLANK(N!I142),\"\",N!I142)","v":""},{"$f":"IF(ISBLANK(N!J142),\"\",N!J142)","v":""},{"$f":"IF(ISBLANK(N!K142),\"\",N!K142)","v":""},{"$f":"IF(ISBLANK(N!L142),\"\",N!L142)","v":""},{"$f":"IF(ISBLANK(N!M142),\"\",N!M142)","v":""},{"$f":"IF(ISBLANK(N!N142),\"\",N!N142)","v":""},null,null,null,{"$f":"IF('F2'!D152=\"\",\"\",'F2'!D152)","v":""}]
[106,null,{"$f":"A!C140","v":""},null,{"$f":"IF('C'!D153=\"\",\"\",'C'!D153)","v":""},{"$f":"IF(D!D153=\"\",\"\",D!D153)","v":""},{"$f":"IF(E!D153=\"\",\"\",E!D153)","v":""},{"$f":"IF(F!D153=\"\",\"\",F!D153)","v":""},null,null,null,null,null,null,null,null,null,null,null,null,null,null,null,null,null,null,null,null,null,null,null,null,null,null,{"$f":"IF(ISBLANK(M!E143),\"\",M!E143)","v":""},{"$f":"IF(ISBLANK(M!F143),\"\",M!F143)","v":""},{"$f":"IF(ISBLANK(M!G143),\"\",M!G143)","v":""},{"$f":"IF(ISBLANK(M!H143),\"\",M!H143)","v":""},{"$f":"IF(ISBLANK(M!I143),\"\",M!I143)","v":""},{"$f":"IF(ISBLANK(M!J143),\"\",M!J143)","v":""},{"$f":"IF(ISBLANK(M!K143),\"\",M!K143)","v":""},{"$f":"IF(ISBLANK(M!L143),\"\",M!L143)","v":""},{"$f":"IF(ISBLANK(M!M143),\"\",M!M143)","v":""},{"$f":"IF(ISBLANK(M!N143),\"\",M!N143)","v":""},{"$f":"IF(ISBLANK(N!E143),\"\",N!E143)","v":""},{"$f":"IF(ISBLANK(N!F143),\"\",N!F143)","v":""},{"$f":"IF(ISBLANK(N!G143),\"\",N!G143)","v":""},{"$f":"IF(ISBLANK(N!H143),\"\",N!H143)","v":""},{"$f":"IF(ISBLANK(N!I143),\"\",N!I143)","v":""},{"$f":"IF(ISBLANK(N!J143),\"\",N!J143)","v":""},{"$f":"IF(ISBLANK(N!K143),\"\",N!K143)","v":""},{"$f":"IF(ISBLANK(N!L143),\"\",N!L143)","v":""},{"$f":"IF(ISBLANK(N!M143),\"\",N!M143)","v":""},{"$f":"IF(ISBLANK(N!N143),\"\",N!N143)","v":""},null,null,null,{"$f":"IF('F2'!D153=\"\",\"\",'F2'!D153)","v":""}]
[107,null,{"$f":"A!C141","v":""},null,{"$f":"IF('C'!D154=\"\",\"\",'C'!D154)","v":""},{"$f":"IF(D!D154=\"\",\"\",D!D154)","v":""},{"$f":"IF(E!D154=\"\",\"\",E!D154)","v":""},{"$f":"IF(F!D154=\"\",\"\",F!D154)","v":""},null,null,null,null,null,null,null,null,null,null,null,null,null,null,null,null,null,null,null,null,null,null,null,null,null,null,{"$f":"IF(ISBLANK(M!E144),\"\",M!E144)","v":""},{"$f":"IF(ISBLANK(M!F144),\"\",M!F144)","v":""},{"$f":"IF(ISBLANK(M!G144),\"\",M!G144)","v":""},{"$f":"IF(ISBLANK(M!H144),\"\",M!H144)","v":""},{"$f":"IF(ISBLANK(M!I144),\"\",M!I144)","v":""},{"$f":"IF(ISBLANK(M!J144),\"\",M!J144)","v":""},{"$f":"IF(ISBLANK(M!K144),\"\",M!K144)","v":""},{"$f":"IF(ISBLANK(M!L144),\"\",M!L144)","v":""},{"$f":"IF(ISBLANK(M!M144),\"\",M!M144)","v":""},{"$f":"IF(ISBLANK(M!N144),\"\",M!N144)","v":""},{"$f":"IF(ISBLANK(N!E144),\"\",N!E144)","v":""},{"$f":"IF(ISBLANK(N!F144),\"\",N!F144)","v":""},{"$f":"IF(ISBLANK(N!G144),\"\",N!G144)","v":""},{"$f":"IF(ISBLANK(N!H144),\"\",N!H144)","v":""},{"$f":"IF(ISBLANK(N!I144),\"\",N!I144)","v":""},{"$f":"IF(ISBLANK(N!J144),\"\",N!J144)","v":""},{"$f":"IF(ISBLANK(N!K144),\"\",N!K144)","v":""},{"$f":"IF(ISBLANK(N!L144),\"\",N!L144)","v":""},{"$f":"IF(ISBLANK(N!M144),\"\",N!M144)","v":""},{"$f":"IF(ISBLANK(N!N144),\"\",N!N144)","v":""},null,null,null,{"$f":"IF('F2'!D154=\"\",\"\",'F2'!D154)","v":""}]
[108,null,{"$f":"A!C142","v":""},null,{"$f":"IF('C'!D155=\"\",\"\",'C'!D155)","v":""},{"$f":"IF(D!D155=\"\",\"\",D!D155)","v":""},{"$f":"IF(E!D155=\"\",\"\",E!D155)","v":""},{"$f":"IF(F!D155=\"\",\"\",F!D155)","v":""},null,null,null,null,null,null,null,null,null,null,null,null,null,null,null,null,null,null,null,null,null,null,null,null,null,null,{"$f":"IF(ISBLANK(M!E145),\"\",M!E145)","v":""},{"$f":"IF(ISBLANK(M!F145),\"\",M!F145)","v":""},{"$f":"IF(ISBLANK(M!G145),\"\",M!G145)","v":""},{"$f":"IF(ISBLANK(M!H145),\"\",M!H145)","v":""},{"$f":"IF(ISBLANK(M!I145),\"\",M!I145)","v":""},{"$f":"IF(ISBLANK(M!J145),\"\",M!J145)","v":""},{"$f":"IF(ISBLANK(M!K145),\"\",M!K145)","v":""},{"$f":"IF(ISBLANK(M!L145),\"\",M!L145)","v":""},{"$f":"IF(ISBLANK(M!M145),\"\",M!M145)","v":""},{"$f":"IF(ISBLANK(M!N145),\"\",M!N145)","v":""},{"$f":"IF(ISBLANK(N!E145),\"\",N!E145)","v":""},{"$f":"IF(ISBLANK(N!F145),\"\",N!F145)","v":""},{"$f":"IF(ISBLANK(N!G145),\"\",N!G145)","v":""},{"$f":"IF(ISBLANK(N!H145),\"\",N!H145)","v":""},{"$f":"IF(ISBLANK(N!I145),\"\",N!I145)","v":""},{"$f":"IF(ISBLANK(N!J145),\"\",N!J145)","v":""},{"$f":"IF(ISBLANK(N!K145),\"\",N!K145)","v":""},{"$f":"IF(ISBLANK(N!L145),\"\",N!L145)","v":""},{"$f":"IF(ISBLANK(N!M145),\"\",N!M145)","v":""},{"$f":"IF(ISBLANK(N!N145),\"\",N!N145)","v":""},null,null,null,{"$f":"IF('F2'!D155=\"\",\"\",'F2'!D155)","v":""}]
[109,null,{"$f":"A!C143","v":""},null,{"$f":"IF('C'!D156=\"\",\"\",'C'!D156)","v":""},{"$f":"IF(D!D156=\"\",\"\",D!D156)","v":""},{"$f":"IF(E!D156=\"\",\"\",E!D156)","v":""},{"$f":"IF(F!D156=\"\",\"\",F!D156)","v":""},null,null,null,null,null,null,null,null,null,null,null,null,null,null,null,null,null,null,null,null,null,null,null,null,null,null,{"$f":"IF(ISBLANK(M!E146),\"\",M!E146)","v":""},{"$f":"IF(ISBLANK(M!F146),\"\",M!F146)","v":""},{"$f":"IF(ISBLANK(M!G146),\"\",M!G146)","v":""},{"$f":"IF(ISBLANK(M!H146),\"\",M!H146)","v":""},{"$f":"IF(ISBLANK(M!I146),\"\",M!I146)","v":""},{"$f":"IF(ISBLANK(M!J146),\"\",M!J146)","v":""},{"$f":"IF(ISBLANK(M!K146),\"\",M!K146)","v":""},{"$f":"IF(ISBLANK(M!L146),\"\",M!L146)","v":""},{"$f":"IF(ISBLANK(M!M146),\"\",M!M146)","v":""},{"$f":"IF(ISBLANK(M!N146),\"\",M!N146)","v":""},{"$f":"IF(ISBLANK(N!E146),\"\",N!E146)","v":""},{"$f":"IF(ISBLANK(N!F146),\"\",N!F146)","v":""},{"$f":"IF(ISBLANK(N!G146),\"\",N!G146)","v":""},{"$f":"IF(ISBLANK(N!H146),\"\",N!H146)","v":""},{"$f":"IF(ISBLANK(N!I146),\"\",N!I146)","v":""},{"$f":"IF(ISBLANK(N!J146),\"\",N!J146)","v":""},{"$f":"IF(ISBLANK(N!K146),\"\",N!K146)","v":""},{"$f":"IF(ISBLANK(N!L146),\"\",N!L146)","v":""},{"$f":"IF(ISBLANK(N!M146),\"\",N!M146)","v":""},{"$f":"IF(ISBLANK(N!N146),\"\",N!N146)","v":""},null,null,null,{"$f":"IF('F2'!D156=\"\",\"\",'F2'!D156)","v":""}]
[110,null,{"$f":"A!C144","v":""},null,{"$f":"IF('C'!D157=\"\",\"\",'C'!D157)","v":""},{"$f":"IF(D!D157=\"\",\"\",D!D157)","v":""},{"$f":"IF(E!D157=\"\",\"\",E!D157)","v":""},{"$f":"IF(F!D157=\"\",\"\",F!D157)","v":""},null,null,null,null,null,null,null,null,null,null,null,null,null,null,null,null,null,null,null,null,null,null,null,null,null,null,{"$f":"IF(ISBLANK(M!E147),\"\",M!E147)","v":""},{"$f":"IF(ISBLANK(M!F147),\"\",M!F147)","v":""},{"$f":"IF(ISBLANK(M!G147),\"\",M!G147)","v":""},{"$f":"IF(ISBLANK(M!H147),\"\",M!H147)","v":""},{"$f":"IF(ISBLANK(M!I147),\"\",M!I147)","v":""},{"$f":"IF(ISBLANK(M!J147),\"\",M!J147)","v":""},{"$f":"IF(ISBLANK(M!K147),\"\",M!K147)","v":""},{"$f":"IF(ISBLANK(M!L147),\"\",M!L147)","v":""},{"$f":"IF(ISBLANK(M!M147),\"\",M!M147)","v":""},{"$f":"IF(ISBLANK(M!N147),\"\",M!N147)","v":""},{"$f":"IF(ISBLANK(N!E147),\"\",N!E147)","v":""},{"$f":"IF(ISBLANK(N!F147),\"\",N!F147)","v":""},{"$f":"IF(ISBLANK(N!G147),\"\",N!G147)","v":""},{"$f":"IF(ISBLANK(N!H147),\"\",N!H147)","v":""},{"$f":"IF(ISBLANK(N!I147),\"\",N!I147)","v":""},{"$f":"IF(ISBLANK(N!J147),\"\",N!J147)","v":""},{"$f":"IF(ISBLANK(N!K147),\"\",N!K147)","v":""},{"$f":"IF(ISBLANK(N!L147),\"\",N!L147)","v":""},{"$f":"IF(ISBLANK(N!M147),\"\",N!M147)","v":""},{"$f":"IF(ISBLANK(N!N147),\"\",N!N147)","v":""},null,null,null,{"$f":"IF('F2'!D157=\"\",\"\",'F2'!D157)","v":""}]
[111,null,{"$f":"A!C145","v":""},null,{"$f":"IF('C'!D158=\"\",\"\",'C'!D158)","v":""},{"$f":"IF(D!D158=\"\",\"\",D!D158)","v":""},{"$f":"IF(E!D158=\"\",\"\",E!D158)","v":""},{"$f":"IF(F!D158=\"\",\"\",F!D158)","v":""},null,null,null,null,null,null,null,null,null,null,null,null,null,null,null,null,null,null,null,null,null,null,null,null,null,null,{"$f":"IF(ISBLANK(M!E148),\"\",M!E148)","v":""},{"$f":"IF(ISBLANK(M!F148),\"\",M!F148)","v":""},{"$f":"IF(ISBLANK(M!G148),\"\",M!G148)","v":""},{"$f":"IF(ISBLANK(M!H148),\"\",M!H148)","v":""},{"$f":"IF(ISBLANK(M!I148),\"\",M!I148)","v":""},{"$f":"IF(ISBLANK(M!J148),\"\",M!J148)","v":""},{"$f":"IF(ISBLANK(M!K148),\"\",M!K148)","v":""},{"$f":"IF(ISBLANK(M!L148),\"\",M!L148)","v":""},{"$f":"IF(ISBLANK(M!M148),\"\",M!M148)","v":""},{"$f":"IF(ISBLANK(M!N148),\"\",M!N148)","v":""},{"$f":"IF(ISBLANK(N!E148),\"\",N!E148)","v":""},{"$f":"IF(ISBLANK(N!F148),\"\",N!F148)","v":""},{"$f":"IF(ISBLANK(N!G148),\"\",N!G148)","v":""},{"$f":"IF(ISBLANK(N!H148),\"\",N!H148)","v":""},{"$f":"IF(ISBLANK(N!I148),\"\",N!I148)","v":""},{"$f":"IF(ISBLANK(N!J148),\"\",N!J148)","v":""},{"$f":"IF(ISBLANK(N!K148),\"\",N!K148)","v":""},{"$f":"IF(ISBLANK(N!L148),\"\",N!L148)","v":""},{"$f":"IF(ISBLANK(N!M148),\"\",N!M148)","v":""},{"$f":"IF(ISBLANK(N!N148),\"\",N!N148)","v":""},null,null,null,{"$f":"IF('F2'!D158=\"\",\"\",'F2'!D158)","v":""}]
[112,null,{"$f":"A!C146","v":""},null,{"$f":"IF('C'!D159=\"\",\"\",'C'!D159)","v":""},{"$f":"IF(D!D159=\"\",\"\",D!D159)","v":""},{"$f":"IF(E!D159=\"\",\"\",E!D159)","v":""},{"$f":"IF(F!D159=\"\",\"\",F!D159)","v":""},null,null,null,null,null,null,null,null,null,null,null,null,null,null,null,null,null,null,null,null,null,null,null,null,null,null,{"$f":"IF(ISBLANK(M!E149),\"\",M!E149)","v":""},{"$f":"IF(ISBLANK(M!F149),\"\",M!F149)","v":""},{"$f":"IF(ISBLANK(M!G149),\"\",M!G149)","v":""},{"$f":"IF(ISBLANK(M!H149),\"\",M!H149)","v":""},{"$f":"IF(ISBLANK(M!I149),\"\",M!I149)","v":""},{"$f":"IF(ISBLANK(M!J149),\"\",M!J149)","v":""},{"$f":"IF(ISBLANK(M!K149),\"\",M!K149)","v":""},{"$f":"IF(ISBLANK(M!L149),\"\",M!L149)","v":""},{"$f":"IF(ISBLANK(M!M149),\"\",M!M149)","v":""},{"$f":"IF(ISBLANK(M!N149),\"\",M!N149)","v":""},{"$f":"IF(ISBLANK(N!E149),\"\",N!E149)","v":""},{"$f":"IF(ISBLANK(N!F149),\"\",N!F149)","v":""},{"$f":"IF(ISBLANK(N!G149),\"\",N!G149)","v":""},{"$f":"IF(ISBLANK(N!H149),\"\",N!H149)","v":""},{"$f":"IF(ISBLANK(N!I149),\"\",N!I149)","v":""},{"$f":"IF(ISBLANK(N!J149),\"\",N!J149)","v":""},{"$f":"IF(ISBLANK(N!K149),\"\",N!K149)","v":""},{"$f":"IF(ISBLANK(N!L149),\"\",N!L149)","v":""},{"$f":"IF(ISBLANK(N!M149),\"\",N!M149)","v":""},{"$f":"IF(ISBLANK(N!N149),\"\",N!N149)","v":""},null,null,null,{"$f":"IF('F2'!D159=\"\",\"\",'F2'!D159)","v":""}]
[113,null,{"$f":"A!C147","v":""},null,{"$f":"IF('C'!D160=\"\",\"\",'C'!D160)","v":""},{"$f":"IF(D!D160=\"\",\"\",D!D160)","v":""},{"$f":"IF(E!D160=\"\",\"\",E!D160)","v":""},{"$f":"IF(F!D160=\"\",\"\",F!D160)","v":""},null,null,null,null,null,null,null,null,null,null,null,null,null,null,null,null,null,null,null,null,null,null,null,null,null,null,{"$f":"IF(ISBLANK(M!E150),\"\",M!E150)","v":""},{"$f":"IF(ISBLANK(M!F150),\"\",M!F150)","v":""},{"$f":"IF(ISBLANK(M!G150),\"\",M!G150)","v":""},{"$f":"IF(ISBLANK(M!H150),\"\",M!H150)","v":""},{"$f":"IF(ISBLANK(M!I150),\"\",M!I150)","v":""},{"$f":"IF(ISBLANK(M!J150),\"\",M!J150)","v":""},{"$f":"IF(ISBLANK(M!K150),\"\",M!K150)","v":""},{"$f":"IF(ISBLANK(M!L150),\"\",M!L150)","v":""},{"$f":"IF(ISBLANK(M!M150),\"\",M!M150)","v":""},{"$f":"IF(ISBLANK(M!N150),\"\",M!N150)","v":""},{"$f":"IF(ISBLANK(N!E150),\"\",N!E150)","v":""},{"$f":"IF(ISBLANK(N!F150),\"\",N!F150)","v":""},{"$f":"IF(ISBLANK(N!G150),\"\",N!G150)","v":""},{"$f":"IF(ISBLANK(N!H150),\"\",N!H150)","v":""},{"$f":"IF(ISBLANK(N!I150),\"\",N!I150)","v":""},{"$f":"IF(ISBLANK(N!J150),\"\",N!J150)","v":""},{"$f":"IF(ISBLANK(N!K150),\"\",N!K150)","v":""},{"$f":"IF(ISBLANK(N!L150),\"\",N!L150)","v":""},{"$f":"IF(ISBLANK(N!M150),\"\",N!M150)","v":""},{"$f":"IF(ISBLANK(N!N150),\"\",N!N150)","v":""},null,null,null,{"$f":"IF('F2'!D160=\"\",\"\",'F2'!D160)","v":""}]
[114,null,{"$f":"A!C148","v":""},null,{"$f":"IF('C'!D161=\"\",\"\",'C'!D161)","v":""},{"$f":"IF(D!D161=\"\",\"\",D!D161)","v":""},{"$f":"IF(E!D161=\"\",\"\",E!D161)","v":""},{"$f":"IF(F!D161=\"\",\"\",F!D161)","v":""},null,null,null,null,null,null,null,null,null,null,null,null,null,null,null,null,null,null,null,null,null,null,null,null,null,null,{"$f":"IF(ISBLANK(M!E151),\"\",M!E151)","v":""},{"$f":"IF(ISBLANK(M!F151),\"\",M!F151)","v":""},{"$f":"IF(ISBLANK(M!G151),\"\",M!G151)","v":""},{"$f":"IF(ISBLANK(M!H151),\"\",M!H151)","v":""},{"$f":"IF(ISBLANK(M!I151),\"\",M!I151)","v":""},{"$f":"IF(ISBLANK(M!J151),\"\",M!J151)","v":""},{"$f":"IF(ISBLANK(M!K151),\"\",M!K151)","v":""},{"$f":"IF(ISBLANK(M!L151),\"\",M!L151)","v":""},{"$f":"IF(ISBLANK(M!M151),\"\",M!M151)","v":""},{"$f":"IF(ISBLANK(M!N151),\"\",M!N151)","v":""},{"$f":"IF(ISBLANK(N!E151),\"\",N!E151)","v":""},{"$f":"IF(ISBLANK(N!F151),\"\",N!F151)","v":""},{"$f":"IF(ISBLANK(N!G151),\"\",N!G151)","v":""},{"$f":"IF(ISBLANK(N!H151),\"\",N!H151)","v":""},{"$f":"IF(ISBLANK(N!I151),\"\",N!I151)","v":""},{"$f":"IF(ISBLANK(N!J151),\"\",N!J151)","v":""},{"$f":"IF(ISBLANK(N!K151),\"\",N!K151)","v":""},{"$f":"IF(ISBLANK(N!L151),\"\",N!L151)","v":""},{"$f":"IF(ISBLANK(N!M151),\"\",N!M151)","v":""},{"$f":"IF(ISBLANK(N!N151),\"\",N!N151)","v":""},null,null,null,{"$f":"IF('F2'!D161=\"\",\"\",'F2'!D161)","v":""}]
[115,null,{"$f":"A!C149","v":""},null,{"$f":"IF('C'!D162=\"\",\"\",'C'!D162)","v":""},{"$f":"IF(D!D162=\"\",\"\",D!D162)","v":""},{"$f":"IF(E!D162=\"\",\"\",E!D162)","v":""},{"$f":"IF(F!D162=\"\",\"\",F!D162)","v":""},null,null,null,null,null,null,null,null,null,null,null,null,null,null,null,null,null,null,null,null,null,null,null,null,null,null,{"$f":"IF(ISBLANK(M!E152),\"\",M!E152)","v":""},{"$f":"IF(ISBLANK(M!F152),\"\",M!F152)","v":""},{"$f":"IF(ISBLANK(M!G152),\"\",M!G152)","v":""},{"$f":"IF(ISBLANK(M!H152),\"\",M!H152)","v":""},{"$f":"IF(ISBLANK(M!I152),\"\",M!I152)","v":""},{"$f":"IF(ISBLANK(M!J152),\"\",M!J152)","v":""},{"$f":"IF(ISBLANK(M!K152),\"\",M!K152)","v":""},{"$f":"IF(ISBLANK(M!L152),\"\",M!L152)","v":""},{"$f":"IF(ISBLANK(M!M152),\"\",M!M152)","v":""},{"$f":"IF(ISBLANK(M!N152),\"\",M!N152)","v":""},{"$f":"IF(ISBLANK(N!E152),\"\",N!E152)","v":""},{"$f":"IF(ISBLANK(N!F152),\"\",N!F152)","v":""},{"$f":"IF(ISBLANK(N!G152),\"\",N!G152)","v":""},{"$f":"IF(ISBLANK(N!H152),\"\",N!H152)","v":""},{"$f":"IF(ISBLANK(N!I152),\"\",N!I152)","v":""},{"$f":"IF(ISBLANK(N!J152),\"\",N!J152)","v":""},{"$f":"IF(ISBLANK(N!K152),\"\",N!K152)","v":""},{"$f":"IF(ISBLANK(N!L152),\"\",N!L152)","v":""},{"$f":"IF(ISBLANK(N!M152),\"\",N!M152)","v":""},{"$f":"IF(ISBLANK(N!N152),\"\",N!N152)","v":""},null,null,null,{"$f":"IF('F2'!D162=\"\",\"\",'F2'!D162)","v":""}]
[116,null,{"$f":"A!C150","v":""},null,{"$f":"IF('C'!D163=\"\",\"\",'C'!D163)","v":""},{"$f":"IF(D!D163=\"\",\"\",D!D163)","v":""},{"$f":"IF(E!D163=\"\",\"\",E!D163)","v":""},{"$f":"IF(F!D163=\"\",\"\",F!D163)","v":""},null,null,null,null,null,null,null,null,null,null,null,null,null,null,null,null,null,null,null,null,null,null,null,null,null,null,{"$f":"IF(ISBLANK(M!E153),\"\",M!E153)","v":""},{"$f":"IF(ISBLANK(M!F153),\"\",M!F153)","v":""},{"$f":"IF(ISBLANK(M!G153),\"\",M!G153)","v":""},{"$f":"IF(ISBLANK(M!H153),\"\",M!H153)","v":""},{"$f":"IF(ISBLANK(M!I153),\"\",M!I153)","v":""},{"$f":"IF(ISBLANK(M!J153),\"\",M!J153)","v":""},{"$f":"IF(ISBLANK(M!K153),\"\",M!K153)","v":""},{"$f":"IF(ISBLANK(M!L153),\"\",M!L153)","v":""},{"$f":"IF(ISBLANK(M!M153),\"\",M!M153)","v":""},{"$f":"IF(ISBLANK(M!N153),\"\",M!N153)","v":""},{"$f":"IF(ISBLANK(N!E153),\"\",N!E153)","v":""},{"$f":"IF(ISBLANK(N!F153),\"\",N!F153)","v":""},{"$f":"IF(ISBLANK(N!G153),\"\",N!G153)","v":""},{"$f":"IF(ISBLANK(N!H153),\"\",N!H153)","v":""},{"$f":"IF(ISBLANK(N!I153),\"\",N!I153)","v":""},{"$f":"IF(ISBLANK(N!J153),\"\",N!J153)","v":""},{"$f":"IF(ISBLANK(N!K153),\"\",N!K153)","v":""},{"$f":"IF(ISBLANK(N!L153),\"\",N!L153)","v":""},{"$f":"IF(ISBLANK(N!M153),\"\",N!M153)","v":""},{"$f":"IF(ISBLANK(N!N153),\"\",N!N153)","v":""},null,null,null,{"$f":"IF('F2'!D163=\"\",\"\",'F2'!D163)","v":""}]
[117,null,{"$f":"A!C151","v":""},null,{"$f":"IF('C'!D164=\"\",\"\",'C'!D164)","v":""},{"$f":"IF(D!D164=\"\",\"\",D!D164)","v":""},{"$f":"IF(E!D164=\"\",\"\",E!D164)","v":""},{"$f":"IF(F!D164=\"\",\"\",F!D164)","v":""},null,null,null,null,null,null,null,null,null,null,null,null,null,null,null,null,null,null,null,null,null,null,null,null,null,null,{"$f":"IF(ISBLANK(M!E154),\"\",M!E154)","v":""},{"$f":"IF(ISBLANK(M!F154),\"\",M!F154)","v":""},{"$f":"IF(ISBLANK(M!G154),\"\",M!G154)","v":""},{"$f":"IF(ISBLANK(M!H154),\"\",M!H154)","v":""},{"$f":"IF(ISBLANK(M!I154),\"\",M!I154)","v":""},{"$f":"IF(ISBLANK(M!J154),\"\",M!J154)","v":""},{"$f":"IF(ISBLANK(M!K154),\"\",M!K154)","v":""},{"$f":"IF(ISBLANK(M!L154),\"\",M!L154)","v":""},{"$f":"IF(ISBLANK(M!M154),\"\",M!M154)","v":""},{"$f":"IF(ISBLANK(M!N154),\"\",M!N154)","v":""},{"$f":"IF(ISBLANK(N!E154),\"\",N!E154)","v":""},{"$f":"IF(ISBLANK(N!F154),\"\",N!F154)","v":""},{"$f":"IF(ISBLANK(N!G154),\"\",N!G154)","v":""},{"$f":"IF(ISBLANK(N!H154),\"\",N!H154)","v":""},{"$f":"IF(ISBLANK(N!I154),\"\",N!I154)","v":""},{"$f":"IF(ISBLANK(N!J154),\"\",N!J154)","v":""},{"$f":"IF(ISBLANK(N!K154),\"\",N!K154)","v":""},{"$f":"IF(ISBLANK(N!L154),\"\",N!L154)","v":""},{"$f":"IF(ISBLANK(N!M154),\"\",N!M154)","v":""},{"$f":"IF(ISBLANK(N!N154),\"\",N!N154)","v":""},null,null,null,{"$f":"IF('F2'!D164=\"\",\"\",'F2'!D164)","v":""}]
[118,null,{"$f":"A!C152","v":""},null,{"$f":"IF('C'!D165=\"\",\"\",'C'!D165)","v":""},{"$f":"IF(D!D165=\"\",\"\",D!D165)","v":""},{"$f":"IF(E!D165=\"\",\"\",E!D165)","v":""},{"$f":"IF(F!D165=\"\",\"\",F!D165)","v":""},null,null,null,null,null,null,null,null,null,null,null,null,null,null,null,null,null,null,null,null,null,null,null,null,null,null,{"$f":"IF(ISBLANK(M!E155),\"\",M!E155)","v":""},{"$f":"IF(ISBLANK(M!F155),\"\",M!F155)","v":""},{"$f":"IF(ISBLANK(M!G155),\"\",M!G155)","v":""},{"$f":"IF(ISBLANK(M!H155),\"\",M!H155)","v":""},{"$f":"IF(ISBLANK(M!I155),\"\",M!I155)","v":""},{"$f":"IF(ISBLANK(M!J155),\"\",M!J155)","v":""},{"$f":"IF(ISBLANK(M!K155),\"\",M!K155)","v":""},{"$f":"IF(ISBLANK(M!L155),\"\",M!L155)","v":""},{"$f":"IF(ISBLANK(M!M155),\"\",M!M155)","v":""},{"$f":"IF(ISBLANK(M!N155),\"\",M!N155)","v":""},{"$f":"IF(ISBLANK(N!E155),\"\",N!E155)","v":""},{"$f":"IF(ISBLANK(N!F155),\"\",N!F155)","v":""},{"$f":"IF(ISBLANK(N!G155),\"\",N!G155)","v":""},{"$f":"IF(ISBLANK(N!H155),\"\",N!H155)","v":""},{"$f":"IF(ISBLANK(N!I155),\"\",N!I155)","v":""},{"$f":"IF(ISBLANK(N!J155),\"\",N!J155)","v":""},{"$f":"IF(ISBLANK(N!K155),\"\",N!K155)","v":""},{"$f":"IF(ISBLANK(N!L155),\"\",N!L155)","v":""},{"$f":"IF(ISBLANK(N!M155),\"\",N!M155)","v":""},{"$f":"IF(ISBLANK(N!N155),\"\",N!N155)","v":""},null,null,null,{"$f":"IF('F2'!D165=\"\",\"\",'F2'!D165)","v":""}]
[119,null,{"$f":"A!C153","v":""},null,{"$f":"IF('C'!D166=\"\",\"\",'C'!D166)","v":""},{"$f":"IF(D!D166=\"\",\"\",D!D166)","v":""},{"$f":"IF(E!D166=\"\",\"\",E!D166)","v":""},{"$f":"IF(F!D166=\"\",\"\",F!D166)","v":""},null,null,null,null,null,null,null,null,null,null,null,null,null,null,null,null,null,null,null,null,null,null,null,null,null,null,{"$f":"IF(ISBLANK(M!E156),\"\",M!E156)","v":""},{"$f":"IF(ISBLANK(M!F156),\"\",M!F156)","v":""},{"$f":"IF(ISBLANK(M!G156),\"\",M!G156)","v":""},{"$f":"IF(ISBLANK(M!H156),\"\",M!H156)","v":""},{"$f":"IF(ISBLANK(M!I156),\"\",M!I156)","v":""},{"$f":"IF(ISBLANK(M!J156),\"\",M!J156)","v":""},{"$f":"IF(ISBLANK(M!K156),\"\",M!K156)","v":""},{"$f":"IF(ISBLANK(M!L156),\"\",M!L156)","v":""},{"$f":"IF(ISBLANK(M!M156),\"\",M!M156)","v":""},{"$f":"IF(ISBLANK(M!N156),\"\",M!N156)","v":""},{"$f":"IF(ISBLANK(N!E156),\"\",N!E156)","v":""},{"$f":"IF(ISBLANK(N!F156),\"\",N!F156)","v":""},{"$f":"IF(ISBLANK(N!G156),\"\",N!G156)","v":""},{"$f":"IF(ISBLANK(N!H156),\"\",N!H156)","v":""},{"$f":"IF(ISBLANK(N!I156),\"\",N!I156)","v":""},{"$f":"IF(ISBLANK(N!J156),\"\",N!J156)","v":""},{"$f":"IF(ISBLANK(N!K156),\"\",N!K156)","v":""},{"$f":"IF(ISBLANK(N!L156),\"\",N!L156)","v":""},{"$f":"IF(ISBLANK(N!M156),\"\",N!M156)","v":""},{"$f":"IF(ISBLANK(N!N156),\"\",N!N156)","v":""},null,null,null,{"$f":"IF('F2'!D166=\"\",\"\",'F2'!D166)","v":""}]
[120,null,{"$f":"A!C154","v":""},null,{"$f":"IF('C'!D167=\"\",\"\",'C'!D167)","v":""},{"$f":"IF(D!D167=\"\",\"\",D!D167)","v":""},{"$f":"IF(E!D167=\"\",\"\",E!D167)","v":""},{"$f":"IF(F!D167=\"\",\"\",F!D167)","v":""},null,null,null,null,null,null,null,null,null,null,null,null,null,null,null,null,null,null,null,null,null,null,null,null,null,null,{"$f":"IF(ISBLANK(M!E157),\"\",M!E157)","v":""},{"$f":"IF(ISBLANK(M!F157),\"\",M!F157)","v":""},{"$f":"IF(ISBLANK(M!G157),\"\",M!G157)","v":""},{"$f":"IF(ISBLANK(M!H157),\"\",M!H157)","v":""},{"$f":"IF(ISBLANK(M!I157),\"\",M!I157)","v":""},{"$f":"IF(ISBLANK(M!J157),\"\",M!J157)","v":""},{"$f":"IF(ISBLANK(M!K157),\"\",M!K157)","v":""},{"$f":"IF(ISBLANK(M!L157),\"\",M!L157)","v":""},{"$f":"IF(ISBLANK(M!M157),\"\",M!M157)","v":""},{"$f":"IF(ISBLANK(M!N157),\"\",M!N157)","v":""},{"$f":"IF(ISBLANK(N!E157),\"\",N!E157)","v":""},{"$f":"IF(ISBLANK(N!F157),\"\",N!F157)","v":""},{"$f":"IF(ISBLANK(N!G157),\"\",N!G157)","v":""},{"$f":"IF(ISBLANK(N!H157),\"\",N!H157)","v":""},{"$f":"IF(ISBLANK(N!I157),\"\",N!I157)","v":""},{"$f":"IF(ISBLANK(N!J157),\"\",N!J157)","v":""},{"$f":"IF(ISBLANK(N!K157),\"\",N!K157)","v":""},{"$f":"IF(ISBLANK(N!L157),\"\",N!L157)","v":""},{"$f":"IF(ISBLANK(N!M157),\"\",N!M157)","v":""},{"$f":"IF(ISBLANK(N!N157),\"\",N!N157)","v":""},null,null,null,{"$f":"IF('F2'!D167=\"\",\"\",'F2'!D167)","v":""}]
[121,null,{"$f":"A!C155","v":""},null,{"$f":"IF('C'!D168=\"\",\"\",'C'!D168)","v":""},{"$f":"IF(D!D168=\"\",\"\",D!D168)","v":""},{"$f":"IF(E!D168=\"\",\"\",E!D168)","v":""},{"$f":"IF(F!D168=\"\",\"\",F!D168)","v":""},null,null,null,null,null,null,null,null,null,null,null,null,null,null,null,null,null,null,null,null,null,null,null,null,null,null,{"$f":"IF(ISBLANK(M!E158),\"\",M!E158)","v":""},{"$f":"IF(ISBLANK(M!F158),\"\",M!F158)","v":""},{"$f":"IF(ISBLANK(M!G158),\"\",M!G158)","v":""},{"$f":"IF(ISBLANK(M!H158),\"\",M!H158)","v":""},{"$f":"IF(ISBLANK(M!I158),\"\",M!I158)","v":""},{"$f":"IF(ISBLANK(M!J158),\"\",M!J158)","v":""},{"$f":"IF(ISBLANK(M!K158),\"\",M!K158)","v":""},{"$f":"IF(ISBLANK(M!L158),\"\",M!L158)","v":""},{"$f":"IF(ISBLANK(M!M158),\"\",M!M158)","v":""},{"$f":"IF(ISBLANK(M!N158),\"\",M!N158)","v":""},{"$f":"IF(ISBLANK(N!E158),\"\",N!E158)","v":""},{"$f":"IF(ISBLANK(N!F158),\"\",N!F158)","v":""},{"$f":"IF(ISBLANK(N!G158),\"\",N!G158)","v":""},{"$f":"IF(ISBLANK(N!H158),\"\",N!H158)","v":""},{"$f":"IF(ISBLANK(N!I158),\"\",N!I158)","v":""},{"$f":"IF(ISBLANK(N!J158),\"\",N!J158)","v":""},{"$f":"IF(ISBLANK(N!K158),\"\",N!K158)","v":""},{"$f":"IF(ISBLANK(N!L158),\"\",N!L158)","v":""},{"$f":"IF(ISBLANK(N!M158),\"\",N!M158)","v":""},{"$f":"IF(ISBLANK(N!N158),\"\",N!N158)","v":""},null,null,null,{"$f":"IF('F2'!D168=\"\",\"\",'F2'!D168)","v":""}]
[122,null,{"$f":"A!C156","v":""},null,{"$f":"IF('C'!D169=\"\",\"\",'C'!D169)","v":""},{"$f":"IF(D!D169=\"\",\"\",D!D169)","v":""},{"$f":"IF(E!D169=\"\",\"\",E!D169)","v":""},{"$f":"IF(F!D169=\"\",\"\",F!D169)","v":""},null,null,null,null,null,null,null,null,null,null,null,null,null,null,null,null,null,null,null,null,null,null,null,null,null,null,{"$f":"IF(ISBLANK(M!E159),\"\",M!E159)","v":""},{"$f":"IF(ISBLANK(M!F159),\"\",M!F159)","v":""},{"$f":"IF(ISBLANK(M!G159),\"\",M!G159)","v":""},{"$f":"IF(ISBLANK(M!H159),\"\",M!H159)","v":""},{"$f":"IF(ISBLANK(M!I159),\"\",M!I159)","v":""},{"$f":"IF(ISBLANK(M!J159),\"\",M!J159)","v":""},{"$f":"IF(ISBLANK(M!K159),\"\",M!K159)","v":""},{"$f":"IF(ISBLANK(M!L159),\"\",M!L159)","v":""},{"$f":"IF(ISBLANK(M!M159),\"\",M!M159)","v":""},{"$f":"IF(ISBLANK(M!N159),\"\",M!N159)","v":""},{"$f":"IF(ISBLANK(N!E159),\"\",N!E159)","v":""},{"$f":"IF(ISBLANK(N!F159),\"\",N!F159)","v":""},{"$f":"IF(ISBLANK(N!G159),\"\",N!G159)","v":""},{"$f":"IF(ISBLANK(N!H159),\"\",N!H159)","v":""},{"$f":"IF(ISBLANK(N!I159),\"\",N!I159)","v":""},{"$f":"IF(ISBLANK(N!J159),\"\",N!J159)","v":""},{"$f":"IF(ISBLANK(N!K159),\"\",N!K159)","v":""},{"$f":"IF(ISBLANK(N!L159),\"\",N!L159)","v":""},{"$f":"IF(ISBLANK(N!M159),\"\",N!M159)","v":""},{"$f":"IF(ISBLANK(N!N159),\"\",N!N159)","v":""},null,null,null,{"$f":"IF('F2'!D169=\"\",\"\",'F2'!D169)","v":""}]
[123,null,{"$f":"A!C157","v":""},null,{"$f":"IF('C'!D170=\"\",\"\",'C'!D170)","v":""},{"$f":"IF(D!D170=\"\",\"\",D!D170)","v":""},{"$f":"IF(E!D170=\"\",\"\",E!D170)","v":""},{"$f":"IF(F!D170=\"\",\"\",F!D170)","v":""},null,null,null,null,null,null,null,null,null,null,null,null,null,null,null,null,null,null,null,null,null,null,null,null,null,null,{"$f":"IF(ISBLANK(M!E160),\"\",M!E160)","v":""},{"$f":"IF(ISBLANK(M!F160),\"\",M!F160)","v":""},{"$f":"IF(ISBLANK(M!G160),\"\",M!G160)","v":""},{"$f":"IF(ISBLANK(M!H160),\"\",M!H160)","v":""},{"$f":"IF(ISBLANK(M!I160),\"\",M!I160)","v":""},{"$f":"IF(ISBLANK(M!J160),\"\",M!J160)","v":""},{"$f":"IF(ISBLANK(M!K160),\"\",M!K160)","v":""},{"$f":"IF(ISBLANK(M!L160),\"\",M!L160)","v":""},{"$f":"IF(ISBLANK(M!M160),\"\",M!M160)","v":""},{"$f":"IF(ISBLANK(M!N160),\"\",M!N160)","v":""},{"$f":"IF(ISBLANK(N!E160),\"\",N!E160)","v":""},{"$f":"IF(ISBLANK(N!F160),\"\",N!F160)","v":""},{"$f":"IF(ISBLANK(N!G160),\"\",N!G160)","v":""},{"$f":"IF(ISBLANK(N!H160),\"\",N!H160)","v":""},{"$f":"IF(ISBLANK(N!I160),\"\",N!I160)","v":""},{"$f":"IF(ISBLANK(N!J160),\"\",N!J160)","v":""},{"$f":"IF(ISBLANK(N!K160),\"\",N!K160)","v":""},{"$f":"IF(ISBLANK(N!L160),\"\",N!L160)","v":""},{"$f":"IF(ISBLANK(N!M160),\"\",N!M160)","v":""},{"$f":"IF(ISBLANK(N!N160),\"\",N!N160)","v":""},null,null,null,{"$f":"IF('F2'!D170=\"\",\"\",'F2'!D170)","v":""}]
[124,null,{"$f":"A!C158","v":""},null,{"$f":"IF('C'!D171=\"\",\"\",'C'!D171)","v":""},{"$f":"IF(D!D171=\"\",\"\",D!D171)","v":""},{"$f":"IF(E!D171=\"\",\"\",E!D171)","v":""},{"$f":"IF(F!D171=\"\",\"\",F!D171)","v":""},null,null,null,null,null,null,null,null,null,null,null,null,null,null,null,null,null,null,null,null,null,null,null,null,null,null,{"$f":"IF(ISBLANK(M!E161),\"\",M!E161)","v":""},{"$f":"IF(ISBLANK(M!F161),\"\",M!F161)","v":""},{"$f":"IF(ISBLANK(M!G161),\"\",M!G161)","v":""},{"$f":"IF(ISBLANK(M!H161),\"\",M!H161)","v":""},{"$f":"IF(ISBLANK(M!I161),\"\",M!I161)","v":""},{"$f":"IF(ISBLANK(M!J161),\"\",M!J161)","v":""},{"$f":"IF(ISBLANK(M!K161),\"\",M!K161)","v":""},{"$f":"IF(ISBLANK(M!L161),\"\",M!L161)","v":""},{"$f":"IF(ISBLANK(M!M161),\"\",M!M161)","v":""},{"$f":"IF(ISBLANK(M!N161),\"\",M!N161)","v":""},{"$f":"IF(ISBLANK(N!E161),\"\",N!E161)","v":""},{"$f":"IF(ISBLANK(N!F161),\"\",N!F161)","v":""},{"$f":"IF(ISBLANK(N!G161),\"\",N!G161)","v":""},{"$f":"IF(ISBLANK(N!H161),\"\",N!H161)","v":""},{"$f":"IF(ISBLANK(N!I161),\"\",N!I161)","v":""},{"$f":"IF(ISBLANK(N!J161),\"\",N!J161)","v":""},{"$f":"IF(ISBLANK(N!K161),\"\",N!K161)","v":""},{"$f":"IF(ISBLANK(N!L161),\"\",N!L161)","v":""},{"$f":"IF(ISBLANK(N!M161),\"\",N!M161)","v":""},{"$f":"IF(ISBLANK(N!N161),\"\",N!N161)","v":""},null,null,null,{"$f":"IF('F2'!D171=\"\",\"\",'F2'!D171)","v":""}]
[125,null,{"$f":"A!C159","v":""},null,{"$f":"IF('C'!D172=\"\",\"\",'C'!D172)","v":""},{"$f":"IF(D!D172=\"\",\"\",D!D172)","v":""},{"$f":"IF(E!D172=\"\",\"\",E!D172)","v":""},{"$f":"IF(F!D172=\"\",\"\",F!D172)","v":""},null,null,null,null,null,null,null,null,null,null,null,null,null,null,null,null,null,null,null,null,null,null,null,null,null,null,{"$f":"IF(ISBLANK(M!E162),\"\",M!E162)","v":""},{"$f":"IF(ISBLANK(M!F162),\"\",M!F162)","v":""},{"$f":"IF(ISBLANK(M!G162),\"\",M!G162)","v":""},{"$f":"IF(ISBLANK(M!H162),\"\",M!H162)","v":""},{"$f":"IF(ISBLANK(M!I162),\"\",M!I162)","v":""},{"$f":"IF(ISBLANK(M!J162),\"\",M!J162)","v":""},{"$f":"IF(ISBLANK(M!K162),\"\",M!K162)","v":""},{"$f":"IF(ISBLANK(M!L162),\"\",M!L162)","v":""},{"$f":"IF(ISBLANK(M!M162),\"\",M!M162)","v":""},{"$f":"IF(ISBLANK(M!N162),\"\",M!N162)","v":""},{"$f":"IF(ISBLANK(N!E162),\"\",N!E162)","v":""},{"$f":"IF(ISBLANK(N!F162),\"\",N!F162)","v":""},{"$f":"IF(ISBLANK(N!G162),\"\",N!G162)","v":""},{"$f":"IF(ISBLANK(N!H162),\"\",N!H162)","v":""},{"$f":"IF(ISBLANK(N!I162),\"\",N!I162)","v":""},{"$f":"IF(ISBLANK(N!J162),\"\",N!J162)","v":""},{"$f":"IF(ISBLANK(N!K162),\"\",N!K162)","v":""},{"$f":"IF(ISBLANK(N!L162),\"\",N!L162)","v":""},{"$f":"IF(ISBLANK(N!M162),\"\",N!M162)","v":""},{"$f":"IF(ISBLANK(N!N162),\"\",N!N162)","v":""},null,null,null,{"$f":"IF('F2'!D172=\"\",\"\",'F2'!D172)","v":""}]
[126,null,{"$f":"A!C160","v":""},null,{"$f":"IF('C'!D173=\"\",\"\",'C'!D173)","v":""},{"$f":"IF(D!D173=\"\",\"\",D!D173)","v":""},{"$f":"IF(E!D173=\"\",\"\",E!D173)","v":""},{"$f":"IF(F!D173=\"\",\"\",F!D173)","v":""},null,null,null,null,null,null,null,null,null,null,null,null,null,null,null,null,null,null,null,null,null,null,null,null,null,null,{"$f":"IF(ISBLANK(M!E163),\"\",M!E163)","v":""},{"$f":"IF(ISBLANK(M!F163),\"\",M!F163)","v":""},{"$f":"IF(ISBLANK(M!G163),\"\",M!G163)","v":""},{"$f":"IF(ISBLANK(M!H163),\"\",M!H163)","v":""},{"$f":"IF(ISBLANK(M!I163),\"\",M!I163)","v":""},{"$f":"IF(ISBLANK(M!J163),\"\",M!J163)","v":""},{"$f":"IF(ISBLANK(M!K163),\"\",M!K163)","v":""},{"$f":"IF(ISBLANK(M!L163),\"\",M!L163)","v":""},{"$f":"IF(ISBLANK(M!M163),\"\",M!M163)","v":""},{"$f":"IF(ISBLANK(M!N163),\"\",M!N163)","v":""},{"$f":"IF(ISBLANK(N!E163),\"\",N!E163)","v":""},{"$f":"IF(ISBLANK(N!F163),\"\",N!F163)","v":""},{"$f":"IF(ISBLANK(N!G163),\"\",N!G163)","v":""},{"$f":"IF(ISBLANK(N!H163),\"\",N!H163)","v":""},{"$f":"IF(ISBLANK(N!I163),\"\",N!I163)","v":""},{"$f":"IF(ISBLANK(N!J163),\"\",N!J163)","v":""},{"$f":"IF(ISBLANK(N!K163),\"\",N!K163)","v":""},{"$f":"IF(ISBLANK(N!L163),\"\",N!L163)","v":""},{"$f":"IF(ISBLANK(N!M163),\"\",N!M163)","v":""},{"$f":"IF(ISBLANK(N!N163),\"\",N!N163)","v":""},null,null,null,{"$f":"IF('F2'!D173=\"\",\"\",'F2'!D173)","v":""}]
[127,null,{"$f":"A!C161","v":""},null,{"$f":"IF('C'!D174=\"\",\"\",'C'!D174)","v":""},{"$f":"IF(D!D174=\"\",\"\",D!D174)","v":""},{"$f":"IF(E!D174=\"\",\"\",E!D174)","v":""},{"$f":"IF(F!D174=\"\",\"\",F!D174)","v":""},null,null,null,null,null,null,null,null,null,null,null,null,null,null,null,null,null,null,null,null,null,null,null,null,null,null,{"$f":"IF(ISBLANK(M!E164),\"\",M!E164)","v":""},{"$f":"IF(ISBLANK(M!F164),\"\",M!F164)","v":""},{"$f":"IF(ISBLANK(M!G164),\"\",M!G164)","v":""},{"$f":"IF(ISBLANK(M!H164),\"\",M!H164)","v":""},{"$f":"IF(ISBLANK(M!I164),\"\",M!I164)","v":""},{"$f":"IF(ISBLANK(M!J164),\"\",M!J164)","v":""},{"$f":"IF(ISBLANK(M!K164),\"\",M!K164)","v":""},{"$f":"IF(ISBLANK(M!L164),\"\",M!L164)","v":""},{"$f":"IF(ISBLANK(M!M164),\"\",M!M164)","v":""},{"$f":"IF(ISBLANK(M!N164),\"\",M!N164)","v":""},{"$f":"IF(ISBLANK(N!E164),\"\",N!E164)","v":""},{"$f":"IF(ISBLANK(N!F164),\"\",N!F164)","v":""},{"$f":"IF(ISBLANK(N!G164),\"\",N!G164)","v":""},{"$f":"IF(ISBLANK(N!H164),\"\",N!H164)","v":""},{"$f":"IF(ISBLANK(N!I164),\"\",N!I164)","v":""},{"$f":"IF(ISBLANK(N!J164),\"\",N!J164)","v":""},{"$f":"IF(ISBLANK(N!K164),\"\",N!K164)","v":""},{"$f":"IF(ISBLANK(N!L164),\"\",N!L164)","v":""},{"$f":"IF(ISBLANK(N!M164),\"\",N!M164)","v":""},{"$f":"IF(ISBLANK(N!N164),\"\",N!N164)","v":""},null,null,null,{"$f":"IF('F2'!D174=\"\",\"\",'F2'!D174)","v":""}]
[128,null,{"$f":"A!C162","v":""},null,{"$f":"IF('C'!D175=\"\",\"\",'C'!D175)","v":""},{"$f":"IF(D!D175=\"\",\"\",D!D175)","v":""},{"$f":"IF(E!D175=\"\",\"\",E!D175)","v":""},{"$f":"IF(F!D175=\"\",\"\",F!D175)","v":""},null,null,null,null,null,null,null,null,null,null,null,null,null,null,null,null,null,null,null,null,null,null,null,null,null,null,{"$f":"IF(ISBLANK(M!E165),\"\",M!E165)","v":""},{"$f":"IF(ISBLANK(M!F165),\"\",M!F165)","v":""},{"$f":"IF(ISBLANK(M!G165),\"\",M!G165)","v":""},{"$f":"IF(ISBLANK(M!H165),\"\",M!H165)","v":""},{"$f":"IF(ISBLANK(M!I165),\"\",M!I165)","v":""},{"$f":"IF(ISBLANK(M!J165),\"\",M!J165)","v":""},{"$f":"IF(ISBLANK(M!K165),\"\",M!K165)","v":""},{"$f":"IF(ISBLANK(M!L165),\"\",M!L165)","v":""},{"$f":"IF(ISBLANK(M!M165),\"\",M!M165)","v":""},{"$f":"IF(ISBLANK(M!N165),\"\",M!N165)","v":""},{"$f":"IF(ISBLANK(N!E165),\"\",N!E165)","v":""},{"$f":"IF(ISBLANK(N!F165),\"\",N!F165)","v":""},{"$f":"IF(ISBLANK(N!G165),\"\",N!G165)","v":""},{"$f":"IF(ISBLANK(N!H165),\"\",N!H165)","v":""},{"$f":"IF(ISBLANK(N!I165),\"\",N!I165)","v":""},{"$f":"IF(ISBLANK(N!J165),\"\",N!J165)","v":""},{"$f":"IF(ISBLANK(N!K165),\"\",N!K165)","v":""},{"$f":"IF(ISBLANK(N!L165),\"\",N!L165)","v":""},{"$f":"IF(ISBLANK(N!M165),\"\",N!M165)","v":""},{"$f":"IF(ISBLANK(N!N165),\"\",N!N165)","v":""},null,null,null,{"$f":"IF('F2'!D175=\"\",\"\",'F2'!D175)","v":""}]
[129,null,{"$f":"A!C163","v":""},null,{"$f":"IF('C'!D176=\"\",\"\",'C'!D176)","v":""},{"$f":"IF(D!D176=\"\",\"\",D!D176)","v":""},{"$f":"IF(E!D176=\"\",\"\",E!D176)","v":""},{"$f":"IF(F!D176=\"\",\"\",F!D176)","v":""},null,null,null,null,null,null,null,null,null,null,null,null,null,null,null,null,null,null,null,null,null,null,null,null,null,null,{"$f":"IF(ISBLANK(M!E166),\"\",M!E166)","v":""},{"$f":"IF(ISBLANK(M!F166),\"\",M!F166)","v":""},{"$f":"IF(ISBLANK(M!G166),\"\",M!G166)","v":""},{"$f":"IF(ISBLANK(M!H166),\"\",M!H166)","v":""},{"$f":"IF(ISBLANK(M!I166),\"\",M!I166)","v":""},{"$f":"IF(ISBLANK(M!J166),\"\",M!J166)","v":""},{"$f":"IF(ISBLANK(M!K166),\"\",M!K166)","v":""},{"$f":"IF(ISBLANK(M!L166),\"\",M!L166)","v":""},{"$f":"IF(ISBLANK(M!M166),\"\",M!M166)","v":""},{"$f":"IF(ISBLANK(M!N166),\"\",M!N166)","v":""},{"$f":"IF(ISBLANK(N!E166),\"\",N!E166)","v":""},{"$f":"IF(ISBLANK(N!F166),\"\",N!F166)","v":""},{"$f":"IF(ISBLANK(N!G166),\"\",N!G166)","v":""},{"$f":"IF(ISBLANK(N!H166),\"\",N!H166)","v":""},{"$f":"IF(ISBLANK(N!I166),\"\",N!I166)","v":""},{"$f":"IF(ISBLANK(N!J166),\"\",N!J166)","v":""},{"$f":"IF(ISBLANK(N!K166),\"\",N!K166)","v":""},{"$f":"IF(ISBLANK(N!L166),\"\",N!L166)","v":""},{"$f":"IF(ISBLANK(N!M166),\"\",N!M166)","v":""},{"$f":"IF(ISBLANK(N!N166),\"\",N!N166)","v":""},null,null,null,{"$f":"IF('F2'!D176=\"\",\"\",'F2'!D176)","v":""}]
[130,null,{"$f":"A!C164","v":""},null,{"$f":"IF('C'!D177=\"\",\"\",'C'!D177)","v":""},{"$f":"IF(D!D177=\"\",\"\",D!D177)","v":""},{"$f":"IF(E!D177=\"\",\"\",E!D177)","v":""},{"$f":"IF(F!D177=\"\",\"\",F!D177)","v":""},null,null,null,null,null,null,null,null,null,null,null,null,null,null,null,null,null,null,null,null,null,null,null,null,null,null,{"$f":"IF(ISBLANK(M!E167),\"\",M!E167)","v":""},{"$f":"IF(ISBLANK(M!F167),\"\",M!F167)","v":""},{"$f":"IF(ISBLANK(M!G167),\"\",M!G167)","v":""},{"$f":"IF(ISBLANK(M!H167),\"\",M!H167)","v":""},{"$f":"IF(ISBLANK(M!I167),\"\",M!I167)","v":""},{"$f":"IF(ISBLANK(M!J167),\"\",M!J167)","v":""},{"$f":"IF(ISBLANK(M!K167),\"\",M!K167)","v":""},{"$f":"IF(ISBLANK(M!L167),\"\",M!L167)","v":""},{"$f":"IF(ISBLANK(M!M167),\"\",M!M167)","v":""},{"$f":"IF(ISBLANK(M!N167),\"\",M!N167)","v":""},{"$f":"IF(ISBLANK(N!E167),\"\",N!E167)","v":""},{"$f":"IF(ISBLANK(N!F167),\"\",N!F167)","v":""},{"$f":"IF(ISBLANK(N!G167),\"\",N!G167)","v":""},{"$f":"IF(ISBLANK(N!H167),\"\",N!H167)","v":""},{"$f":"IF(ISBLANK(N!I167),\"\",N!I167)","v":""},{"$f":"IF(ISBLANK(N!J167),\"\",N!J167)","v":""},{"$f":"IF(ISBLANK(N!K167),\"\",N!K167)","v":""},{"$f":"IF(ISBLANK(N!L167),\"\",N!L167)","v":""},{"$f":"IF(ISBLANK(N!M167),\"\",N!M167)","v":""},{"$f":"IF(ISBLANK(N!N167),\"\",N!N167)","v":""},null,null,null,{"$f":"IF('F2'!D177=\"\",\"\",'F2'!D177)","v":""}]
[131,null,{"$f":"A!C165","v":""},null,{"$f":"IF('C'!D178=\"\",\"\",'C'!D178)","v":""},{"$f":"IF(D!D178=\"\",\"\",D!D178)","v":""},{"$f":"IF(E!D178=\"\",\"\",E!D178)","v":""},{"$f":"IF(F!D178=\"\",\"\",F!D178)","v":""},null,null,null,null,null,null,null,null,null,null,null,null,null,null,null,null,null,null,null,null,null,null,null,null,null,null,{"$f":"IF(ISBLANK(M!E168),\"\",M!E168)","v":""},{"$f":"IF(ISBLANK(M!F168),\"\",M!F168)","v":""},{"$f":"IF(ISBLANK(M!G168),\"\",M!G168)","v":""},{"$f":"IF(ISBLANK(M!H168),\"\",M!H168)","v":""},{"$f":"IF(ISBLANK(M!I168),\"\",M!I168)","v":""},{"$f":"IF(ISBLANK(M!J168),\"\",M!J168)","v":""},{"$f":"IF(ISBLANK(M!K168),\"\",M!K168)","v":""},{"$f":"IF(ISBLANK(M!L168),\"\",M!L168)","v":""},{"$f":"IF(ISBLANK(M!M168),\"\",M!M168)","v":""},{"$f":"IF(ISBLANK(M!N168),\"\",M!N168)","v":""},{"$f":"IF(ISBLANK(N!E168),\"\",N!E168)","v":""},{"$f":"IF(ISBLANK(N!F168),\"\",N!F168)","v":""},{"$f":"IF(ISBLANK(N!G168),\"\",N!G168)","v":""},{"$f":"IF(ISBLANK(N!H168),\"\",N!H168)","v":""},{"$f":"IF(ISBLANK(N!I168),\"\",N!I168)","v":""},{"$f":"IF(ISBLANK(N!J168),\"\",N!J168)","v":""},{"$f":"IF(ISBLANK(N!K168),\"\",N!K168)","v":""},{"$f":"IF(ISBLANK(N!L168),\"\",N!L168)","v":""},{"$f":"IF(ISBLANK(N!M168),\"\",N!M168)","v":""},{"$f":"IF(ISBLANK(N!N168),\"\",N!N168)","v":""},null,null,null,{"$f":"IF('F2'!D178=\"\",\"\",'F2'!D178)","v":""}]
[132,null,{"$f":"A!C166","v":""},null,{"$f":"IF('C'!D179=\"\",\"\",'C'!D179)","v":""},{"$f":"IF(D!D179=\"\",\"\",D!D179)","v":""},{"$f":"IF(E!D179=\"\",\"\",E!D179)","v":""},{"$f":"IF(F!D179=\"\",\"\",F!D179)","v":""},null,null,null,null,null,null,null,null,null,null,null,null,null,null,null,null,null,null,null,null,null,null,null,null,null,null,{"$f":"IF(ISBLANK(M!E169),\"\",M!E169)","v":""},{"$f":"IF(ISBLANK(M!F169),\"\",M!F169)","v":""},{"$f":"IF(ISBLANK(M!G169),\"\",M!G169)","v":""},{"$f":"IF(ISBLANK(M!H169),\"\",M!H169)","v":""},{"$f":"IF(ISBLANK(M!I169),\"\",M!I169)","v":""},{"$f":"IF(ISBLANK(M!J169),\"\",M!J169)","v":""},{"$f":"IF(ISBLANK(M!K169),\"\",M!K169)","v":""},{"$f":"IF(ISBLANK(M!L169),\"\",M!L169)","v":""},{"$f":"IF(ISBLANK(M!M169),\"\",M!M169)","v":""},{"$f":"IF(ISBLANK(M!N169),\"\",M!N169)","v":""},{"$f":"IF(ISBLANK(N!E169),\"\",N!E169)","v":""},{"$f":"IF(ISBLANK(N!F169),\"\",N!F169)","v":""},{"$f":"IF(ISBLANK(N!G169),\"\",N!G169)","v":""},{"$f":"IF(ISBLANK(N!H169),\"\",N!H169)","v":""},{"$f":"IF(ISBLANK(N!I169),\"\",N!I169)","v":""},{"$f":"IF(ISBLANK(N!J169),\"\",N!J169)","v":""},{"$f":"IF(ISBLANK(N!K169),\"\",N!K169)","v":""},{"$f":"IF(ISBLANK(N!L169),\"\",N!L169)","v":""},{"$f":"IF(ISBLANK(N!M169),\"\",N!M169)","v":""},{"$f":"IF(ISBLANK(N!N169),\"\",N!N169)","v":""},null,null,null,{"$f":"IF('F2'!D179=\"\",\"\",'F2'!D179)","v":""}]
[133,null,{"$f":"A!C167","v":""},null,{"$f":"IF('C'!D180=\"\",\"\",'C'!D180)","v":""},{"$f":"IF(D!D180=\"\",\"\",D!D180)","v":""},{"$f":"IF(E!D180=\"\",\"\",E!D180)","v":""},{"$f":"IF(F!D180=\"\",\"\",F!D180)","v":""},null,null,null,null,null,null,null,null,null,null,null,null,null,null,null,null,null,null,null,null,null,null,null,null,null,null,{"$f":"IF(ISBLANK(M!E170),\"\",M!E170)","v":""},{"$f":"IF(ISBLANK(M!F170),\"\",M!F170)","v":""},{"$f":"IF(ISBLANK(M!G170),\"\",M!G170)","v":""},{"$f":"IF(ISBLANK(M!H170),\"\",M!H170)","v":""},{"$f":"IF(ISBLANK(M!I170),\"\",M!I170)","v":""},{"$f":"IF(ISBLANK(M!J170),\"\",M!J170)","v":""},{"$f":"IF(ISBLANK(M!K170),\"\",M!K170)","v":""},{"$f":"IF(ISBLANK(M!L170),\"\",M!L170)","v":""},{"$f":"IF(ISBLANK(M!M170),\"\",M!M170)","v":""},{"$f":"IF(ISBLANK(M!N170),\"\",M!N170)","v":""},{"$f":"IF(ISBLANK(N!E170),\"\",N!E170)","v":""},{"$f":"IF(ISBLANK(N!F170),\"\",N!F170)","v":""},{"$f":"IF(ISBLANK(N!G170),\"\",N!G170)","v":""},{"$f":"IF(ISBLANK(N!H170),\"\",N!H170)","v":""},{"$f":"IF(ISBLANK(N!I170),\"\",N!I170)","v":""},{"$f":"IF(ISBLANK(N!J170),\"\",N!J170)","v":""},{"$f":"IF(ISBLANK(N!K170),\"\",N!K170)","v":""},{"$f":"IF(ISBLANK(N!L170),\"\",N!L170)","v":""},{"$f":"IF(ISBLANK(N!M170),\"\",N!M170)","v":""},{"$f":"IF(ISBLANK(N!N170),\"\",N!N170)","v":""},null,null,null,{"$f":"IF('F2'!D180=\"\",\"\",'F2'!D180)","v":""}]
[134,null,{"$f":"A!C168","v":""},null,{"$f":"IF('C'!D181=\"\",\"\",'C'!D181)","v":""},{"$f":"IF(D!D181=\"\",\"\",D!D181)","v":""},{"$f":"IF(E!D181=\"\",\"\",E!D181)","v":""},{"$f":"IF(F!D181=\"\",\"\",F!D181)","v":""},null,null,null,null,null,null,null,null,null,null,null,null,null,null,null,null,null,null,null,null,null,null,null,null,null,null,{"$f":"IF(ISBLANK(M!E171),\"\",M!E171)","v":""},{"$f":"IF(ISBLANK(M!F171),\"\",M!F171)","v":""},{"$f":"IF(ISBLANK(M!G171),\"\",M!G171)","v":""},{"$f":"IF(ISBLANK(M!H171),\"\",M!H171)","v":""},{"$f":"IF(ISBLANK(M!I171),\"\",M!I171)","v":""},{"$f":"IF(ISBLANK(M!J171),\"\",M!J171)","v":""},{"$f":"IF(ISBLANK(M!K171),\"\",M!K171)","v":""},{"$f":"IF(ISBLANK(M!L171),\"\",M!L171)","v":""},{"$f":"IF(ISBLANK(M!M171),\"\",M!M171)","v":""},{"$f":"IF(ISBLANK(M!N171),\"\",M!N171)","v":""},{"$f":"IF(ISBLANK(N!E171),\"\",N!E171)","v":""},{"$f":"IF(ISBLANK(N!F171),\"\",N!F171)","v":""},{"$f":"IF(ISBLANK(N!G171),\"\",N!G171)","v":""},{"$f":"IF(ISBLANK(N!H171),\"\",N!H171)","v":""},{"$f":"IF(ISBLANK(N!I171),\"\",N!I171)","v":""},{"$f":"IF(ISBLANK(N!J171),\"\",N!J171)","v":""},{"$f":"IF(ISBLANK(N!K171),\"\",N!K171)","v":""},{"$f":"IF(ISBLANK(N!L171),\"\",N!L171)","v":""},{"$f":"IF(ISBLANK(N!M171),\"\",N!M171)","v":""},{"$f":"IF(ISBLANK(N!N171),\"\",N!N171)","v":""},null,null,null,{"$f":"IF('F2'!D181=\"\",\"\",'F2'!D181)","v":""}]
[135,null,{"$f":"A!C169","v":""},null,{"$f":"IF('C'!D182=\"\",\"\",'C'!D182)","v":""},{"$f":"IF(D!D182=\"\",\"\",D!D182)","v":""},{"$f":"IF(E!D182=\"\",\"\",E!D182)","v":""},{"$f":"IF(F!D182=\"\",\"\",F!D182)","v":""},null,null,null,null,null,null,null,null,null,null,null,null,null,null,null,null,null,null,null,null,null,null,null,null,null,null,{"$f":"IF(ISBLANK(M!E172),\"\",M!E172)","v":""},{"$f":"IF(ISBLANK(M!F172),\"\",M!F172)","v":""},{"$f":"IF(ISBLANK(M!G172),\"\",M!G172)","v":""},{"$f":"IF(ISBLANK(M!H172),\"\",M!H172)","v":""},{"$f":"IF(ISBLANK(M!I172),\"\",M!I172)","v":""},{"$f":"IF(ISBLANK(M!J172),\"\",M!J172)","v":""},{"$f":"IF(ISBLANK(M!K172),\"\",M!K172)","v":""},{"$f":"IF(ISBLANK(M!L172),\"\",M!L172)","v":""},{"$f":"IF(ISBLANK(M!M172),\"\",M!M172)","v":""},{"$f":"IF(ISBLANK(M!N172),\"\",M!N172)","v":""},{"$f":"IF(ISBLANK(N!E172),\"\",N!E172)","v":""},{"$f":"IF(ISBLANK(N!F172),\"\",N!F172)","v":""},{"$f":"IF(ISBLANK(N!G172),\"\",N!G172)","v":""},{"$f":"IF(ISBLANK(N!H172),\"\",N!H172)","v":""},{"$f":"IF(ISBLANK(N!I172),\"\",N!I172)","v":""},{"$f":"IF(ISBLANK(N!J172),\"\",N!J172)","v":""},{"$f":"IF(ISBLANK(N!K172),\"\",N!K172)","v":""},{"$f":"IF(ISBLANK(N!L172),\"\",N!L172)","v":""},{"$f":"IF(ISBLANK(N!M172),\"\",N!M172)","v":""},{"$f":"IF(ISBLANK(N!N172),\"\",N!N172)","v":""},null,null,null,{"$f":"IF('F2'!D182=\"\",\"\",'F2'!D182)","v":""}]
[136,null,{"$f":"A!C170","v":""},null,{"$f":"IF('C'!D183=\"\",\"\",'C'!D183)","v":""},{"$f":"IF(D!D183=\"\",\"\",D!D183)","v":""},{"$f":"IF(E!D183=\"\",\"\",E!D183)","v":""},{"$f":"IF(F!D183=\"\",\"\",F!D183)","v":""},null,null,null,null,null,null,null,null,null,null,null,null,null,null,null,null,null,null,null,null,null,null,null,null,null,null,{"$f":"IF(ISBLANK(M!E173),\"\",M!E173)","v":""},{"$f":"IF(ISBLANK(M!F173),\"\",M!F173)","v":""},{"$f":"IF(ISBLANK(M!G173),\"\",M!G173)","v":""},{"$f":"IF(ISBLANK(M!H173),\"\",M!H173)","v":""},{"$f":"IF(ISBLANK(M!I173),\"\",M!I173)","v":""},{"$f":"IF(ISBLANK(M!J173),\"\",M!J173)","v":""},{"$f":"IF(ISBLANK(M!K173),\"\",M!K173)","v":""},{"$f":"IF(ISBLANK(M!L173),\"\",M!L173)","v":""},{"$f":"IF(ISBLANK(M!M173),\"\",M!M173)","v":""},{"$f":"IF(ISBLANK(M!N173),\"\",M!N173)","v":""},{"$f":"IF(ISBLANK(N!E173),\"\",N!E173)","v":""},{"$f":"IF(ISBLANK(N!F173),\"\",N!F173)","v":""},{"$f":"IF(ISBLANK(N!G173),\"\",N!G173)","v":""},{"$f":"IF(ISBLANK(N!H173),\"\",N!H173)","v":""},{"$f":"IF(ISBLANK(N!I173),\"\",N!I173)","v":""},{"$f":"IF(ISBLANK(N!J173),\"\",N!J173)","v":""},{"$f":"IF(ISBLANK(N!K173),\"\",N!K173)","v":""},{"$f":"IF(ISBLANK(N!L173),\"\",N!L173)","v":""},{"$f":"IF(ISBLANK(N!M173),\"\",N!M173)","v":""},{"$f":"IF(ISBLANK(N!N173),\"\",N!N173)","v":""},null,null,null,{"$f":"IF('F2'!D183=\"\",\"\",'F2'!D183)","v":""}]
[137,null,{"$f":"A!C171","v":""},null,{"$f":"IF('C'!D184=\"\",\"\",'C'!D184)","v":""},{"$f":"IF(D!D184=\"\",\"\",D!D184)","v":""},{"$f":"IF(E!D184=\"\",\"\",E!D184)","v":""},{"$f":"IF(F!D184=\"\",\"\",F!D184)","v":""},null,null,null,null,null,null,null,null,null,null,null,null,null,null,null,null,null,null,null,null,null,null,null,null,null,null,{"$f":"IF(ISBLANK(M!E174),\"\",M!E174)","v":""},{"$f":"IF(ISBLANK(M!F174),\"\",M!F174)","v":""},{"$f":"IF(ISBLANK(M!G174),\"\",M!G174)","v":""},{"$f":"IF(ISBLANK(M!H174),\"\",M!H174)","v":""},{"$f":"IF(ISBLANK(M!I174),\"\",M!I174)","v":""},{"$f":"IF(ISBLANK(M!J174),\"\",M!J174)","v":""},{"$f":"IF(ISBLANK(M!K174),\"\",M!K174)","v":""},{"$f":"IF(ISBLANK(M!L174),\"\",M!L174)","v":""},{"$f":"IF(ISBLANK(M!M174),\"\",M!M174)","v":""},{"$f":"IF(ISBLANK(M!N174),\"\",M!N174)","v":""},{"$f":"IF(ISBLANK(N!E174),\"\",N!E174)","v":""},{"$f":"IF(ISBLANK(N!F174),\"\",N!F174)","v":""},{"$f":"IF(ISBLANK(N!G174),\"\",N!G174)","v":""},{"$f":"IF(ISBLANK(N!H174),\"\",N!H174)","v":""},{"$f":"IF(ISBLANK(N!I174),\"\",N!I174)","v":""},{"$f":"IF(ISBLANK(N!J174),\"\",N!J174)","v":""},{"$f":"IF(ISBLANK(N!K174),\"\",N!K174)","v":""},{"$f":"IF(ISBLANK(N!L174),\"\",N!L174)","v":""},{"$f":"IF(ISBLANK(N!M174),\"\",N!M174)","v":""},{"$f":"IF(ISBLANK(N!N174),\"\",N!N174)","v":""},null,null,null,{"$f":"IF('F2'!D184=\"\",\"\",'F2'!D184)","v":""}]
[138,null,{"$f":"A!C172","v":""},null,{"$f":"IF('C'!D185=\"\",\"\",'C'!D185)","v":""},{"$f":"IF(D!D185=\"\",\"\",D!D185)","v":""},{"$f":"IF(E!D185=\"\",\"\",E!D185)","v":""},{"$f":"IF(F!D185=\"\",\"\",F!D185)","v":""},null,null,null,null,null,null,null,null,null,null,null,null,null,null,null,null,null,null,null,null,null,null,null,null,null,null,{"$f":"IF(ISBLANK(M!E175),\"\",M!E175)","v":""},{"$f":"IF(ISBLANK(M!F175),\"\",M!F175)","v":""},{"$f":"IF(ISBLANK(M!G175),\"\",M!G175)","v":""},{"$f":"IF(ISBLANK(M!H175),\"\",M!H175)","v":""},{"$f":"IF(ISBLANK(M!I175),\"\",M!I175)","v":""},{"$f":"IF(ISBLANK(M!J175),\"\",M!J175)","v":""},{"$f":"IF(ISBLANK(M!K175),\"\",M!K175)","v":""},{"$f":"IF(ISBLANK(M!L175),\"\",M!L175)","v":""},{"$f":"IF(ISBLANK(M!M175),\"\",M!M175)","v":""},{"$f":"IF(ISBLANK(M!N175),\"\",M!N175)","v":""},{"$f":"IF(ISBLANK(N!E175),\"\",N!E175)","v":""},{"$f":"IF(ISBLANK(N!F175),\"\",N!F175)","v":""},{"$f":"IF(ISBLANK(N!G175),\"\",N!G175)","v":""},{"$f":"IF(ISBLANK(N!H175),\"\",N!H175)","v":""},{"$f":"IF(ISBLANK(N!I175),\"\",N!I175)","v":""},{"$f":"IF(ISBLANK(N!J175),\"\",N!J175)","v":""},{"$f":"IF(ISBLANK(N!K175),\"\",N!K175)","v":""},{"$f":"IF(ISBLANK(N!L175),\"\",N!L175)","v":""},{"$f":"IF(ISBLANK(N!M175),\"\",N!M175)","v":""},{"$f":"IF(ISBLANK(N!N175),\"\",N!N175)","v":""},null,null,null,{"$f":"IF('F2'!D185=\"\",\"\",'F2'!D185)","v":""}]
[139,null,{"$f":"A!C173","v":""},null,{"$f":"IF('C'!D186=\"\",\"\",'C'!D186)","v":""},{"$f":"IF(D!D186=\"\",\"\",D!D186)","v":""},{"$f":"IF(E!D186=\"\",\"\",E!D186)","v":""},{"$f":"IF(F!D186=\"\",\"\",F!D186)","v":""},null,null,null,null,null,null,null,null,null,null,null,null,null,null,null,null,null,null,null,null,null,null,null,null,null,null,{"$f":"IF(ISBLANK(M!E176),\"\",M!E176)","v":""},{"$f":"IF(ISBLANK(M!F176),\"\",M!F176)","v":""},{"$f":"IF(ISBLANK(M!G176),\"\",M!G176)","v":""},{"$f":"IF(ISBLANK(M!H176),\"\",M!H176)","v":""},{"$f":"IF(ISBLANK(M!I176),\"\",M!I176)","v":""},{"$f":"IF(ISBLANK(M!J176),\"\",M!J176)","v":""},{"$f":"IF(ISBLANK(M!K176),\"\",M!K176)","v":""},{"$f":"IF(ISBLANK(M!L176),\"\",M!L176)","v":""},{"$f":"IF(ISBLANK(M!M176),\"\",M!M176)","v":""},{"$f":"IF(ISBLANK(M!N176),\"\",M!N176)","v":""},{"$f":"IF(ISBLANK(N!E176),\"\",N!E176)","v":""},{"$f":"IF(ISBLANK(N!F176),\"\",N!F176)","v":""},{"$f":"IF(ISBLANK(N!G176),\"\",N!G176)","v":""},{"$f":"IF(ISBLANK(N!H176),\"\",N!H176)","v":""},{"$f":"IF(ISBLANK(N!I176),\"\",N!I176)","v":""},{"$f":"IF(ISBLANK(N!J176),\"\",N!J176)","v":""},{"$f":"IF(ISBLANK(N!K176),\"\",N!K176)","v":""},{"$f":"IF(ISBLANK(N!L176),\"\",N!L176)","v":""},{"$f":"IF(ISBLANK(N!M176),\"\",N!M176)","v":""},{"$f":"IF(ISBLANK(N!N176),\"\",N!N176)","v":""},null,null,null,{"$f":"IF('F2'!D186=\"\",\"\",'F2'!D186)","v":""}]
[140,null,{"$f":"A!C174","v":""},null,{"$f":"IF('C'!D187=\"\",\"\",'C'!D187)","v":""},{"$f":"IF(D!D187=\"\",\"\",D!D187)","v":""},{"$f":"IF(E!D187=\"\",\"\",E!D187)","v":""},{"$f":"IF(F!D187=\"\",\"\",F!D187)","v":""},null,null,null,null,null,null,null,null,null,null,null,null,null,null,null,null,null,null,null,null,null,null,null,null,null,null,{"$f":"IF(ISBLANK(M!E177),\"\",M!E177)","v":""},{"$f":"IF(ISBLANK(M!F177),\"\",M!F177)","v":""},{"$f":"IF(ISBLANK(M!G177),\"\",M!G177)","v":""},{"$f":"IF(ISBLANK(M!H177),\"\",M!H177)","v":""},{"$f":"IF(ISBLANK(M!I177),\"\",M!I177)","v":""},{"$f":"IF(ISBLANK(M!J177),\"\",M!J177)","v":""},{"$f":"IF(ISBLANK(M!K177),\"\",M!K177)","v":""},{"$f":"IF(ISBLANK(M!L177),\"\",M!L177)","v":""},{"$f":"IF(ISBLANK(M!M177),\"\",M!M177)","v":""},{"$f":"IF(ISBLANK(M!N177),\"\",M!N177)","v":""},{"$f":"IF(ISBLANK(N!E177),\"\",N!E177)","v":""},{"$f":"IF(ISBLANK(N!F177),\"\",N!F177)","v":""},{"$f":"IF(ISBLANK(N!G177),\"\",N!G177)","v":""},{"$f":"IF(ISBLANK(N!H177),\"\",N!H177)","v":""},{"$f":"IF(ISBLANK(N!I177),\"\",N!I177)","v":""},{"$f":"IF(ISBLANK(N!J177),\"\",N!J177)","v":""},{"$f":"IF(ISBLANK(N!K177),\"\",N!K177)","v":""},{"$f":"IF(ISBLANK(N!L177),\"\",N!L177)","v":""},{"$f":"IF(ISBLANK(N!M177),\"\",N!M177)","v":""},{"$f":"IF(ISBLANK(N!N177),\"\",N!N177)","v":""},null,null,null,{"$f":"IF('F2'!D187=\"\",\"\",'F2'!D187)","v":""}]
[141,null,{"$f":"A!C175","v":""},null,{"$f":"IF('C'!D188=\"\",\"\",'C'!D188)","v":""},{"$f":"IF(D!D188=\"\",\"\",D!D188)","v":""},{"$f":"IF(E!D188=\"\",\"\",E!D188)","v":""},{"$f":"IF(F!D188=\"\",\"\",F!D188)","v":""},null,null,null,null,null,null,null,null,null,null,null,null,null,null,null,null,null,null,null,null,null,null,null,null,null,null,{"$f":"IF(ISBLANK(M!E178),\"\",M!E178)","v":""},{"$f":"IF(ISBLANK(M!F178),\"\",M!F178)","v":""},{"$f":"IF(ISBLANK(M!G178),\"\",M!G178)","v":""},{"$f":"IF(ISBLANK(M!H178),\"\",M!H178)","v":""},{"$f":"IF(ISBLANK(M!I178),\"\",M!I178)","v":""},{"$f":"IF(ISBLANK(M!J178),\"\",M!J178)","v":""},{"$f":"IF(ISBLANK(M!K178),\"\",M!K178)","v":""},{"$f":"IF(ISBLANK(M!L178),\"\",M!L178)","v":""},{"$f":"IF(ISBLANK(M!M178),\"\",M!M178)","v":""},{"$f":"IF(ISBLANK(M!N178),\"\",M!N178)","v":""},{"$f":"IF(ISBLANK(N!E178),\"\",N!E178)","v":""},{"$f":"IF(ISBLANK(N!F178),\"\",N!F178)","v":""},{"$f":"IF(ISBLANK(N!G178),\"\",N!G178)","v":""},{"$f":"IF(ISBLANK(N!H178),\"\",N!H178)","v":""},{"$f":"IF(ISBLANK(N!I178),\"\",N!I178)","v":""},{"$f":"IF(ISBLANK(N!J178),\"\",N!J178)","v":""},{"$f":"IF(ISBLANK(N!K178),\"\",N!K178)","v":""},{"$f":"IF(ISBLANK(N!L178),\"\",N!L178)","v":""},{"$f":"IF(ISBLANK(N!M178),\"\",N!M178)","v":""},{"$f":"IF(ISBLANK(N!N178),\"\",N!N178)","v":""},null,null,null,{"$f":"IF('F2'!D188=\"\",\"\",'F2'!D188)","v":""}]
[142,null,{"$f":"A!C176","v":""},null,{"$f":"IF('C'!D189=\"\",\"\",'C'!D189)","v":""},{"$f":"IF(D!D189=\"\",\"\",D!D189)","v":""},{"$f":"IF(E!D189=\"\",\"\",E!D189)","v":""},{"$f":"IF(F!D189=\"\",\"\",F!D189)","v":""},null,null,null,null,null,null,null,null,null,null,null,null,null,null,null,null,null,null,null,null,null,null,null,null,null,null,{"$f":"IF(ISBLANK(M!E179),\"\",M!E179)","v":""},{"$f":"IF(ISBLANK(M!F179),\"\",M!F179)","v":""},{"$f":"IF(ISBLANK(M!G179),\"\",M!G179)","v":""},{"$f":"IF(ISBLANK(M!H179),\"\",M!H179)","v":""},{"$f":"IF(ISBLANK(M!I179),\"\",M!I179)","v":""},{"$f":"IF(ISBLANK(M!J179),\"\",M!J179)","v":""},{"$f":"IF(ISBLANK(M!K179),\"\",M!K179)","v":""},{"$f":"IF(ISBLANK(M!L179),\"\",M!L179)","v":""},{"$f":"IF(ISBLANK(M!M179),\"\",M!M179)","v":""},{"$f":"IF(ISBLANK(M!N179),\"\",M!N179)","v":""},{"$f":"IF(ISBLANK(N!E179),\"\",N!E179)","v":""},{"$f":"IF(ISBLANK(N!F179),\"\",N!F179)","v":""},{"$f":"IF(ISBLANK(N!G179),\"\",N!G179)","v":""},{"$f":"IF(ISBLANK(N!H179),\"\",N!H179)","v":""},{"$f":"IF(ISBLANK(N!I179),\"\",N!I179)","v":""},{"$f":"IF(ISBLANK(N!J179),\"\",N!J179)","v":""},{"$f":"IF(ISBLANK(N!K179),\"\",N!K179)","v":""},{"$f":"IF(ISBLANK(N!L179),\"\",N!L179)","v":""},{"$f":"IF(ISBLANK(N!M179),\"\",N!M179)","v":""},{"$f":"IF(ISBLANK(N!N179),\"\",N!N179)","v":""},null,null,null,{"$f":"IF('F2'!D189=\"\",\"\",'F2'!D189)","v":""}]
[143,null,{"$f":"A!C177","v":""},null,{"$f":"IF('C'!D190=\"\",\"\",'C'!D190)","v":""},{"$f":"IF(D!D190=\"\",\"\",D!D190)","v":""},{"$f":"IF(E!D190=\"\",\"\",E!D190)","v":""},{"$f":"IF(F!D190=\"\",\"\",F!D190)","v":""},null,null,null,null,null,null,null,null,null,null,null,null,null,null,null,null,null,null,null,null,null,null,null,null,null,null,{"$f":"IF(ISBLANK(M!E180),\"\",M!E180)","v":""},{"$f":"IF(ISBLANK(M!F180),\"\",M!F180)","v":""},{"$f":"IF(ISBLANK(M!G180),\"\",M!G180)","v":""},{"$f":"IF(ISBLANK(M!H180),\"\",M!H180)","v":""},{"$f":"IF(ISBLANK(M!I180),\"\",M!I180)","v":""},{"$f":"IF(ISBLANK(M!J180),\"\",M!J180)","v":""},{"$f":"IF(ISBLANK(M!K180),\"\",M!K180)","v":""},{"$f":"IF(ISBLANK(M!L180),\"\",M!L180)","v":""},{"$f":"IF(ISBLANK(M!M180),\"\",M!M180)","v":""},{"$f":"IF(ISBLANK(M!N180),\"\",M!N180)","v":""},{"$f":"IF(ISBLANK(N!E180),\"\",N!E180)","v":""},{"$f":"IF(ISBLANK(N!F180),\"\",N!F180)","v":""},{"$f":"IF(ISBLANK(N!G180),\"\",N!G180)","v":""},{"$f":"IF(ISBLANK(N!H180),\"\",N!H180)","v":""},{"$f":"IF(ISBLANK(N!I180),\"\",N!I180)","v":""},{"$f":"IF(ISBLANK(N!J180),\"\",N!J180)","v":""},{"$f":"IF(ISBLANK(N!K180),\"\",N!K180)","v":""},{"$f":"IF(ISBLANK(N!L180),\"\",N!L180)","v":""},{"$f":"IF(ISBLANK(N!M180),\"\",N!M180)","v":""},{"$f":"IF(ISBLANK(N!N180),\"\",N!N180)","v":""},null,null,null,{"$f":"IF('F2'!D190=\"\",\"\",'F2'!D190)","v":""}]
[144,null,{"$f":"A!C178","v":""},null,{"$f":"IF('C'!D191=\"\",\"\",'C'!D191)","v":""},{"$f":"IF(D!D191=\"\",\"\",D!D191)","v":""},{"$f":"IF(E!D191=\"\",\"\",E!D191)","v":""},{"$f":"IF(F!D191=\"\",\"\",F!D191)","v":""},null,null,null,null,null,null,null,null,null,null,null,null,null,null,null,null,null,null,null,null,null,null,null,null,null,null,{"$f":"IF(ISBLANK(M!E181),\"\",M!E181)","v":""},{"$f":"IF(ISBLANK(M!F181),\"\",M!F181)","v":""},{"$f":"IF(ISBLANK(M!G181),\"\",M!G181)","v":""},{"$f":"IF(ISBLANK(M!H181),\"\",M!H181)","v":""},{"$f":"IF(ISBLANK(M!I181),\"\",M!I181)","v":""},{"$f":"IF(ISBLANK(M!J181),\"\",M!J181)","v":""},{"$f":"IF(ISBLANK(M!K181),\"\",M!K181)","v":""},{"$f":"IF(ISBLANK(M!L181),\"\",M!L181)","v":""},{"$f":"IF(ISBLANK(M!M181),\"\",M!M181)","v":""},{"$f":"IF(ISBLANK(M!N181),\"\",M!N181)","v":""},{"$f":"IF(ISBLANK(N!E181),\"\",N!E181)","v":""},{"$f":"IF(ISBLANK(N!F181),\"\",N!F181)","v":""},{"$f":"IF(ISBLANK(N!G181),\"\",N!G181)","v":""},{"$f":"IF(ISBLANK(N!H181),\"\",N!H181)","v":""},{"$f":"IF(ISBLANK(N!I181),\"\",N!I181)","v":""},{"$f":"IF(ISBLANK(N!J181),\"\",N!J181)","v":""},{"$f":"IF(ISBLANK(N!K181),\"\",N!K181)","v":""},{"$f":"IF(ISBLANK(N!L181),\"\",N!L181)","v":""},{"$f":"IF(ISBLANK(N!M181),\"\",N!M181)","v":""},{"$f":"IF(ISBLANK(N!N181),\"\",N!N181)","v":""},null,null,null,{"$f":"IF('F2'!D191=\"\",\"\",'F2'!D191)","v":""}]
[145,null,{"$f":"A!C179","v":""},null,{"$f":"IF('C'!D192=\"\",\"\",'C'!D192)","v":""},{"$f":"IF(D!D192=\"\",\"\",D!D192)","v":""},{"$f":"IF(E!D192=\"\",\"\",E!D192)","v":""},{"$f":"IF(F!D192=\"\",\"\",F!D192)","v":""},null,null,null,null,null,null,null,null,null,null,null,null,null,null,null,null,null,null,null,null,null,null,null,null,null,null,{"$f":"IF(ISBLANK(M!E182),\"\",M!E182)","v":""},{"$f":"IF(ISBLANK(M!F182),\"\",M!F182)","v":""},{"$f":"IF(ISBLANK(M!G182),\"\",M!G182)","v":""},{"$f":"IF(ISBLANK(M!H182),\"\",M!H182)","v":""},{"$f":"IF(ISBLANK(M!I182),\"\",M!I182)","v":""},{"$f":"IF(ISBLANK(M!J182),\"\",M!J182)","v":""},{"$f":"IF(ISBLANK(M!K182),\"\",M!K182)","v":""},{"$f":"IF(ISBLANK(M!L182),\"\",M!L182)","v":""},{"$f":"IF(ISBLANK(M!M182),\"\",M!M182)","v":""},{"$f":"IF(ISBLANK(M!N182),\"\",M!N182)","v":""},{"$f":"IF(ISBLANK(N!E182),\"\",N!E182)","v":""},{"$f":"IF(ISBLANK(N!F182),\"\",N!F182)","v":""},{"$f":"IF(ISBLANK(N!G182),\"\",N!G182)","v":""},{"$f":"IF(ISBLANK(N!H182),\"\",N!H182)","v":""},{"$f":"IF(ISBLANK(N!I182),\"\",N!I182)","v":""},{"$f":"IF(ISBLANK(N!J182),\"\",N!J182)","v":""},{"$f":"IF(ISBLANK(N!K182),\"\",N!K182)","v":""},{"$f":"IF(ISBLANK(N!L182),\"\",N!L182)","v":""},{"$f":"IF(ISBLANK(N!M182),\"\",N!M182)","v":""},{"$f":"IF(ISBLANK(N!N182),\"\",N!N182)","v":""},null,null,null,{"$f":"IF('F2'!D192=\"\",\"\",'F2'!D192)","v":""}]
[146,null,{"$f":"A!C180","v":""},null,{"$f":"IF('C'!D193=\"\",\"\",'C'!D193)","v":""},{"$f":"IF(D!D193=\"\",\"\",D!D193)","v":""},{"$f":"IF(E!D193=\"\",\"\",E!D193)","v":""},{"$f":"IF(F!D193=\"\",\"\",F!D193)","v":""},null,null,null,null,null,null,null,null,null,null,null,null,null,null,null,null,null,null,null,null,null,null,null,null,null,null,{"$f":"IF(ISBLANK(M!E183),\"\",M!E183)","v":""},{"$f":"IF(ISBLANK(M!F183),\"\",M!F183)","v":""},{"$f":"IF(ISBLANK(M!G183),\"\",M!G183)","v":""},{"$f":"IF(ISBLANK(M!H183),\"\",M!H183)","v":""},{"$f":"IF(ISBLANK(M!I183),\"\",M!I183)","v":""},{"$f":"IF(ISBLANK(M!J183),\"\",M!J183)","v":""},{"$f":"IF(ISBLANK(M!K183),\"\",M!K183)","v":""},{"$f":"IF(ISBLANK(M!L183),\"\",M!L183)","v":""},{"$f":"IF(ISBLANK(M!M183),\"\",M!M183)","v":""},{"$f":"IF(ISBLANK(M!N183),\"\",M!N183)","v":""},{"$f":"IF(ISBLANK(N!E183),\"\",N!E183)","v":""},{"$f":"IF(ISBLANK(N!F183),\"\",N!F183)","v":""},{"$f":"IF(ISBLANK(N!G183),\"\",N!G183)","v":""},{"$f":"IF(ISBLANK(N!H183),\"\",N!H183)","v":""},{"$f":"IF(ISBLANK(N!I183),\"\",N!I183)","v":""},{"$f":"IF(ISBLANK(N!J183),\"\",N!J183)","v":""},{"$f":"IF(ISBLANK(N!K183),\"\",N!K183)","v":""},{"$f":"IF(ISBLANK(N!L183),\"\",N!L183)","v":""},{"$f":"IF(ISBLANK(N!M183),\"\",N!M183)","v":""},{"$f":"IF(ISBLANK(N!N183),\"\",N!N183)","v":""},null,null,null,{"$f":"IF('F2'!D193=\"\",\"\",'F2'!D193)","v":""}]
[147,null,{"$f":"A!C181","v":""},null,{"$f":"IF('C'!D194=\"\",\"\",'C'!D194)","v":""},{"$f":"IF(D!D194=\"\",\"\",D!D194)","v":""},{"$f":"IF(E!D194=\"\",\"\",E!D194)","v":""},{"$f":"IF(F!D194=\"\",\"\",F!D194)","v":""},null,null,null,null,null,null,null,null,null,null,null,null,null,null,null,null,null,null,null,null,null,null,null,null,null,null,{"$f":"IF(ISBLANK(M!E184),\"\",M!E184)","v":""},{"$f":"IF(ISBLANK(M!F184),\"\",M!F184)","v":""},{"$f":"IF(ISBLANK(M!G184),\"\",M!G184)","v":""},{"$f":"IF(ISBLANK(M!H184),\"\",M!H184)","v":""},{"$f":"IF(ISBLANK(M!I184),\"\",M!I184)","v":""},{"$f":"IF(ISBLANK(M!J184),\"\",M!J184)","v":""},{"$f":"IF(ISBLANK(M!K184),\"\",M!K184)","v":""},{"$f":"IF(ISBLANK(M!L184),\"\",M!L184)","v":""},{"$f":"IF(ISBLANK(M!M184),\"\",M!M184)","v":""},{"$f":"IF(ISBLANK(M!N184),\"\",M!N184)","v":""},null,null,null,null,null,null,null,null,null,null,null,null,null,{"$f":"IF('F2'!D194=\"\",\"\",'F2'!D194)","v":""}]
[148,null,{"$f":"A!C182","v":""},null,{"$f":"IF('C'!D195=\"\",\"\",'C'!D195)","v":""},{"$f":"IF(D!D195=\"\",\"\",D!D195)","v":""},{"$f":"IF(E!D195=\"\",\"\",E!D195)","v":""},{"$f":"IF(F!D195=\"\",\"\",F!D195)","v":""},null,null,null,null,null,null,null,null,null,null,null,null,null,null,null,null,null,null,null,null,null,null,null,null,null,null,{"$f":"IF(ISBLANK(M!E185),\"\",M!E185)","v":""},{"$f":"IF(ISBLANK(M!F185),\"\",M!F185)","v":""},{"$f":"IF(ISBLANK(M!G185),\"\",M!G185)","v":""},{"$f":"IF(ISBLANK(M!H185),\"\",M!H185)","v":""},{"$f":"IF(ISBLANK(M!I185),\"\",M!I185)","v":""},{"$f":"IF(ISBLANK(M!J185),\"\",M!J185)","v":""},{"$f":"IF(ISBLANK(M!K185),\"\",M!K185)","v":""},{"$f":"IF(ISBLANK(M!L185),\"\",M!L185)","v":""},{"$f":"IF(ISBLANK(M!M185),\"\",M!M185)","v":""},{"$f":"IF(ISBLANK(M!N185),\"\",M!N185)","v":""},null,null,null,null,null,null,null,null,null,null,null,null,null,{"$f":"IF('F2'!D195=\"\",\"\",'F2'!D195)","v":""}]
[149,null,{"$f":"A!C183","v":""},null,{"$f":"IF('C'!D196=\"\",\"\",'C'!D196)","v":""},{"$f":"IF(D!D196=\"\",\"\",D!D196)","v":""},{"$f":"IF(E!D196=\"\",\"\",E!D196)","v":""},{"$f":"IF(F!D196=\"\",\"\",F!D196)","v":""},null,null,null,null,null,null,null,null,null,null,null,null,null,null,null,null,null,null,null,null,null,null,null,null,null,null,{"$f":"IF(ISBLANK(M!E186),\"\",M!E186)","v":""},{"$f":"IF(ISBLANK(M!F186),\"\",M!F186)","v":""},{"$f":"IF(ISBLANK(M!G186),\"\",M!G186)","v":""},{"$f":"IF(ISBLANK(M!H186),\"\",M!H186)","v":""},{"$f":"IF(ISBLANK(M!I186),\"\",M!I186)","v":""},{"$f":"IF(ISBLANK(M!J186),\"\",M!J186)","v":""},{"$f":"IF(ISBLANK(M!K186),\"\",M!K186)","v":""},{"$f":"IF(ISBLANK(M!L186),\"\",M!L186)","v":""},{"$f":"IF(ISBLANK(M!M186),\"\",M!M186)","v":""},{"$f":"IF(ISBLANK(M!N186),\"\",M!N186)","v":""},null,null,null,null,null,null,null,null,null,null,null,null,null,{"$f":"IF('F2'!D196=\"\",\"\",'F2'!D196)","v":""}]
[150,null,{"$f":"A!C184","v":""},null,{"$f":"IF('C'!D197=\"\",\"\",'C'!D197)","v":""},{"$f":"IF(D!D197=\"\",\"\",D!D197)","v":""},{"$f":"IF(E!D197=\"\",\"\",E!D197)","v":""},{"$f":"IF(F!D197=\"\",\"\",F!D197)","v":""},null,null,null,null,null,null,null,null,null,null,null,null,null,null,null,null,null,null,null,null,null,null,null,null,null,null,{"$f":"IF(ISBLANK(M!E187),\"\",M!E187)","v":""},{"$f":"IF(ISBLANK(M!F187),\"\",M!F187)","v":""},{"$f":"IF(ISBLANK(M!G187),\"\",M!G187)","v":""},{"$f":"IF(ISBLANK(M!H187),\"\",M!H187)","v":""},{"$f":"IF(ISBLANK(M!I187),\"\",M!I187)","v":""},{"$f":"IF(ISBLANK(M!J187),\"\",M!J187)","v":""},{"$f":"IF(ISBLANK(M!K187),\"\",M!K187)","v":""},{"$f":"IF(ISBLANK(M!L187),\"\",M!L187)","v":""},{"$f":"IF(ISBLANK(M!M187),\"\",M!M187)","v":""},{"$f":"IF(ISBLANK(M!N187),\"\",M!N187)","v":""},null,null,null,null,null,null,null,null,null,null,null,null,null,{"$f":"IF('F2'!D197=\"\",\"\",'F2'!D197)","v":""}]
[151,null,{"$f":"A!C185","v":""},null,{"$f":"IF('C'!D198=\"\",\"\",'C'!D198)","v":""},{"$f":"IF(D!D198=\"\",\"\",D!D198)","v":""},{"$f":"IF(E!D198=\"\",\"\",E!D198)","v":""},{"$f":"IF(F!D198=\"\",\"\",F!D198)","v":""},null,null,null,null,null,null,null,null,null,null,null,null,null,null,null,null,null,null,null,null,null,null,null,null,null,null,{"$f":"IF(ISBLANK(M!E188),\"\",M!E188)","v":""},{"$f":"IF(ISBLANK(M!F188),\"\",M!F188)","v":""},{"$f":"IF(ISBLANK(M!G188),\"\",M!G188)","v":""},{"$f":"IF(ISBLANK(M!H188),\"\",M!H188)","v":""},{"$f":"IF(ISBLANK(M!I188),\"\",M!I188)","v":""},{"$f":"IF(ISBLANK(M!J188),\"\",M!J188)","v":""},{"$f":"IF(ISBLANK(M!K188),\"\",M!K188)","v":""},{"$f":"IF(ISBLANK(M!L188),\"\",M!L188)","v":""},{"$f":"IF(ISBLANK(M!M188),\"\",M!M188)","v":""},{"$f":"IF(ISBLANK(M!N188),\"\",M!N188)","v":""},null,null,null,null,null,null,null,null,null,null,null,null,null,{"$f":"IF('F2'!D198=\"\",\"\",'F2'!D198)","v":""}]
[152,null,{"$f":"A!C186","v":""},null,{"$f":"IF('C'!D199=\"\",\"\",'C'!D199)","v":""},{"$f":"IF(D!D199=\"\",\"\",D!D199)","v":""},{"$f":"IF(E!D199=\"\",\"\",E!D199)","v":""},{"$f":"IF(F!D199=\"\",\"\",F!D199)","v":""},null,null,null,null,null,null,null,null,null,null,null,null,null,null,null,null,null,null,null,null,null,null,null,null,null,null,{"$f":"IF(ISBLANK(M!E189),\"\",M!E189)","v":""},{"$f":"IF(ISBLANK(M!F189),\"\",M!F189)","v":""},{"$f":"IF(ISBLANK(M!G189),\"\",M!G189)","v":""},{"$f":"IF(ISBLANK(M!H189),\"\",M!H189)","v":""},{"$f":"IF(ISBLANK(M!I189),\"\",M!I189)","v":""},{"$f":"IF(ISBLANK(M!J189),\"\",M!J189)","v":""},{"$f":"IF(ISBLANK(M!K189),\"\",M!K189)","v":""},{"$f":"IF(ISBLANK(M!L189),\"\",M!L189)","v":""},{"$f":"IF(ISBLANK(M!M189),\"\",M!M189)","v":""},{"$f":"IF(ISBLANK(M!N189),\"\",M!N189)","v":""},null,null,null,null,null,null,null,null,null,null,null,null,null,{"$f":"IF('F2'!D199=\"\",\"\",'F2'!D199)","v":""}]
[153,null,{"$f":"A!C187","v":""},null,{"$f":"IF('C'!D200=\"\",\"\",'C'!D200)","v":""},{"$f":"IF(D!D200=\"\",\"\",D!D200)","v":""},{"$f":"IF(E!D200=\"\",\"\",E!D200)","v":""},{"$f":"IF(F!D200=\"\",\"\",F!D200)","v":""},null,null,null,null,null,null,null,null,null,null,null,null,null,null,null,null,null,null,null,null,null,null,null,null,null,null,{"$f":"IF(ISBLANK(M!E190),\"\",M!E190)","v":""},{"$f":"IF(ISBLANK(M!F190),\"\",M!F190)","v":""},{"$f":"IF(ISBLANK(M!G190),\"\",M!G190)","v":""},{"$f":"IF(ISBLANK(M!H190),\"\",M!H190)","v":""},{"$f":"IF(ISBLANK(M!I190),\"\",M!I190)","v":""},{"$f":"IF(ISBLANK(M!J190),\"\",M!J190)","v":""},{"$f":"IF(ISBLANK(M!K190),\"\",M!K190)","v":""},{"$f":"IF(ISBLANK(M!L190),\"\",M!L190)","v":""},{"$f":"IF(ISBLANK(M!M190),\"\",M!M190)","v":""},{"$f":"IF(ISBLANK(M!N190),\"\",M!N190)","v":""},null,null,null,null,null,null,null,null,null,null,null,null,null,{"$f":"IF('F2'!D200=\"\",\"\",'F2'!D200)","v":""}]
[154,null,{"$f":"A!C188","v":""},null,{"$f":"IF('C'!D201=\"\",\"\",'C'!D201)","v":""},{"$f":"IF(D!D201=\"\",\"\",D!D201)","v":""},{"$f":"IF(E!D201=\"\",\"\",E!D201)","v":""},{"$f":"IF(F!D201=\"\",\"\",F!D201)","v":""},null,null,null,null,null,null,null,null,null,null,null,null,null,null,null,null,null,null,null,null,null,null,null,null,null,null,{"$f":"IF(ISBLANK(M!E191),\"\",M!E191)","v":""},{"$f":"IF(ISBLANK(M!F191),\"\",M!F191)","v":""},{"$f":"IF(ISBLANK(M!G191),\"\",M!G191)","v":""},{"$f":"IF(ISBLANK(M!H191),\"\",M!H191)","v":""},{"$f":"IF(ISBLANK(M!I191),\"\",M!I191)","v":""},{"$f":"IF(ISBLANK(M!J191),\"\",M!J191)","v":""},{"$f":"IF(ISBLANK(M!K191),\"\",M!K191)","v":""},{"$f":"IF(ISBLANK(M!L191),\"\",M!L191)","v":""},{"$f":"IF(ISBLANK(M!M191),\"\",M!M191)","v":""},{"$f":"IF(ISBLANK(M!N191),\"\",M!N191)","v":""},null,null,null,null,null,null,null,null,null,null,null,null,null,{"$f":"IF('F2'!D201=\"\",\"\",'F2'!D201)","v":""}]
[155,null,{"$f":"A!C189","v":""},null,{"$f":"IF('C'!D202=\"\",\"\",'C'!D202)","v":""},{"$f":"IF(D!D202=\"\",\"\",D!D202)","v":""},{"$f":"IF(E!D202=\"\",\"\",E!D202)","v":""},{"$f":"IF(F!D202=\"\",\"\",F!D202)","v":""},null,null,null,null,null,null,null,null,null,null,null,null,null,null,null,null,null,null,null,null,null,null,null,null,null,null,{"$f":"IF(ISBLANK(M!E192),\"\",M!E192)","v":""},{"$f":"IF(ISBLANK(M!F192),\"\",M!F192)","v":""},{"$f":"IF(ISBLANK(M!G192),\"\",M!G192)","v":""},{"$f":"IF(ISBLANK(M!H192),\"\",M!H192)","v":""},{"$f":"IF(ISBLANK(M!I192),\"\",M!I192)","v":""},{"$f":"IF(ISBLANK(M!J192),\"\",M!J192)","v":""},{"$f":"IF(ISBLANK(M!K192),\"\",M!K192)","v":""},{"$f":"IF(ISBLANK(M!L192),\"\",M!L192)","v":""},{"$f":"IF(ISBLANK(M!M192),\"\",M!M192)","v":""},{"$f":"IF(ISBLANK(M!N192),\"\",M!N192)","v":""},null,null,null,null,null,null,null,null,null,null,null,null,null,{"$f":"IF('F2'!D202=\"\",\"\",'F2'!D202)","v":""}]
[156,null,{"$f":"A!C190","v":""},null,{"$f":"IF('C'!D203=\"\",\"\",'C'!D203)","v":""},{"$f":"IF(D!D203=\"\",\"\",D!D203)","v":""},{"$f":"IF(E!D203=\"\",\"\",E!D203)","v":""},{"$f":"IF(F!D203=\"\",\"\",F!D203)","v":""},null,null,null,null,null,null,null,null,null,null,null,null,null,null,null,null,null,null,null,null,null,null,null,null,null,null,{"$f":"IF(ISBLANK(M!E193),\"\",M!E193)","v":""},{"$f":"IF(ISBLANK(M!F193),\"\",M!F193)","v":""},{"$f":"IF(ISBLANK(M!G193),\"\",M!G193)","v":""},{"$f":"IF(ISBLANK(M!H193),\"\",M!H193)","v":""},{"$f":"IF(ISBLANK(M!I193),\"\",M!I193)","v":""},{"$f":"IF(ISBLANK(M!J193),\"\",M!J193)","v":""},{"$f":"IF(ISBLANK(M!K193),\"\",M!K193)","v":""},{"$f":"IF(ISBLANK(M!L193),\"\",M!L193)","v":""},{"$f":"IF(ISBLANK(M!M193),\"\",M!M193)","v":""},{"$f":"IF(ISBLANK(M!N193),\"\",M!N193)","v":""},null,null,null,null,null,null,null,null,null,null,null,null,null,{"$f":"IF('F2'!D203=\"\",\"\",'F2'!D203)","v":""}]
[157,null,{"$f":"A!C191","v":""},null,{"$f":"IF('C'!D204=\"\",\"\",'C'!D204)","v":""},{"$f":"IF(D!D204=\"\",\"\",D!D204)","v":""},{"$f":"IF(E!D204=\"\",\"\",E!D204)","v":""},{"$f":"IF(F!D204=\"\",\"\",F!D204)","v":""},null,null,null,null,null,null,null,null,null,null,null,null,null,null,null,null,null,null,null,null,null,null,null,null,null,null,{"$f":"IF(ISBLANK(M!E194),\"\",M!E194)","v":""},{"$f":"IF(ISBLANK(M!F194),\"\",M!F194)","v":""},{"$f":"IF(ISBLANK(M!G194),\"\",M!G194)","v":""},{"$f":"IF(ISBLANK(M!H194),\"\",M!H194)","v":""},{"$f":"IF(ISBLANK(M!I194),\"\",M!I194)","v":""},{"$f":"IF(ISBLANK(M!J194),\"\",M!J194)","v":""},{"$f":"IF(ISBLANK(M!K194),\"\",M!K194)","v":""},{"$f":"IF(ISBLANK(M!L194),\"\",M!L194)","v":""},{"$f":"IF(ISBLANK(M!M194),\"\",M!M194)","v":""},{"$f":"IF(ISBLANK(M!N194),\"\",M!N194)","v":""},null,null,null,null,null,null,null,null,null,null,null,null,null,{"$f":"IF('F2'!D204=\"\",\"\",'F2'!D204)","v":""}]
[158,null,{"$f":"A!C192","v":""},null,{"$f":"IF('C'!D205=\"\",\"\",'C'!D205)","v":""},{"$f":"IF(D!D205=\"\",\"\",D!D205)","v":""},{"$f":"IF(E!D205=\"\",\"\",E!D205)","v":""},{"$f":"IF(F!D205=\"\",\"\",F!D205)","v":""},null,null,null,null,null,null,null,null,null,null,null,null,null,null,null,null,null,null,null,null,null,null,null,null,null,null,{"$f":"IF(ISBLANK(M!E195),\"\",M!E195)","v":""},{"$f":"IF(ISBLANK(M!F195),\"\",M!F195)","v":""},{"$f":"IF(ISBLANK(M!G195),\"\",M!G195)","v":""},{"$f":"IF(ISBLANK(M!H195),\"\",M!H195)","v":""},{"$f":"IF(ISBLANK(M!I195),\"\",M!I195)","v":""},{"$f":"IF(ISBLANK(M!J195),\"\",M!J195)","v":""},{"$f":"IF(ISBLANK(M!K195),\"\",M!K195)","v":""},{"$f":"IF(ISBLANK(M!L195),\"\",M!L195)","v":""},{"$f":"IF(ISBLANK(M!M195),\"\",M!M195)","v":""},{"$f":"IF(ISBLANK(M!N195),\"\",M!N195)","v":""},null,null,null,null,null,null,null,null,null,null,null,null,null,{"$f":"IF('F2'!D205=\"\",\"\",'F2'!D205)","v":""}]
[159,null,{"$f":"A!C193","v":""},null,{"$f":"IF('C'!D206=\"\",\"\",'C'!D206)","v":""},{"$f":"IF(D!D206=\"\",\"\",D!D206)","v":""},{"$f":"IF(E!D206=\"\",\"\",E!D206)","v":""},{"$f":"IF(F!D206=\"\",\"\",F!D206)","v":""},null,null,null,null,null,null,null,null,null,null,null,null,null,null,null,null,null,null,null,null,null,null,null,null,null,null,{"$f":"IF(ISBLANK(M!E196),\"\",M!E196)","v":""},{"$f":"IF(ISBLANK(M!F196),\"\",M!F196)","v":""},{"$f":"IF(ISBLANK(M!G196),\"\",M!G196)","v":""},{"$f":"IF(ISBLANK(M!H196),\"\",M!H196)","v":""},{"$f":"IF(ISBLANK(M!I196),\"\",M!I196)","v":""},{"$f":"IF(ISBLANK(M!J196),\"\",M!J196)","v":""},{"$f":"IF(ISBLANK(M!K196),\"\",M!K196)","v":""},{"$f":"IF(ISBLANK(M!L196),\"\",M!L196)","v":""},{"$f":"IF(ISBLANK(M!M196),\"\",M!M196)","v":""},{"$f":"IF(ISBLANK(M!N196),\"\",M!N196)","v":""},null,null,null,null,null,null,null,null,null,null,null,null,null,{"$f":"IF('F2'!D206=\"\",\"\",'F2'!D206)","v":""}]
[160,null,{"$f":"A!C194","v":""},null,{"$f":"IF('C'!D207=\"\",\"\",'C'!D207)","v":""},{"$f":"IF(D!D207=\"\",\"\",D!D207)","v":""},{"$f":"IF(E!D207=\"\",\"\",E!D207)","v":""},{"$f":"IF(F!D207=\"\",\"\",F!D207)","v":""},null,null,null,null,null,null,null,null,null,null,null,null,null,null,null,null,null,null,null,null,null,null,null,null,null,null,{"$f":"IF(ISBLANK(M!E197),\"\",M!E197)","v":""},{"$f":"IF(ISBLANK(M!F197),\"\",M!F197)","v":""},{"$f":"IF(ISBLANK(M!G197),\"\",M!G197)","v":""},{"$f":"IF(ISBLANK(M!H197),\"\",M!H197)","v":""},{"$f":"IF(ISBLANK(M!I197),\"\",M!I197)","v":""},{"$f":"IF(ISBLANK(M!J197),\"\",M!J197)","v":""},{"$f":"IF(ISBLANK(M!K197),\"\",M!K197)","v":""},{"$f":"IF(ISBLANK(M!L197),\"\",M!L197)","v":""},{"$f":"IF(ISBLANK(M!M197),\"\",M!M197)","v":""},{"$f":"IF(ISBLANK(M!N197),\"\",M!N197)","v":""},null,null,null,null,null,null,null,null,null,null,null,null,null,{"$f":"IF('F2'!D207=\"\",\"\",'F2'!D207)","v":""}]
[161,null,{"$f":"A!C195","v":""},null,{"$f":"IF('C'!D208=\"\",\"\",'C'!D208)","v":""},{"$f":"IF(D!D208=\"\",\"\",D!D208)","v":""},{"$f":"IF(E!D208=\"\",\"\",E!D208)","v":""},{"$f":"IF(F!D208=\"\",\"\",F!D208)","v":""},null,null,null,null,null,null,null,null,null,null,null,null,null,null,null,null,null,null,null,null,null,null,null,null,null,null,{"$f":"IF(ISBLANK(M!E198),\"\",M!E198)","v":""},{"$f":"IF(ISBLANK(M!F198),\"\",M!F198)","v":""},{"$f":"IF(ISBLANK(M!G198),\"\",M!G198)","v":""},{"$f":"IF(ISBLANK(M!H198),\"\",M!H198)","v":""},{"$f":"IF(ISBLANK(M!I198),\"\",M!I198)","v":""},{"$f":"IF(ISBLANK(M!J198),\"\",M!J198)","v":""},{"$f":"IF(ISBLANK(M!K198),\"\",M!K198)","v":""},{"$f":"IF(ISBLANK(M!L198),\"\",M!L198)","v":""},{"$f":"IF(ISBLANK(M!M198),\"\",M!M198)","v":""},{"$f":"IF(ISBLANK(M!N198),\"\",M!N198)","v":""},null,null,null,null,null,null,null,null,null,null,null,null,null,{"$f":"IF('F2'!D208=\"\",\"\",'F2'!D208)","v":""}]
[162,null,{"$f":"A!C196","v":""},null,{"$f":"IF('C'!D209=\"\",\"\",'C'!D209)","v":""},{"$f":"IF(D!D209=\"\",\"\",D!D209)","v":""},{"$f":"IF(E!D209=\"\",\"\",E!D209)","v":""},{"$f":"IF(F!D209=\"\",\"\",F!D209)","v":""},null,null,null,null,null,null,null,null,null,null,null,null,null,null,null,null,null,null,null,null,null,null,null,null,null,null,{"$f":"IF(ISBLANK(M!E199),\"\",M!E199)","v":""},{"$f":"IF(ISBLANK(M!F199),\"\",M!F199)","v":""},{"$f":"IF(ISBLANK(M!G199),\"\",M!G199)","v":""},{"$f":"IF(ISBLANK(M!H199),\"\",M!H199)","v":""},{"$f":"IF(ISBLANK(M!I199),\"\",M!I199)","v":""},{"$f":"IF(ISBLANK(M!J199),\"\",M!J199)","v":""},{"$f":"IF(ISBLANK(M!K199),\"\",M!K199)","v":""},{"$f":"IF(ISBLANK(M!L199),\"\",M!L199)","v":""},{"$f":"IF(ISBLANK(M!M199),\"\",M!M199)","v":""},{"$f":"IF(ISBLANK(M!N199),\"\",M!N199)","v":""},null,null,null,null,null,null,null,null,null,null,null,null,null,{"$f":"IF('F2'!D209=\"\",\"\",'F2'!D209)","v":""}]
[163,null,{"$f":"A!C197","v":""},null,{"$f":"IF('C'!D210=\"\",\"\",'C'!D210)","v":""},{"$f":"IF(D!D210=\"\",\"\",D!D210)","v":""},{"$f":"IF(E!D210=\"\",\"\",E!D210)","v":""},{"$f":"IF(F!D210=\"\",\"\",F!D210)","v":""},null,null,null,null,null,null,null,null,null,null,null,null,null,null,null,null,null,null,null,null,null,null,null,null,null,null,{"$f":"IF(ISBLANK(M!E200),\"\",M!E200)","v":""},{"$f":"IF(ISBLANK(M!F200),\"\",M!F200)","v":""},{"$f":"IF(ISBLANK(M!G200),\"\",M!G200)","v":""},{"$f":"IF(ISBLANK(M!H200),\"\",M!H200)","v":""},{"$f":"IF(ISBLANK(M!I200),\"\",M!I200)","v":""},{"$f":"IF(ISBLANK(M!J200),\"\",M!J200)","v":""},{"$f":"IF(ISBLANK(M!K200),\"\",M!K200)","v":""},{"$f":"IF(ISBLANK(M!L200),\"\",M!L200)","v":""},{"$f":"IF(ISBLANK(M!M200),\"\",M!M200)","v":""},{"$f":"IF(ISBLANK(M!N200),\"\",M!N200)","v":""},null,null,null,null,null,null,null,null,null,null,null,null,null,{"$f":"IF('F2'!D210=\"\",\"\",'F2'!D210)","v":""}]
[164,null,{"$f":"A!C198","v":""},null,{"$f":"IF('C'!D211=\"\",\"\",'C'!D211)","v":""},{"$f":"IF(D!D211=\"\",\"\",D!D211)","v":""},{"$f":"IF(E!D211=\"\",\"\",E!D211)","v":""},{"$f":"IF(F!D211=\"\",\"\",F!D211)","v":""},null,null,null,null,null,null,null,null,null,null,null,null,null,null,null,null,null,null,null,null,null,null,null,null,null,null,{"$f":"IF(ISBLANK(M!E201),\"\",M!E201)","v":""},{"$f":"IF(ISBLANK(M!F201),\"\",M!F201)","v":""},{"$f":"IF(ISBLANK(M!G201),\"\",M!G201)","v":""},{"$f":"IF(ISBLANK(M!H201),\"\",M!H201)","v":""},{"$f":"IF(ISBLANK(M!I201),\"\",M!I201)","v":""},{"$f":"IF(ISBLANK(M!J201),\"\",M!J201)","v":""},{"$f":"IF(ISBLANK(M!K201),\"\",M!K201)","v":""},{"$f":"IF(ISBLANK(M!L201),\"\",M!L201)","v":""},{"$f":"IF(ISBLANK(M!M201),\"\",M!M201)","v":""},{"$f":"IF(ISBLANK(M!N201),\"\",M!N201)","v":""},null,null,null,null,null,null,null,null,null,null,null,null,null,{"$f":"IF('F2'!D211=\"\",\"\",'F2'!D211)","v":""}]
[165,null,{"$f":"A!C199","v":""},null,null,null,null,null,null,null,null,null,null,null,null,null,null,null,null,null,null,null,null,null,null,null,null,null,null,null,null,null,null,null,{"$f":"IF(ISBLANK(M!E202),\"\",M!E202)","v":""},{"$f":"IF(ISBLANK(M!F202),\"\",M!F202)","v":""},{"$f":"IF(ISBLANK(M!G202),\"\",M!G202)","v":""},{"$f":"IF(ISBLANK(M!H202),\"\",M!H202)","v":""},{"$f":"IF(ISBLANK(M!I202),\"\",M!I202)","v":""},{"$f":"IF(ISBLANK(M!J202),\"\",M!J202)","v":""},{"$f":"IF(ISBLANK(M!K202),\"\",M!K202)","v":""},{"$f":"IF(ISBLANK(M!L202),\"\",M!L202)","v":""},{"$f":"IF(ISBLANK(M!M202),\"\",M!M202)","v":""},{"$f":"IF(ISBLANK(M!N202),\"\",M!N202)","v":""}]
[166,null,{"$f":"A!C200","v":""},null,null,null,null,null,null,null,null,null,null,null,null,null,null,null,null,null,null,null,null,null,null,null,null,null,null,null,null,null,null,null,{"$f":"IF(ISBLANK(M!E203),\"\",M!E203)","v":""},{"$f":"IF(ISBLANK(M!F203),\"\",M!F203)","v":""},{"$f":"IF(ISBLANK(M!G203),\"\",M!G203)","v":""},{"$f":"IF(ISBLANK(M!H203),\"\",M!H203)","v":""},{"$f":"IF(ISBLANK(M!I203),\"\",M!I203)","v":""},{"$f":"IF(ISBLANK(M!J203),\"\",M!J203)","v":""},{"$f":"IF(ISBLANK(M!K203),\"\",M!K203)","v":""},{"$f":"IF(ISBLANK(M!L203),\"\",M!L203)","v":""},{"$f":"IF(ISBLANK(M!M203),\"\",M!M203)","v":""},{"$f":"IF(ISBLANK(M!N203),\"\",M!N203)","v":""}]
[167,null,{"$f":"A!C201","v":""},null,null,null,null,null,null,null,null,null,null,null,null,null,null,null,null,null,null,null,null,null,null,null,null,null,null,null,null,null,null,null,{"$f":"IF(ISBLANK(M!E204),\"\",M!E204)","v":""},{"$f":"IF(ISBLANK(M!F204),\"\",M!F204)","v":""},{"$f":"IF(ISBLANK(M!G204),\"\",M!G204)","v":""},{"$f":"IF(ISBLANK(M!H204),\"\",M!H204)","v":""},{"$f":"IF(ISBLANK(M!I204),\"\",M!I204)","v":""},{"$f":"IF(ISBLANK(M!J204),\"\",M!J204)","v":""},{"$f":"IF(ISBLANK(M!K204),\"\",M!K204)","v":""},{"$f":"IF(ISBLANK(M!L204),\"\",M!L204)","v":""},{"$f":"IF(ISBLANK(M!M204),\"\",M!M204)","v":""},{"$f":"IF(ISBLANK(M!N204),\"\",M!N204)","v":""}]
[168,null,{"$f":"A!C202","v":""},null,null,null,null,null,null,null,null,null,null,null,null,null,null,null,null,null,null,null,null,null,null,null,null,null,null,null,null,null,null,null,{"$f":"IF(ISBLANK(M!E205),\"\",M!E205)","v":""},{"$f":"IF(ISBLANK(M!F205),\"\",M!F205)","v":""},{"$f":"IF(ISBLANK(M!G205),\"\",M!G205)","v":""},{"$f":"IF(ISBLANK(M!H205),\"\",M!H205)","v":""},{"$f":"IF(ISBLANK(M!I205),\"\",M!I205)","v":""},{"$f":"IF(ISBLANK(M!J205),\"\",M!J205)","v":""},{"$f":"IF(ISBLANK(M!K205),\"\",M!K205)","v":""},{"$f":"IF(ISBLANK(M!L205),\"\",M!L205)","v":""},{"$f":"IF(ISBLANK(M!M205),\"\",M!M205)","v":""},{"$f":"IF(ISBLANK(M!N205),\"\",M!N205)","v":""}]
[169,null,{"$f":"A!C203","v":""},null,null,null,null,null,null,null,null,null,null,null,null,null,null,null,null,null,null,null,null,null,null,null,null,null,null,null,null,null,null,null,{"$f":"IF(ISBLANK(M!E206),\"\",M!E206)","v":""},{"$f":"IF(ISBLANK(M!F206),\"\",M!F206)","v":""},{"$f":"IF(ISBLANK(M!G206),\"\",M!G206)","v":""},{"$f":"IF(ISBLANK(M!H206),\"\",M!H206)","v":""},{"$f":"IF(ISBLANK(M!I206),\"\",M!I206)","v":""},{"$f":"IF(ISBLANK(M!J206),\"\",M!J206)","v":""},{"$f":"IF(ISBLANK(M!K206),\"\",M!K206)","v":""},{"$f":"IF(ISBLANK(M!L206),\"\",M!L206)","v":""},{"$f":"IF(ISBLANK(M!M206),\"\",M!M206)","v":""},{"$f":"IF(ISBLANK(M!N206),\"\",M!N206)","v":""}]
[170,null,null,null,null,null,null,null,null,null,null,null,null,null,null,null,null,null,null,null,null,null,null,null,null,null,null,null,null,null,null,null,null,null,{"$f":"IF(ISBLANK(M!E207),\"\",M!E207)","v":""},{"$f":"IF(ISBLANK(M!F207),\"\",M!F207)","v":""},{"$f":"IF(ISBLANK(M!G207),\"\",M!G207)","v":""},{"$f":"IF(ISBLANK(M!H207),\"\",M!H207)","v":""},{"$f":"IF(ISBLANK(M!I207),\"\",M!I207)","v":""},{"$f":"IF(ISBLANK(M!J207),\"\",M!J207)","v":""},{"$f":"IF(ISBLANK(M!K207),\"\",M!K207)","v":""},{"$f":"IF(ISBLANK(M!L207),\"\",M!L207)","v":""},{"$f":"IF(ISBLANK(M!M207),\"\",M!M207)","v":""},{"$f":"IF(ISBLANK(M!N207),\"\",M!N207)","v":""}]
[171,null,null,null,null,null,null,null,null,null,null,null,null,null,null,null,null,null,null,null,null,null,null,null,null,null,null,null,null,null,null,null,null,null,{"$f":"IF(ISBLANK(M!E208),\"\",M!E208)","v":""},{"$f":"IF(ISBLANK(M!F208),\"\",M!F208)","v":""},{"$f":"IF(ISBLANK(M!G208),\"\",M!G208)","v":""},{"$f":"IF(ISBLANK(M!H208),\"\",M!H208)","v":""},{"$f":"IF(ISBLANK(M!I208),\"\",M!I208)","v":""},{"$f":"IF(ISBLANK(M!J208),\"\",M!J208)","v":""},{"$f":"IF(ISBLANK(M!K208),\"\",M!K208)","v":""},{"$f":"IF(ISBLANK(M!L208),\"\",M!L208)","v":""},{"$f":"IF(ISBLANK(M!M208),\"\",M!M208)","v":""},{"$f":"IF(ISBLANK(M!N208),\"\",M!N208)","v":""}]
[172,null,null,null,null,null,null,null,null,null,null,null,null,null,null,null,null,null,null,null,null,null,null,null,null,null,null,null,null,null,null,null,null,null,{"$f":"IF(ISBLANK(M!E209),\"\",M!E209)","v":""},{"$f":"IF(ISBLANK(M!F209),\"\",M!F209)","v":""},{"$f":"IF(ISBLANK(M!G209),\"\",M!G209)","v":""},{"$f":"IF(ISBLANK(M!H209),\"\",M!H209)","v":""},{"$f":"IF(ISBLANK(M!I209),\"\",M!I209)","v":""},{"$f":"IF(ISBLANK(M!J209),\"\",M!J209)","v":""},{"$f":"IF(ISBLANK(M!K209),\"\",M!K209)","v":""},{"$f":"IF(ISBLANK(M!L209),\"\",M!L209)","v":""},{"$f":"IF(ISBLANK(M!M209),\"\",M!M209)","v":""},{"$f":"IF(ISBLANK(M!N209),\"\",M!N209)","v":""}]
[173,null,null,null,null,null,null,null,null,null,null,null,null,null,null,null,null,null,null,null,null,null,null,null,null,null,null,null,null,null,null,null,null,null,{"$f":"IF(ISBLANK(M!E210),\"\",M!E210)","v":""},{"$f":"IF(ISBLANK(M!F210),\"\",M!F210)","v":""},{"$f":"IF(ISBLANK(M!G210),\"\",M!G210)","v":""},{"$f":"IF(ISBLANK(M!H210),\"\",M!H210)","v":""},{"$f":"IF(ISBLANK(M!I210),\"\",M!I210)","v":""},{"$f":"IF(ISBLANK(M!J210),\"\",M!J210)","v":""},{"$f":"IF(ISBLANK(M!K210),\"\",M!K210)","v":""},{"$f":"IF(ISBLANK(M!L210),\"\",M!L210)","v":""},{"$f":"IF(ISBLANK(M!M210),\"\",M!M210)","v":""},{"$f":"IF(ISBLANK(M!N210),\"\",M!N210)","v":""}]
[174,null,null,null,null,null,null,null,null,null,null,null,null,null,null,null,null,null,null,null,null,null,null,null,null,null,null,null,null,null,null,null,null,null,{"$f":"IF(ISBLANK(M!E211),\"\",M!E211)","v":""},{"$f":"IF(ISBLANK(M!F211),\"\",M!F211)","v":""},{"$f":"IF(ISBLANK(M!G211),\"\",M!G211)","v":""},{"$f":"IF(ISBLANK(M!H211),\"\",M!H211)","v":""},{"$f":"IF(ISBLANK(M!I211),\"\",M!I211)","v":""},{"$f":"IF(ISBLANK(M!J211),\"\",M!J211)","v":""},{"$f":"IF(ISBLANK(M!K211),\"\",M!K211)","v":""},{"$f":"IF(ISBLANK(M!L211),\"\",M!L211)","v":""},{"$f":"IF(ISBLANK(M!M211),\"\",M!M211)","v":""},{"$f":"IF(ISBLANK(M!N211),\"\",M!N211)","v":""}]
[175,null,null,null,null,null,null,null,null,null,null,null,null,null,null,null,null,null,null,null,null,null,null,null,null,null,null,null,null,null,null,null,null,null,{"$f":"IF(ISBLANK(M!E212),\"\",M!E212)","v":""},{"$f":"IF(ISBLANK(M!F212),\"\",M!F212)","v":""},{"$f":"IF(ISBLANK(M!G212),\"\",M!G212)","v":""},{"$f":"IF(ISBLANK(M!H212),\"\",M!H212)","v":""},{"$f":"IF(ISBLANK(M!I212),\"\",M!I212)","v":""},{"$f":"IF(ISBLANK(M!J212),\"\",M!J212)","v":""},{"$f":"IF(ISBLANK(M!K212),\"\",M!K212)","v":""},{"$f":"IF(ISBLANK(M!L212),\"\",M!L212)","v":""},{"$f":"IF(ISBLANK(M!M212),\"\",M!M212)","v":""},{"$f":"IF(ISBLANK(M!N212),\"\",M!N212)","v":""}]
[176,null,null,null,null,null,null,null,null,null,null,null,null,null,null,null,null,null,null,null,null,null,null,null,null,null,null,null,null,null,null,null,null,null,{"$f":"IF(ISBLANK(M!E213),\"\",M!E213)","v":""},{"$f":"IF(ISBLANK(M!F213),\"\",M!F213)","v":""},{"$f":"IF(ISBLANK(M!G213),\"\",M!G213)","v":""},{"$f":"IF(ISBLANK(M!H213),\"\",M!H213)","v":""},{"$f":"IF(ISBLANK(M!I213),\"\",M!I213)","v":""},{"$f":"IF(ISBLANK(M!J213),\"\",M!J213)","v":""},{"$f":"IF(ISBLANK(M!K213),\"\",M!K213)","v":""},{"$f":"IF(ISBLANK(M!L213),\"\",M!L213)","v":""},{"$f":"IF(ISBLANK(M!M213),\"\",M!M213)","v":""},{"$f":"IF(ISBLANK(M!N213),\"\",M!N213)","v":""}]
[177,null,null,null,null,null,null,null,null,null,null,null,null,null,null,null,null,null,null,null,null,null,null,null,null,null,null,null,null,null,null,null,null,null,{"$f":"IF(ISBLANK(M!E214),\"\",M!E214)","v":""},{"$f":"IF(ISBLANK(M!F214),\"\",M!F214)","v":""},{"$f":"IF(ISBLANK(M!G214),\"\",M!G214)","v":""},{"$f":"IF(ISBLANK(M!H214),\"\",M!H214)","v":""},{"$f":"IF(ISBLANK(M!I214),\"\",M!I214)","v":""},{"$f":"IF(ISBLANK(M!J214),\"\",M!J214)","v":""},{"$f":"IF(ISBLANK(M!K214),\"\",M!K214)","v":""},{"$f":"IF(ISBLANK(M!L214),\"\",M!L214)","v":""},{"$f":"IF(ISBLANK(M!M214),\"\",M!M214)","v":""},{"$f":"IF(ISBLANK(M!N214),\"\",M!N214)","v":""}]
[178,null,null,null,null,null,null,null,null,null,null,null,null,null,null,null,null,null,null,null,null,null,null,null,null,null,null,null,null,null,null,null,null,null,{"$f":"IF(ISBLANK(M!E215),\"\",M!E215)","v":""},{"$f":"IF(ISBLANK(M!F215),\"\",M!F215)","v":""},{"$f":"IF(ISBLANK(M!G215),\"\",M!G215)","v":""},{"$f":"IF(ISBLANK(M!H215),\"\",M!H215)","v":""},{"$f":"IF(ISBLANK(M!I215),\"\",M!I215)","v":""},{"$f":"IF(ISBLANK(M!J215),\"\",M!J215)","v":""},{"$f":"IF(ISBLANK(M!K215),\"\",M!K215)","v":""},{"$f":"IF(ISBLANK(M!L215),\"\",M!L215)","v":""},{"$f":"IF(ISBLANK(M!M215),\"\",M!M215)","v":""},{"$f":"IF(ISBLANK(M!N215),\"\",M!N215)","v":""}]
[179,null,null,null,null,null,null,null,null,null,null,null,null,null,null,null,null,null,null,null,null,null,null,null,null,null,null,null,null,null,null,null,null,null,{"$f":"IF(ISBLANK(M!E216),\"\",M!E216)","v":""},{"$f":"IF(ISBLANK(M!F216),\"\",M!F216)","v":""},{"$f":"IF(ISBLANK(M!G216),\"\",M!G216)","v":""},{"$f":"IF(ISBLANK(M!H216),\"\",M!H216)","v":""},{"$f":"IF(ISBLANK(M!I216),\"\",M!I216)","v":""},{"$f":"IF(ISBLANK(M!J216),\"\",M!J216)","v":""},{"$f":"IF(ISBLANK(M!K216),\"\",M!K216)","v":""},{"$f":"IF(ISBLANK(M!L216),\"\",M!L216)","v":""},{"$f":"IF(ISBLANK(M!M216),\"\",M!M216)","v":""},{"$f":"IF(ISBLANK(M!N216),\"\",M!N216)","v":""}]
[180,null,null,null,null,null,null,null,null,null,null,null,null,null,null,null,null,null,null,null,null,null,null,null,null,null,null,null,null,null,null,null,null,null,{"$f":"IF(ISBLANK(M!E217),\"\",M!E217)","v":""},{"$f":"IF(ISBLANK(M!F217),\"\",M!F217)","v":""},{"$f":"IF(ISBLANK(M!G217),\"\",M!G217)","v":""},{"$f":"IF(ISBLANK(M!H217),\"\",M!H217)","v":""},{"$f":"IF(ISBLANK(M!I217),\"\",M!I217)","v":""},{"$f":"IF(ISBLANK(M!J217),\"\",M!J217)","v":""},{"$f":"IF(ISBLANK(M!K217),\"\",M!K217)","v":""},{"$f":"IF(ISBLANK(M!L217),\"\",M!L217)","v":""},{"$f":"IF(ISBLANK(M!M217),\"\",M!M217)","v":""},{"$f":"IF(ISBLANK(M!N217),\"\",M!N217)","v":""}]
[181,null,null,null,null,null,null,null,null,null,null,null,null,null,null,null,null,null,null,null,null,null,null,null,null,null,null,null,null,null,null,null,null,null,{"$f":"IF(ISBLANK(M!E218),\"\",M!E218)","v":""},{"$f":"IF(ISBLANK(M!F218),\"\",M!F218)","v":""},{"$f":"IF(ISBLANK(M!G218),\"\",M!G218)","v":""},{"$f":"IF(ISBLANK(M!H218),\"\",M!H218)","v":""},{"$f":"IF(ISBLANK(M!I218),\"\",M!I218)","v":""},{"$f":"IF(ISBLANK(M!J218),\"\",M!J218)","v":""},{"$f":"IF(ISBLANK(M!K218),\"\",M!K218)","v":""},{"$f":"IF(ISBLANK(M!L218),\"\",M!L218)","v":""},{"$f":"IF(ISBLANK(M!M218),\"\",M!M218)","v":""},{"$f":"IF(ISBLANK(M!N218),\"\",M!N218)","v":""}]
[182,null,null,null,null,null,null,null,null,null,null,null,null,null,null,null,null,null,null,null,null,null,null,null,null,null,null,null,null,null,null,null,null,null,{"$f":"IF(ISBLANK(M!E219),\"\",M!E219)","v":""},{"$f":"IF(ISBLANK(M!F219),\"\",M!F219)","v":""},{"$f":"IF(ISBLANK(M!G219),\"\",M!G219)","v":""},{"$f":"IF(ISBLANK(M!H219),\"\",M!H219)","v":""},{"$f":"IF(ISBLANK(M!I219),\"\",M!I219)","v":""},{"$f":"IF(ISBLANK(M!J219),\"\",M!J219)","v":""},{"$f":"IF(ISBLANK(M!K219),\"\",M!K219)","v":""},{"$f":"IF(ISBLANK(M!L219),\"\",M!L219)","v":""},{"$f":"IF(ISBLANK(M!M219),\"\",M!M219)","v":""},{"$f":"IF(ISBLANK(M!N219),\"\",M!N219)","v":""}]
[183,null,null,null,null,null,null,null,null,null,null,null,null,null,null,null,null,null,null,null,null,null,null,null,null,null,null,null,null,null,null,null,null,null,{"$f":"IF(ISBLANK(M!E220),\"\",M!E220)","v":""},{"$f":"IF(ISBLANK(M!F220),\"\",M!F220)","v":""},{"$f":"IF(ISBLANK(M!G220),\"\",M!G220)","v":""},{"$f":"IF(ISBLANK(M!H220),\"\",M!H220)","v":""},{"$f":"IF(ISBLANK(M!I220),\"\",M!I220)","v":""},{"$f":"IF(ISBLANK(M!J220),\"\",M!J220)","v":""},{"$f":"IF(ISBLANK(M!K220),\"\",M!K220)","v":""},{"$f":"IF(ISBLANK(M!L220),\"\",M!L220)","v":""},{"$f":"IF(ISBLANK(M!M220),\"\",M!M220)","v":""},{"$f":"IF(ISBLANK(M!N220),\"\",M!N220)","v":""}]
[184,null,null,null,null,null,null,null,null,null,null,null,null,null,null,null,null,null,null,null,null,null,null,null,null,null,null,null,null,null,null,null,null,null,{"$f":"IF(ISBLANK(M!E221),\"\",M!E221)","v":""},{"$f":"IF(ISBLANK(M!F221),\"\",M!F221)","v":""},{"$f":"IF(ISBLANK(M!G221),\"\",M!G221)","v":""},{"$f":"IF(ISBLANK(M!H221),\"\",M!H221)","v":""},{"$f":"IF(ISBLANK(M!I221),\"\",M!I221)","v":""},{"$f":"IF(ISBLANK(M!J221),\"\",M!J221)","v":""},{"$f":"IF(ISBLANK(M!K221),\"\",M!K221)","v":""},{"$f":"IF(ISBLANK(M!L221),\"\",M!L221)","v":""},{"$f":"IF(ISBLANK(M!M221),\"\",M!M221)","v":""},{"$f":"IF(ISBLANK(M!N221),\"\",M!N221)","v":""}]
[185]
[186]
[187]
[188]
[189]
[190]
[191]
[192]
[193]
[194]
[195]
[196]
[197]
[198]
[199]
[200]
[201]
[202]
[203]
[204]
[205]
[206]
[207]
[208]
[209]
[210]
[211]
[212]
[213]
[214]
[215]
[216]
[217]
[218]
[219]
[220]
[221]
[222]
[223]
[224]
[225]
[226]
[227]
[228]
[229]
[230]
[231]
[232]
[233]
[234]
[235]
[236]
[237]
[238]
[239]
[240]
[241]
[242]
[243]
[244]
[245]
[246]
[247]
[248]
[249]
[250]
[251]
[252]
[253]
[254]
[255]
[256]
[257]
[258]
[259]
[260]
[261]
[262]
[263]
[264]
[265]
[266]
[267]
[268]
[269]
[270]
[271]
[272]
[273]
[274]
[275]
[276]
[277]
[278]
[279]
[280]
[281]
[282]
[283]
[284]
[285]
[286]
[287]
[288]
[289]
[290]
[291]
[292]
[293]
[294]
[295]
[296]
[297]
[298]
[299]
[300]
[301]
[302]
[303]
[304]
[305]
[306]
[307]
[308]
[309]
[310]
[311]
[312]
[313]
[314]
[315]
[316]
[317]
[318]
[319]
[320]
[321]
[322]
[323]
[324]
[325]
[326]
[327]
[328]
[329]
[330]
[331]
[332]
[333]
[334]
[335]
[336]
[337]
[338]
[339]
[340]
[341]
[342]
[343]
[344]
[345]
[346]
[347]
[348]
[349]
[350]
[351]
[352]
[353]
[354]
[355]
[356]
[357]
[358]
[359]
[360]
[361]
[362]
[363]
[364]
[365]
[366]
[367]
[368]
[369]
[370]
[371]
[372]
[373]
[374]
[375]
[376]
[377]
[378]
[379]
[380]
[381]
[382]
[383]
[384]
[385]
[386]
[387]
[388]
[389]
[390]
[391]
[392]
[393]
[394]
[395]
[396]
[397]
[398]
[399]
[400]
[401]
[402]
[403]
[404]
[405]
[406]
[407]
[408]
[409]
[410]
[411]
[412]
[413]
[414]
[415]
[416]
[417]
[418]
[419]
[420]
[421]
[422]
[423]
[424]
[425]
[426]
[427]
[428]
[429]
[430]
[431]
[432]
[433]
[434]
[435]

{"sheet":"BY","index":23,"n_rows":186,"n_cols":43,"rows_kept":186,"cut":false,"hidden":true,"merged":[]}
[]
[null,"common",{"$f":"COUNTA(C3:C500)","v":29},"A",{"$f":"COUNTA(E3:E500)","v":169},"B",{"$f":"COUNTA(G3:G500)","v":27},"C",{"$f":"COUNTA(I3:I500)","v":164},"D",{"$f":"COUNTA(K3:K500)","v":164},"E",{"$f":"COUNTA(M3:M500)","v":164},"F",{"$f":"COUNTA(O3:O500)","v":164},"G1",{"$f":"COUNTA(Q3:Q500)","v":47},"G2",{"$f":"COUNTA(S3:S500)","v":26},"H1",{"$f":"COUNTA(U3:U500)","v":52},"H2",{"$f":"COUNTA(W3:W500)","v":62},"I",{"$f":"COUNTA(Y3:Y500)","v":53},"J",{"$f":"COUNTA(AA3:AA500)","v":28},"K",{"$f":"COUNTA(AC3:AC500)","v":6},"L",{"$f":"COUNTA(AE3:AE500)","v":19},"M",{"$f":"COUNTA(AG3:AG500)","v":184},"N",{"$f":"COUNTA(AI3:AI500)","v":146},"O",{"$f":"COUNTA(AK3:AK500)","v":14},"P",{"$f":"COUNTA(AM3:AM500)","v":12},"Q",{"$f":"COUNTA(AO3:AO500)","v":37},"F2",{"$f":"COUNTA(AQ3:AQ500)","v":164}]
[null,42,"D4",35,"特殊",34,"L13",48,"D9",48,"D9",48,"D9",48,"D9",19,"A10",29,"I8",24,"G9",36,"I7",19,"A19",29,"D12",25,25,31,31,38,38,38,38,64,"D16",65,"D10",44,"J10",48,"D9"]
[null,43,"特殊",36,"E12",35,"V13",49,"D10",49,"D10",49,"D10",49,"D10",20,"I10",30,"I9",25,"P9",37,"I8",20,"I19",30,"I12",26,26,32,32,39,39,39,39,65,"D26",66,"D17",45,"J11",49,"D10"]
[null,44,"特殊",37,"E13",36,"AF13",50,"D11",50,"D11",50,"D11",50,"D11",21,"S10",31,"I10",26,"Y9",38,"I9",21,"S19",31,"D13",27,27,33,33,40,40,40,40,66,"D33",67,"D20",46,"J12",50,"D11"]
[null,45,"特殊",38,"E14",37,"AP13",51,"D12",51,"D12",51,"D12",51,"D12",22,"AC10",32,"I11",27,"AH9",39,"I10",22,"AC19",32,"I13",28,28,34,34,41,41,41,41,67,"D38",68,"D28",47,"J13",51,"D12"]
[null,46,"D5",39,"E15",38,"L14",52,"D13",52,"D13",52,"D13",52,"D13",23,"AL10",33,"I12",28,"AQ9",40,"I11",23,"AL19",33,"D14",29,29,35,35,42,42,42,42,68,"H38",69,"D33",48,"J14",52,"D13"]
[null,47,"特殊",40,"E16",39,"V14",53,"D14",53,"D14",53,"D14",53,"D14",24,"AU10",34,"I13",29,"G10",41,"I12",24,"AU19",34,"I14",30,30,36,36,43,43,43,43,69,"Q38",70,"H33",49,"J15",53,"D14"]
[null,48,"D7",41,"E17",40,"AF14",54,"D15",54,"D15",54,"D15",54,"D15",25,"AW10",35,"I14",30,"P10",42,"I13",25,"AW19",35,"D15",null,null,37,37,44,44,44,44,70,"D39",71,"D34",50,"J16",54,"D15"]
[null,49,"D8",42,"E18",41,"AP14",55,"D16",55,"D16",55,"D16",55,"D16",26,"AX10",36,"I15",31,"Y10",43,"I14",26,"AX19",36,"I15",null,null,38,38,45,45,45,45,71,"H39",72,"H34",51,"J17",55,"D16"]
[null,50,"D9",43,"E19",42,"L15",56,"D17",56,"D17",56,"D17",56,"D17",27,"BA10",37,"I16",32,"AH10",44,"I15",27,"BA19",37,"D16",null,null,39,39,46,46,46,46,72,"Q39",73,"D35",52,"J18",56,"D17"]
[null,51,"D10",44,"E20",43,"V15",57,"D18",57,"D18",57,"D18",57,"D18",28,"A11",38,"Z8",33,"AQ10",45,"Z7",28,"A20",38,"I16",null,null,40,40,47,47,47,47,73,"D40",74,"H35",53,"J19",57,"D18"]
[null,52,"D11",45,"E21",44,"AF15",58,"D19",58,"D19",58,"D19",58,"D19",29,"I11",39,"Z9",34,"G11",46,"Z8",29,"I20",39,"D17",null,null,41,41,48,48,48,48,74,"H40",75,"D40",54,"J20",58,"D19"]
[null,53,"特殊",46,"E22",45,"AP15",59,"NULL",59,"NULL",59,"NULL",59,"NULL",30,"S11",40,"Z10",35,"P11",47,"Z10",30,"S20",40,"I17",null,null,42,42,49,49,49,49,75,"Q40",76,"H41",55,"J21",59,"NULL"]
[null,54,"特殊",47,"E23",46,"L16",60,"D20",60,"D20",60,"D20",60,"D20",31,"AC11",41,"AM8",36,"Y11",48,"Z11",31,"AC20",41,"D18",null,null,43,43,50,50,50,50,76,"D47",null,null,56,"J22",60,"D20"]
[null,55,"特殊",48,"E24",47,"L31",61,"D21",61,"D21",61,"D21",61,"D21",32,"AL11",42,"AM9",37,"AH11",49,"AM7",32,"AL20",42,"I18",null,null,44,44,51,51,51,51,77,"H48",null,null,57,"J23",61,"D21"]
[null,56,"特殊",49,"E25",48,"V31",62,"D22",62,"D22",62,"D22",62,"D22",33,"AU11",43,"AM10",38,"AQ11",50,"AM8",33,"AU20",43,"D19",null,null,45,45,52,52,52,52,null,null,null,null,58,"J24",62,"D22"]
[null,57,"特殊",50,"E26",49,"L32",63,"D23",63,"D23",63,"D23",63,"D23",34,"AW11",44,"AM11",39,"G12",51,"AM9",34,"AW20",44,"I19",null,null,46,46,53,53,53,53,null,null,null,null,59,"J25",63,"D23"]
[null,58,"特殊",51,"E27",50,"V32",64,"D24",64,"D24",64,"D24",64,"D24",35,"AX11",45,"Z12",40,"P12",52,"AM10",35,"AX20",45,"D20",null,null,47,47,54,54,54,54,null,null,null,null,60,"J26",64,"D24"]
[null,59,"特殊",52,"E28",51,"L17",65,"D27",65,"D27",65,"D27",65,"D27",36,"BA11",46,"Z13",41,"Y12",53,"I19",36,"BA20",46,"I20",null,null,48,48,55,55,55,55,null,null,null,null,61,"J27",65,"D27"]
[null,60,"特殊",53,"E30",52,"L20",66,"NULL",66,"NULL",66,"NULL",66,"NULL",37,"A12",47,"Z14",42,"AH12",54,"I20",37,"A21",47,"D21",null,null,49,49,56,56,56,56,null,null,null,null,62,"K10",66,"NULL"]
[null,61,"特殊",54,"E31",53,"S20",67,"D28",67,"D28",67,"D28",67,"D28",38,"I12",48,"Z15",43,"AQ12",55,"S19",38,"I21",48,"I21",null,null,null,null,57,57,57,57,null,null,null,null,63,"K11",67,"D28"]
[null,62,"特殊",55,"E32",54,"L23",68,"D29",68,"D29",68,"D29",68,"D29",39,"S12",49,"I20",44,"G13",56,"S20",39,"S21",49,"Y12",null,null,null,null,58,58,58,58,null,null,null,null,64,"K12",68,"D29"]
[null,63,"特殊",56,"O12",55,"S23",69,"D30",69,"D30",69,"D30",69,"D30",40,"AC12",50,"I21",45,"P13",57,"A24",40,"AC21",50,"Y13",null,null,null,null,59,59,59,59,null,null,null,null,65,"K13",69,"D30"]
[null,64,"特殊",57,"O13",56,"AF4",70,"D31",70,"D31",70,"D31",70,"D31",41,"AL12",51,"S20",46,"Y13",58,"K24",41,"AL21",51,"Y14",null,null,null,null,60,60,60,60,null,null,null,null,66,"K14",70,"D31"]
[null,65,"特殊",58,"O14",57,"AM3",71,"D32",71,"D32",71,"D32",71,"D32",42,"AU12",52,"S21",47,"AH13",59,"O24",42,"AU21",52,"Y19",null,null,null,null,61,61,61,61,null,null,null,null,67,"K15",71,"D32"]
[null,66,"特殊",59,"O15",58,"AO3",72,"NULL",72,"NULL",72,"NULL",72,"NULL",43,"AW12",53,"B25",48,"AQ13",60,"X24",43,"AW21",53,"Y20",null,null,null,null,62,62,62,62,null,null,null,null,68,"K16",72,"NULL"]
[null,67,"特殊",60,"O16",59,"G5",73,"D33",73,"D33",73,"D33",73,"D33",44,"AX12",54,"AM12",49,"G14",61,"AA24",44,"AX21",54,"Y21",null,null,null,null,63,63,63,63,null,null,null,null,69,"K17",73,"D33"]
[null,68,"特殊",61,"O17",60,"M5",74,"D34",74,"D34",74,"D34",74,"D34",45,"BA12",null,null,50,"P14",62,"AJ24",45,"BA21",55,"Y22",null,null,null,null,64,64,64,64,null,null,null,null,70,"K18",74,"D34"]
[null,69,"特殊",62,"O18",null,null,75,"D35",75,"D35",75,"D35",75,"D35",46,"A13",null,null,51,"Y14",63,"AN24",46,"A22",56,"Y23",null,null,null,null,65,65,65,65,null,null,null,null,71,"K19",75,"D35"]
[null,70,"D24",63,"O19",null,null,76,"D36",76,"D36",76,"D36",76,"D36",47,"I13",null,null,52,"AH14",64,"AW24",47,"I22",null,null,null,null,null,null,66,66,66,66,null,null,null,null,72,"K20",76,"D36"]
[null,null,null,64,"O20",null,null,77,"D38",77,"D38",77,"D38",77,"D38",48,"S13",null,null,53,"AQ14",65,"A25",48,"S22",null,null,null,null,null,null,67,67,67,67,null,null,null,null,73,"K21",77,"D38"]
[null,null,null,65,"O21",null,null,78,"NULL",78,"NULL",78,"NULL",78,"NULL",49,"AC13",null,null,54,"G15",66,"K25",49,"AC22",null,null,null,null,null,null,68,68,68,68,null,null,null,null,74,"K22",78,"NULL"]
[null,null,null,66,"O22",null,null,79,"D39",79,"D39",79,"D39",79,"D39",50,"AL13",null,null,55,"P15",67,"O25",50,"AL22",null,null,null,null,null,null,69,69,69,69,null,null,null,null,75,"K23",79,"D39"]
[null,null,null,67,"O23",null,null,80,"D40",80,"D40",80,"D40",80,"D40",51,"AU13",null,null,56,"Y15",68,"X25",51,"AU22",null,null,null,null,null,null,70,70,70,70,null,null,null,null,76,"K24",80,"D40"]
[null,null,null,68,"O24",null,null,81,"D41",81,"D41",81,"D41",81,"D41",52,"AW13",null,null,57,"AH15",69,"AA25",52,"AW22",null,null,null,null,null,null,71,71,71,71,null,null,null,null,77,"K25",81,"D41"]
[null,null,null,69,"O25",null,null,82,"NULL",82,"NULL",82,"NULL",82,"NULL",53,"AX13",null,null,58,"AQ15",70,"AJ25",53,"AX22",null,null,null,null,null,null,72,72,72,72,null,null,null,null,78,"K26",82,"NULL"]
[null,null,null,70,"O26",null,null,83,"D42",83,"D42",83,"D42",83,"D42",54,"BA13",null,null,59,"G16",71,"AN25",54,"BA22",null,null,null,null,null,null,73,73,73,73,null,null,null,null,79,"K27",83,"D42"]
[null,null,null,71,"O27",null,null,84,"D43",84,"D43",84,"D43",84,"D43",55,"A14",null,null,60,"P16",72,"AW25",55,"A23",null,null,null,null,null,null,74,74,74,74,null,null,null,null,80,"B31",84,"D43"]
[null,null,null,72,"O28",null,null,85,"D44",85,"D44",85,"D44",85,"D44",56,"I14",null,null,61,"Y16",73,"A26",56,"I23",null,null,null,null,null,null,75,75,75,75,null,null,null,null,null,null,85,"D44"]
[null,null,null,73,"O30",null,null,86,"M9",86,"M9",86,"M9",86,"M9",57,"S14",null,null,62,"AH16",74,"K26",57,"S23",null,null,null,null,null,null,76,76,76,76,null,null,null,null,null,null,86,"M9"]
[null,null,null,74,"O31",null,null,87,"M10",87,"M10",87,"M10",87,"M10",58,"AC14",null,null,63,"AQ16",75,"O26",58,"AC23",null,null,null,null,null,null,77,77,77,77,null,null,null,null,null,null,87,"M10"]
[null,null,null,75,"O32",null,null,88,"M11",88,"M11",88,"M11",88,"M11",59,"AL14",null,null,64,"G17",76,"X26",59,"AL23",null,null,null,null,null,null,78,78,78,78,null,null,null,null,null,null,88,"M11"]
[null,null,null,76,"X12",null,null,89,"M12",89,"M12",89,"M12",89,"M12",60,"AU14",null,null,65,"P17",77,"AA26",60,"AU23",null,null,null,null,null,null,79,79,79,79,null,null,null,null,null,null,89,"M12"]
[null,null,null,77,"X13",null,null,90,"M13",90,"M13",90,"M13",90,"M13",61,"AW14",null,null,66,"Y17",78,"AJ26",61,"AW23",null,null,null,null,null,null,80,80,80,80,null,null,null,null,null,null,90,"M13"]
[null,null,null,78,"X14",null,null,91,"M14",91,"M14",91,"M14",91,"M14",62,"AX14",null,null,67,"AH17",79,"AN26",62,"AX23",null,null,null,null,null,null,81,81,81,81,null,null,null,null,null,null,91,"M14"]
[null,null,null,79,"X15",null,null,92,"M15",92,"M15",92,"M15",92,"M15",63,"BA14",null,null,68,"AQ17",80,"AW26",63,"BA23",null,null,null,null,null,null,82,82,82,82,null,null,null,null,null,null,92,"M15"]
[null,null,null,80,"X16",null,null,93,"M16",93,"M16",93,"M16",93,"M16",64,"NULL",null,null,69,"G18",81,"A27",64,"特殊",null,null,null,null,null,null,83,83,83,83,null,null,null,null,null,null,93,"M16"]
[null,null,null,81,"X17",null,null,94,"M17",94,"M17",94,"M17",94,"M17",65,"特殊",null,null,70,"P18",82,"K27",65,"K8",null,null,null,null,null,null,84,84,84,84,null,null,null,null,null,null,94,"M17"]
[null,null,null,82,"X18",null,null,95,"M18",95,"M18",95,"M18",95,"M18",null,null,null,null,71,"Y18",83,"O27",66,"K10",null,null,null,null,null,null,85,85,85,85,null,null,null,null,null,null,95,"M18"]
[null,null,null,83,"X19",null,null,96,"M19",96,"M19",96,"M19",96,"M19",null,null,null,null,72,"AH18",84,"X27",67,"K12",null,null,null,null,null,null,86,86,86,86,null,null,null,null,null,null,96,"M19"]
[null,null,null,84,"X20",null,null,97,"NULL",97,"NULL",97,"NULL",97,"NULL",null,null,null,null,73,"AQ18",85,"AA27",68,"Z10",null,null,null,null,null,null,87,87,87,87,null,null,null,null,null,null,97,"NULL"]
[null,null,null,85,"X21",null,null,98,"M20",98,"M20",98,"M20",98,"M20",null,null,null,null,74,"NULL",86,"AJ27",69,"Z12",null,null,null,null,null,null,88,88,88,88,null,null,null,null,null,null,98,"M20"]
[null,null,null,86,"X22",null,null,99,"M21",99,"M21",99,"M21",99,"M21",null,null,null,null,75,"特殊",87,"AN27",70,"AQ10",null,null,null,null,null,null,89,89,89,89,null,null,null,null,null,null,99,"M21"]
[null,null,null,87,"X23",null,null,100,"M22",100,"M22",100,"M22",100,"M22",null,null,null,null,null,null,88,"AW27",71,"AU11",null,null,null,null,null,null,90,90,90,90,null,null,null,null,null,null,100,"M22"]
[null,null,null,88,"X24",null,null,101,"M23",101,"M23",101,"M23",101,"M23",null,null,null,null,null,null,89,"A28",null,null,null,null,null,null,null,null,91,91,91,91,null,null,null,null,null,null,101,"M23"]
[null,null,null,89,"X25",null,null,102,"M24",102,"M24",102,"M24",102,"M24",null,null,null,null,null,null,90,"K28",null,null,null,null,null,null,null,null,92,92,92,92,null,null,null,null,null,null,102,"M24"]
[null,null,null,90,"X26",null,null,103,"M27",103,"M27",103,"M27",103,"M27",null,null,null,null,null,null,91,"O28",null,null,null,null,null,null,null,null,93,93,93,93,null,null,null,null,null,null,103,"M27"]
[null,null,null,91,"X27",null,null,104,"NULL",104,"NULL",104,"NULL",104,"NULL",null,null,null,null,null,null,92,"X28",null,null,null,null,null,null,null,null,94,94,94,94,null,null,null,null,null,null,104,"NULL"]
[null,null,null,92,"X28",null,null,105,"M28",105,"M28",105,"M28",105,"M28",null,null,null,null,null,null,93,"AA28",null,null,null,null,null,null,null,null,95,95,95,95,null,null,null,null,null,null,105,"M28"]
[null,null,null,93,"X30",null,null,106,"M29",106,"M29",106,"M29",106,"M29",null,null,null,null,null,null,94,"AJ28",null,null,null,null,null,null,null,null,96,96,96,96,null,null,null,null,null,null,106,"M29"]
[null,null,null,94,"X31",null,null,107,"M30",107,"M30",107,"M30",107,"M30",null,null,null,null,null,null,95,"AN28",null,null,null,null,null,null,null,null,97,97,97,97,null,null,null,null,null,null,107,"M30"]
[null,null,null,95,"X32",null,null,108,"M31",108,"M31",108,"M31",108,"M31",null,null,null,null,null,null,96,"AW28",null,null,null,null,null,null,null,null,98,98,98,98,null,null,null,null,null,null,108,"M31"]
[null,null,null,96,"AG12",null,null,109,"M32",109,"M32",109,"M32",109,"M32",null,null,null,null,null,null,97,"B32",null,null,null,null,null,null,null,null,99,99,99,99,null,null,null,null,null,null,109,"M32"]
[null,null,null,97,"AG13",null,null,110,"NULL",110,"NULL",110,"NULL",110,"NULL",null,null,null,null,null,null,null,null,null,null,null,null,null,null,null,null,100,100,100,100,null,null,null,null,null,null,110,"NULL"]
[null,null,null,98,"AG14",null,null,111,"M33",111,"M33",111,"M33",111,"M33",null,null,null,null,null,null,null,null,null,null,null,null,null,null,null,null,101,101,101,101,null,null,null,null,null,null,111,"M33"]
[null,null,null,99,"AG15",null,null,112,"M34",112,"M34",112,"M34",112,"M34",null,null,null,null,null,null,null,null,null,null,null,null,null,null,null,null,102,102,102,102,null,null,null,null,null,null,112,"M34"]
[null,null,null,100,"AG16",null,null,113,"M35",113,"M35",113,"M35",113,"M35",null,null,null,null,null,null,null,null,null,null,null,null,null,null,null,null,103,103,103,103,null,null,null,null,null,null,113,"M35"]
[null,null,null,101,"AG17",null,null,114,"M36",114,"M36",114,"M36",114,"M36",null,null,null,null,null,null,null,null,null,null,null,null,null,null,null,null,104,104,104,104,null,null,null,null,null,null,114,"M36"]
[null,null,null,102,"AG18",null,null,115,"M38",115,"M38",115,"M38",115,"M38",null,null,null,null,null,null,null,null,null,null,null,null,null,null,null,null,105,105,105,105,null,null,null,null,null,null,115,"M38"]
[null,null,null,103,"AG19",null,null,116,"NULL",116,"NULL",116,"NULL",116,"NULL",null,null,null,null,null,null,null,null,null,null,null,null,null,null,null,null,106,106,106,106,null,null,null,null,null,null,116,"NULL"]
[null,null,null,104,"AG20",null,null,117,"M39",117,"M39",117,"M39",117,"M39",null,null,null,null,null,null,null,null,null,null,null,null,null,null,null,null,107,107,107,107,null,null,null,null,null,null,117,"M39"]
[null,null,null,105,"AG21",null,null,118,"M40",118,"M40",118,"M40",118,"M40",null,null,null,null,null,null,null,null,null,null,null,null,null,null,null,null,108,108,108,108,null,null,null,null,null,null,118,"M40"]
[null,null,null,106,"AG22",null,null,119,"M41",119,"M41",119,"M41",119,"M41",null,null,null,null,null,null,null,null,null,null,null,null,null,null,null,null,109,109,109,109,null,null,null,null,null,null,119,"M41"]
[null,null,null,107,"AG23",null,null,120,"NULL",120,"NULL",120,"NULL",120,"NULL",null,null,null,null,null,null,null,null,null,null,null,null,null,null,null,null,110,110,110,110,null,null,null,null,null,null,120,"NULL"]
[null,null,null,108,"AG24",null,null,121,"M42",121,"M42",121,"M42",121,"M42",null,null,null,null,null,null,null,null,null,null,null,null,null,null,null,null,111,111,111,111,null,null,null,null,null,null,121,"M42"]
[null,null,null,109,"AG25",null,null,122,"M43",122,"M43",122,"M43",122,"M43",null,null,null,null,null,null,null,null,null,null,null,null,null,null,null,null,112,112,112,112,null,null,null,null,null,null,122,"M43"]
[null,null,null,110,"AG26",null,null,123,"M44",123,"M44",123,"M44",123,"M44",null,null,null,null,null,null,null,null,null,null,null,null,null,null,null,null,113,113,113,113,null,null,null,null,null,null,123,"M44"]
[null,null,null,111,"AG27",null,null,124,"AE9",124,"AE9",124,"AE9",124,"AE9",null,null,null,null,null,null,null,null,null,null,null,null,null,null,null,null,114,114,114,114,null,null,null,null,null,null,124,"AE9"]
[null,null,null,112,"AG28",null,null,125,"AE10",125,"AE10",125,"AE10",125,"AE10",null,null,null,null,null,null,null,null,null,null,null,null,null,null,null,null,115,115,115,115,null,null,null,null,null,null,125,"AE10"]
[null,null,null,113,"AG30",null,null,126,"AE11",126,"AE11",126,"AE11",126,"AE11",null,null,null,null,null,null,null,null,null,null,null,null,null,null,null,null,116,116,116,116,null,null,null,null,null,null,126,"AE11"]
[null,null,null,114,"AG31",null,null,127,"AE12",127,"AE12",127,"AE12",127,"AE12",null,null,null,null,null,null,null,null,null,null,null,null,null,null,null,null,117,117,117,117,null,null,null,null,null,null,127,"AE12"]
[null,null,null,115,"AG32",null,null,128,"AE13",128,"AE13",128,"AE13",128,"AE13",null,null,null,null,null,null,null,null,null,null,null,null,null,null,null,null,118,118,118,118,null,null,null,null,null,null,128,"AE13"]
[null,null,null,116,"AP12",null,null,129,"AE14",129,"AE14",129,"AE14",129,"AE14",null,null,null,null,null,null,null,null,null,null,null,null,null,null,null,null,119,119,119,119,null,null,null,null,null,null,129,"AE14"]
[null,null,null,117,"AP13",null,null,130,"AE15",130,"AE15",130,"AE15",130,"AE15",null,null,null,null,null,null,null,null,null,null,null,null,null,null,null,null,120,120,120,120,null,null,null,null,null,null,130,"AE15"]
[null,null,null,118,"AP14",null,null,131,"AE16",131,"AE16",131,"AE16",131,"AE16",null,null,null,null,null,null,null,null,null,null,null,null,null,null,null,null,121,121,121,121,null,null,null,null,null,null,131,"AE16"]
[null,null,null,119,"AP15",null,null,132,"AE17",132,"AE17",132,"AE17",132,"AE17",null,null,null,null,null,null,null,null,null,null,null,null,null,null,null,null,122,122,122,122,null,null,null,null,null,null,132,"AE17"]
[null,null,null,120,"AP16",null,null,133,"AE18",133,"AE18",133,"AE18",133,"AE18",null,null,null,null,null,null,null,null,null,null,null,null,null,null,null,null,123,123,123,123,null,null,null,null,null,null,133,"AE18"]
[null,null,null,121,"AP17",null,null,134,"AE19",134,"AE19",134,"AE19",134,"AE19",null,null,null,null,null,null,null,null,null,null,null,null,null,null,null,null,124,124,124,124,null,null,null,null,null,null,134,"AE19"]
[null,null,null,122,"AP18",null,null,135,"NULL",135,"NULL",135,"NULL",135,"NULL",null,null,null,null,null,null,null,null,null,null,null,null,null,null,null,null,125,125,125,125,null,null,null,null,null,null,135,"NULL"]
[null,null,null,123,"AP19",null,null,136,"AE20",136,"AE20",136,"AE20",136,"AE20",null,null,null,null,null,null,null,null,null,null,null,null,null,null,null,null,126,126,126,126,null,null,null,null,null,null,136,"AE20"]
[null,null,null,124,"AP20",null,null,137,"AE21",137,"AE21",137,"AE21",137,"AE21",null,null,null,null,null,null,null,null,null,null,null,null,null,null,null,null,127,127,127,127,null,null,null,null,null,null,137,"AE21"]
[null,null,null,125,"AP21",null,null,138,"AE22",138,"AE22",138,"AE22",138,"AE22",null,null,null,null,null,null,null,null,null,null,null,null,null,null,null,null,128,128,128,128,null,null,null,null,null,null,138,"AE22"]
[null,null,null,126,"AP22",null,null,139,"AE23",139,"AE23",139,"AE23",139,"AE23",null,null,null,null,null,null,null,null,null,null,null,null,null,null,null,null,129,129,129,129,null,null,null,null,null,null,139,"AE23"]
[null,null,null,127,"AP23",null,null,140,"AE24",140,"AE24",140,"AE24",140,"AE24",null,null,null,null,null,null,null,null,null,null,null,null,null,null,null,null,130,130,130,130,null,null,null,null,null,null,140,"AE24"]
[null,null,null,128,"AP24",null,null,141,"AE27",141,"AE27",141,"AE27",141,"AE27",null,null,null,null,null,null,null,null,null,null,null,null,null,null,null,null,131,131,131,131,null,null,null,null,null,null,141,"AE27"]
[null,null,null,129,"AP25",null,null,142,"NULL",142,"NULL",142,"NULL",142,"NULL",null,null,null,null,null,null,null,null,null,null,null,null,null,null,null,null,132,132,132,132,null,null,null,null,null,null,142,"NULL"]
[null,null,null,130,"AP26",null,null,143,"AE28",143,"AE28",143,"AE28",143,"AE28",null,null,null,null,null,null,null,null,null,null,null,null,null,null,null,null,133,133,133,133,null,null,null,null,null,null,143,"AE28"]
[null,null,null,131,"AP27",null,null,144,"AE29",144,"AE29",144,"AE29",144,"AE29",null,null,null,null,null,null,null,null,null,null,null,null,null,null,null,null,134,134,134,134,null,null,null,null,null,null,144,"AE29"]
[null,null,null,132,"AP28",null,null,145,"AE30",145,"AE30",145,"AE30",145,"AE30",null,null,null,null,null,null,null,null,null,null,null,null,null,null,null,null,135,135,135,135,null,null,null,null,null,null,145,"AE30"]
[null,null,null,133,"AP30",null,null,146,"AE31",146,"AE31",146,"AE31",146,"AE31",null,null,null,null,null,null,null,null,null,null,null,null,null,null,null,null,136,136,136,136,null,null,null,null,null,null,146,"AE31"]
[null,null,null,134,"AP31",null,null,147,"AE32",147,"AE32",147,"AE32",147,"AE32",null,null,null,null,null,null,null,null,null,null,null,null,null,null,null,null,137,137,137,137,null,null,null,null,null,null,147,"AE32"]
[null,null,null,135,"AP32",null,null,148,"NULL",148,"NULL",148,"NULL",148,"NULL",null,null,null,null,null,null,null,null,null,null,null,null,null,null,null,null,138,138,138,138,null,null,null,null,null,null,148,"NULL"]
[null,null,null,136,"AY12",null,null,149,"AE33",149,"AE33",149,"AE33",149,"AE33",null,null,null,null,null,null,null,null,null,null,null,null,null,null,null,null,139,139,139,139,null,null,null,null,null,null,149,"AE33"]
[null,null,null,137,"AY13",null,null,150,"AE34",150,"AE34",150,"AE34",150,"AE34",null,null,null,null,null,null,null,null,null,null,null,null,null,null,null,null,140,140,140,140,null,null,null,null,null,null,150,"AE34"]
[null,null,null,138,"AY14",null,null,151,"AE35",151,"AE35",151,"AE35",151,"AE35",null,null,null,null,null,null,null,null,null,null,null,null,null,null,null,null,141,141,141,141,null,null,null,null,null,null,151,"AE35"]
[null,null,null,139,"AY15",null,null,152,"AE36",152,"AE36",152,"AE36",152,"AE36",null,null,null,null,null,null,null,null,null,null,null,null,null,null,null,null,142,142,142,142,null,null,null,null,null,null,152,"AE36"]
[null,null,null,140,"AY16",null,null,153,"AE38",153,"AE38",153,"AE38",153,"AE38",null,null,null,null,null,null,null,null,null,null,null,null,null,null,null,null,143,143,143,143,null,null,null,null,null,null,153,"AE38"]
[null,null,null,141,"AY17",null,null,154,"NULL",154,"NULL",154,"NULL",154,"NULL",null,null,null,null,null,null,null,null,null,null,null,null,null,null,null,null,144,144,144,144,null,null,null,null,null,null,154,"NULL"]
[null,null,null,142,"AY18",null,null,155,"AE39",155,"AE39",155,"AE39",155,"AE39",null,null,null,null,null,null,null,null,null,null,null,null,null,null,null,null,145,145,145,145,null,null,null,null,null,null,155,"AE39"]
[null,null,null,143,"AY19",null,null,156,"AE40",156,"AE40",156,"AE40",156,"AE40",null,null,null,null,null,null,null,null,null,null,null,null,null,null,null,null,146,146,146,146,null,null,null,null,null,null,156,"AE40"]
[null,null,null,144,"AY20",null,null,157,"AE41",157,"AE41",157,"AE41",157,"AE41",null,null,null,null,null,null,null,null,null,null,null,null,null,null,null,null,147,147,147,147,null,null,null,null,null,null,157,"AE41"]
[null,null,null,145,"AY21",null,null,158,"NULL",158,"NULL",158,"NULL",158,"NULL",null,null,null,null,null,null,null,null,null,null,null,null,null,null,null,null,148,148,148,148,null,null,null,null,null,null,158,"NULL"]
[null,null,null,146,"AY22",null,null,159,"AE42",159,"AE42",159,"AE42",159,"AE42",null,null,null,null,null,null,null,null,null,null,null,null,null,null,null,null,149,149,149,149,null,null,null,null,null,null,159,"AE42"]
[null,null,null,147,"AY23",null,null,160,"AE43",160,"AE43",160,"AE43",160,"AE43",null,null,null,null,null,null,null,null,null,null,null,null,null,null,null,null,150,150,150,150,null,null,null,null,null,null,160,"AE43"]
[null,null,null,148,"AY24",null,null,161,"AE44",161,"AE44",161,"AE44",161,"AE44",null,null,null,null,null,null,null,null,null,null,null,null,null,null,null,null,151,151,151,151,null,null,null,null,null,null,161,"AE44"]
[null,null,null,149,"AY25",null,null,162,"AN9",162,"AN9",162,"AN9",162,"AN9",null,null,null,null,null,null,null,null,null,null,null,null,null,null,null,null,152,152,152,152,null,null,null,null,null,null,162,"AN9"]
[null,null,null,150,"AY26",null,null,163,"AN10",163,"AN10",163,"AN10",163,"AN10",null,null,null,null,null,null,null,null,null,null,null,null,null,null,null,null,153,153,153,153,null,null,null,null,null,null,163,"AN10"]
[null,null,null,151,"AY27",null,null,164,"AN11",164,"AN11",164,"AN11",164,"AN11",null,null,null,null,null,null,null,null,null,null,null,null,null,null,null,null,154,154,154,154,null,null,null,null,null,null,164,"AN11"]
[null,null,null,152,"AY28",null,null,165,"AN12",165,"AN12",165,"AN12",165,"AN12",null,null,null,null,null,null,null,null,null,null,null,null,null,null,null,null,155,155,155,155,null,null,null,null,null,null,165,"AN12"]
[null,null,null,153,"AY30",null,null,166,"AN13",166,"AN13",166,"AN13",166,"AN13",null,null,null,null,null,null,null,null,null,null,null,null,null,null,null,null,156,156,156,156,null,null,null,null,null,null,166,"AN13"]
[null,null,null,154,"AY31",null,null,167,"AN14",167,"AN14",167,"AN14",167,"AN14",null,null,null,null,null,null,null,null,null,null,null,null,null,null,null,null,157,157,157,157,null,null,null,null,null,null,167,"AN14"]
[null,null,null,155,"AY32",null,null,168,"AN15",168,"AN15",168,"AN15",168,"AN15",null,null,null,null,null,null,null,null,null,null,null,null,null,null,null,null,158,158,158,158,null,null,null,null,null,null,168,"AN15"]
[null,null,null,156,"BH12",null,null,169,"AN16",169,"AN16",169,"AN16",169,"AN16",null,null,null,null,null,null,null,null,null,null,null,null,null,null,null,null,159,159,159,159,null,null,null,null,null,null,169,"AN16"]
[null,null,null,157,"BH13",null,null,170,"AN17",170,"AN17",170,"AN17",170,"AN17",null,null,null,null,null,null,null,null,null,null,null,null,null,null,null,null,160,160,160,160,null,null,null,null,null,null,170,"AN17"]
[null,null,null,158,"BH14",null,null,171,"AN18",171,"AN18",171,"AN18",171,"AN18",null,null,null,null,null,null,null,null,null,null,null,null,null,null,null,null,161,161,161,161,null,null,null,null,null,null,171,"AN18"]
[null,null,null,159,"BH15",null,null,172,"AN19",172,"AN19",172,"AN19",172,"AN19",null,null,null,null,null,null,null,null,null,null,null,null,null,null,null,null,162,162,162,162,null,null,null,null,null,null,172,"AN19"]
[null,null,null,160,"BH16",null,null,173,"NULL",173,"NULL",173,"NULL",173,"NULL",null,null,null,null,null,null,null,null,null,null,null,null,null,null,null,null,163,163,163,163,null,null,null,null,null,null,173,"NULL"]
[null,null,null,161,"BH17",null,null,174,"AN20",174,"AN20",174,"AN20",174,"AN20",null,null,null,null,null,null,null,null,null,null,null,null,null,null,null,null,164,164,164,164,null,null,null,null,null,null,174,"AN20"]
[null,null,null,162,"BH18",null,null,175,"AN21",175,"AN21",175,"AN21",175,"AN21",null,null,null,null,null,null,null,null,null,null,null,null,null,null,null,null,165,165,165,165,null,null,null,null,null,null,175,"AN21"]
[null,null,null,163,"BH19",null,null,176,"AN22",176,"AN22",176,"AN22",176,"AN22",null,null,null,null,null,null,null,null,null,null,null,null,null,null,null,null,166,166,166,166,null,null,null,null,null,null,176,"AN22"]
[null,null,null,164,"BH20",null,null,177,"AN23",177,"AN23",177,"AN23",177,"AN23",null,null,null,null,null,null,null,null,null,null,null,null,null,null,null,null,167,167,167,167,null,null,null,null,null,null,177,"AN23"]
[null,null,null,165,"BH21",null,null,178,"AN24",178,"AN24",178,"AN24",178,"AN24",null,null,null,null,null,null,null,null,null,null,null,null,null,null,null,null,168,168,168,168,null,null,null,null,null,null,178,"AN24"]
[null,null,null,166,"BH22",null,null,179,"AN27",179,"AN27",179,"AN27",179,"AN27",null,null,null,null,null,null,null,null,null,null,null,null,null,null,null,null,169,169,169,169,null,null,null,null,null,null,179,"AN27"]
[null,null,null,167,"BH23",null,null,180,"NULL",180,"NULL",180,"NULL",180,"NULL",null,null,null,null,null,null,null,null,null,null,null,null,null,null,null,null,170,170,170,170,null,null,null,null,null,null,180,"NULL"]
[null,null,null,168,"BH24",null,null,181,"AN28",181,"AN28",181,"AN28",181,"AN28",null,null,null,null,null,null,null,null,null,null,null,null,null,null,null,null,171,171,171,171,null,null,null,null,null,null,181,"AN28"]
[null,null,null,169,"BH25",null,null,182,"AN29",182,"AN29",182,"AN29",182,"AN29",null,null,null,null,null,null,null,null,null,null,null,null,null,null,null,null,172,172,172,172,null,null,null,null,null,null,182,"AN29"]
[null,null,null,170,"BH26",null,null,183,"AN30",183,"AN30",183,"AN30",183,"AN30",null,null,null,null,null,null,null,null,null,null,null,null,null,null,null,null,173,173,173,173,null,null,null,null,null,null,183,"AN30"]
[null,null,null,171,"BH27",null,null,184,"AN31",184,"AN31",184,"AN31",184,"AN31",null,null,null,null,null,null,null,null,null,null,null,null,null,null,null,null,174,174,174,174,null,null,null,null,null,null,184,"AN31"]
[null,null,null,172,"BH28",null,null,185,"AN32",185,"AN32",185,"AN32",185,"AN32",null,null,null,null,null,null,null,null,null,null,null,null,null,null,null,null,175,175,175,175,null,null,null,null,null,null,185,"AN32"]
[null,null,null,173,"BH30",null,null,186,"NULL",186,"NULL",186,"NULL",186,"NULL",null,null,null,null,null,null,null,null,null,null,null,null,null,null,null,null,176,176,176,176,null,null,null,null,null,null,186,"NULL"]
[null,null,null,174,"BH31",null,null,187,"AN33",187,"AN33",187,"AN33",187,"AN33",null,null,null,null,null,null,null,null,null,null,null,null,null,null,null,null,177,177,177,177,null,null,null,null,null,null,187,"AN33"]
[null,null,null,175,"BH32",null,null,188,"AN34",188,"AN34",188,"AN34",188,"AN34",null,null,null,null,null,null,null,null,null,null,null,null,null,null,null,null,178,178,178,178,null,null,null,null,null,null,188,"AN34"]
[null,null,null,176,"BQ12",null,null,189,"AN35",189,"AN35",189,"AN35",189,"AN35",null,null,null,null,null,null,null,null,null,null,null,null,null,null,null,null,179,179,179,179,null,null,null,null,null,null,189,"AN35"]
[null,null,null,177,"BQ13",null,null,190,"AN36",190,"AN36",190,"AN36",190,"AN36",null,null,null,null,null,null,null,null,null,null,null,null,null,null,null,null,180,180,180,180,null,null,null,null,null,null,190,"AN36"]
[null,null,null,178,"BQ14",null,null,191,"AN38",191,"AN38",191,"AN38",191,"AN38",null,null,null,null,null,null,null,null,null,null,null,null,null,null,null,null,181,181,181,181,null,null,null,null,null,null,191,"AN38"]
[null,null,null,179,"BQ15",null,null,192,"NULL",192,"NULL",192,"NULL",192,"NULL",null,null,null,null,null,null,null,null,null,null,null,null,null,null,null,null,182,182,182,182,null,null,null,null,null,null,192,"NULL"]
[null,null,null,180,"BQ16",null,null,193,"AN39",193,"AN39",193,"AN39",193,"AN39",null,null,null,null,null,null,null,null,null,null,null,null,null,null,null,null,183,183,183,183,null,null,null,null,null,null,193,"AN39"]
[null,null,null,181,"BQ17",null,null,194,"AN40",194,"AN40",194,"AN40",194,"AN40",null,null,null,null,null,null,null,null,null,null,null,null,null,null,null,null,184,184,null,null,null,null,null,null,null,null,194,"AN40"]
[null,null,null,182,"BQ18",null,null,195,"AN41",195,"AN41",195,"AN41",195,"AN41",null,null,null,null,null,null,null,null,null,null,null,null,null,null,null,null,185,185,null,null,null,null,null,null,null,null,195,"AN41"]
[null,null,null,183,"BQ19",null,null,196,"NULL",196,"NULL",196,"NULL",196,"NULL",null,null,null,null,null,null,null,null,null,null,null,null,null,null,null,null,186,186,null,null,null,null,null,null,null,null,196,"NULL"]
[null,null,null,184,"BQ20",null,null,197,"AN42",197,"AN42",197,"AN42",197,"AN42",null,null,null,null,null,null,null,null,null,null,null,null,null,null,null,null,187,187,null,null,null,null,null,null,null,null,197,"AN42"]
[null,null,null,185,"BQ21",null,null,198,"AN43",198,"AN43",198,"AN43",198,"AN43",null,null,null,null,null,null,null,null,null,null,null,null,null,null,null,null,188,188,null,null,null,null,null,null,null,null,198,"AN43"]
[null,null,null,186,"BQ22",null,null,199,"AN44",199,"AN44",199,"AN44",199,"AN44",null,null,null,null,null,null,null,null,null,null,null,null,null,null,null,null,189,189,null,null,null,null,null,null,null,null,199,"AN44"]
[null,null,null,187,"BQ23",null,null,200,"D25",200,"D25",200,"D25",200,"D25",null,null,null,null,null,null,null,null,null,null,null,null,null,null,null,null,190,190,null,null,null,null,null,null,null,null,200,"D25"]
[null,null,null,188,"BQ24",null,null,201,"D26",201,"D26",201,"D26",201,"D26",null,null,null,null,null,null,null,null,null,null,null,null,null,null,null,null,191,191,null,null,null,null,null,null,null,null,201,"D26"]
[null,null,null,189,"BQ25",null,null,202,"D37",202,"D37",202,"D37",202,"D37",null,null,null,null,null,null,null,null,null,null,null,null,null,null,null,null,192,192,null,null,null,null,null,null,null,null,202,"D37"]
[null,null,null,190,"BQ26",null,null,203,"M25",203,"M25",203,"M25",203,"M25",null,null,null,null,null,null,null,null,null,null,null,null,null,null,null,null,193,193,null,null,null,null,null,null,null,null,203,"M25"]
[null,null,null,191,"BQ27",null,null,204,"M26",204,"M26",204,"M26",204,"M26",null,null,null,null,null,null,null,null,null,null,null,null,null,null,null,null,194,194,null,null,null,null,null,null,null,null,204,"M26"]
[null,null,null,192,"BQ28",null,null,205,"M37",205,"M37",205,"M37",205,"M37",null,null,null,null,null,null,null,null,null,null,null,null,null,null,null,null,195,195,null,null,null,null,null,null,null,null,205,"M37"]
[null,null,null,193,"BQ30",null,null,206,"AE25",206,"AE25",206,"AE25",206,"AE25",null,null,null,null,null,null,null,null,null,null,null,null,null,null,null,null,196,196,null,null,null,null,null,null,null,null,206,"AE25"]
[null,null,null,194,"BQ31",null,null,207,"AE26",207,"AE26",207,"AE26",207,"AE26",null,null,null,null,null,null,null,null,null,null,null,null,null,null,null,null,197,197,null,null,null,null,null,null,null,null,207,"AE26"]
[null,null,null,195,"BQ32",null,null,208,"AE37",208,"AE37",208,"AE37",208,"AE37",null,null,null,null,null,null,null,null,null,null,null,null,null,null,null,null,198,198,null,null,null,null,null,null,null,null,208,"AE37"]
[null,null,null,196,"E29",null,null,209,"AN25",209,"AN25",209,"AN25",209,"AN25",null,null,null,null,null,null,null,null,null,null,null,null,null,null,null,null,199,199,null,null,null,null,null,null,null,null,209,"AN25"]
[null,null,null,197,"O29",null,null,210,"AN26",210,"AN26",210,"AN26",210,"AN26",null,null,null,null,null,null,null,null,null,null,null,null,null,null,null,null,200,200,null,null,null,null,null,null,null,null,210,"AN26"]
[null,null,null,198,"X29",null,null,211,"AN37",211,"AN37",211,"AN37",211,"AN37",null,null,null,null,null,null,null,null,null,null,null,null,null,null,null,null,201,201,null,null,null,null,null,null,null,null,211,"AN37"]
[null,null,null,199,"AG29",null,null,null,null,null,null,null,null,null,null,null,null,null,null,null,null,null,null,null,null,null,null,null,null,null,null,202,202]
[null,null,null,200,"AP29",null,null,null,null,null,null,null,null,null,null,null,null,null,null,null,null,null,null,null,null,null,null,null,null,null,null,203,203]
[null,null,null,201,"AY29",null,null,null,null,null,null,null,null,null,null,null,null,null,null,null,null,null,null,null,null,null,null,null,null,null,null,204,204]
[null,null,null,202,"BH29",null,null,null,null,null,null,null,null,null,null,null,null,null,null,null,null,null,null,null,null,null,null,null,null,null,null,205,205]
[null,null,null,203,"BQ29",null,null,null,null,null,null,null,null,null,null,null,null,null,null,null,null,null,null,null,null,null,null,null,null,null,null,206,206]
[null,null,null,null,null,null,null,null,null,null,null,null,null,null,null,null,null,null,null,null,null,null,null,null,null,null,null,null,null,null,null,207,207]
[null,null,null,null,null,null,null,null,null,null,null,null,null,null,null,null,null,null,null,null,null,null,null,null,null,null,null,null,null,null,null,208,208]
[null,null,null,null,null,null,null,null,null,null,null,null,null,null,null,null,null,null,null,null,null,null,null,null,null,null,null,null,null,null,null,209,209]
[null,null,null,null,null,null,null,null,null,null,null,null,null,null,null,null,null,null,null,null,null,null,null,null,null,null,null,null,null,null,null,210,210]
[null,null,null,null,null,null,null,null,null,null,null,null,null,null,null,null,null,null,null,null,null,null,null,null,null,null,null,null,null,null,null,211,211]
[null,null,null,null,null,null,null,null,null,null,null,null,null,null,null,null,null,null,null,null,null,null,null,null,null,null,null,null,null,null,null,212,212]
[null,null,null,null,null,null,null,null,null,null,null,null,null,null,null,null,null,null,null,null,null,null,null,null,null,null,null,null,null,null,null,213,213]
[null,null,null,null,null,null,null,null,null,null,null,null,null,null,null,null,null,null,null,null,null,null,null,null,null,null,null,null,null,null,null,214,214]
[null,null,null,null,null,null,null,null,null,null,null,null,null,null,null,null,null,null,null,null,null,null,null,null,null,null,null,null,null,null,null,215,215]
[null,null,null,null,null,null,null,null,null,null,null,null,null,null,null,null,null,null,null,null,null,null,null,null,null,null,null,null,null,null,null,216,216]
[null,null,null,null,null,null,null,null,null,null,null,null,null,null,null,null,null,null,null,null,null,null,null,null,null,null,null,null,null,null,null,217,217]
[null,null,null,null,null,null,null,null,null,null,null,null,null,null,null,null,null,null,null,null,null,null,null,null,null,null,null,null,null,null,null,218,218]
[null,null,null,null,null,null,null,null,null,null,null,null,null,null,null,null,null,null,null,null,null,null,null,null,null,null,null,null,null,null,null,219,219]
[null,null,null,null,null,null,null,null,null,null,null,null,null,null,null,null,null,null,null,null,null,null,null,null,null,null,null,null,null,null,null,220,220]
[null,null,null,null,null,null,null,null,null,null,null,null,null,null,null,null,null,null,null,null,null,null,null,null,null,null,null,null,null,null,null,221,221]